{"text_format":"1","workbook":"xlsx","n_sheets":8,"sheets":["Sheet1","prices","nelson siegel ASK","Plot Discount","cubic spline","8152011","pricing errors","sequential ch 1"],"not_rendered":{"charts":7,"images":0,"macros":1,"external_links":0,"defined_names":63,"comments":0,"pivot_tables":0},"unopened":[],"bounds":{"document_bytes":16777216,"sheet_cells":100000,"rows_first":2000,"rows_last":500,"rows_between":2000,"halvings":0,"cell_chars":16384,"cell_head_chars":4096},"cells_cut":0,"cells_raw":0,"read":"whole","date_system":"1900"}

{"sheet":"Sheet1","index":0,"n_rows":122,"n_cols":14,"rows_kept":122,"cut":false,"hidden":false,"merged":[]}
["CUSIP","MATURITY","CPN","NXT_CPN_DT","ID_BB","ASK","DUR_BID","DUR_MID","YLD_YTM_MID","YLD_YTM_BID","YLD_YTM_ASK","Px_CLEAN_ASK","PX_DIRTY_ASK","REPO_REPORATE"]
[]
[]
["912828HP8",{"$f":"_xll.BDP($A4 & \"govt cusip\",B$1)","v":{"$error":"#NAME?"}},{"$f":"_xll.BDP($A4 & \"govt cusip\",C$1)","v":{"$error":"#NAME?"}},{"$f":"_xll.BDP($A4 & \"govt cusip\",D$1)","v":{"$error":"#NAME?"}},{"$f":"_xll.BDP($A4 & \"govt cusip\",\"PX_BID\")","v":{"$error":"#NAME?"}},{"$f":"_xll.BDP($A4 & \"govt cusip\",\"PX_ASK\")","v":{"$error":"#NAME?"}},{"$f":"_xll.BDP($A4 & \"govt cusip\",G$1)","v":{"$error":"#NAME?"}},{"$f":"_xll.BDP($A4 & \"govt cusip\",H$1)","v":{"$error":"#NAME?"}},{"$f":"_xll.BDP($A4 & \"govt cusip\",I$1)","v":{"$error":"#NAME?"}},{"$f":"_xll.BDP($A4 & \"govt cusip\",J$1)","v":{"$error":"#NAME?"}},{"$f":"_xll.BDP($A4 & \"govt cusip\",K$1)","v":{"$error":"#NAME?"}},{"$f":"_xll.BDP($A4 & \"govt cusip\",L$1)","v":{"$error":"#NAME?"}},{"$f":"_xll.BDP($A4 & \"govt cusip\",M$1)","v":{"$error":"#NAME?"}},{"$f":"_xll.BDP($A4 & \"govt cusip\",N$1)","v":{"$error":"#NAME?"}}]
["912828DL1",{"$f":"_xll.BDP($A5 & \"govt cusip\",B$1)","v":{"$error":"#NAME?"}},{"$f":"_xll.BDP($A5 & \"govt cusip\",C$1)","v":{"$error":"#NAME?"}},{"$f":"_xll.BDP($A5 & \"govt cusip\",D$1)","v":{"$error":"#NAME?"}},{"$f":"_xll.BDP($A5 & \"govt cusip\",\"PX_BID\")","v":{"$error":"#NAME?"}},{"$f":"_xll.BDP($A5 & \"govt cusip\",\"PX_ASK\")","v":{"$error":"#NAME?"}},{"$f":"_xll.BDP($A5 & \"govt cusip\",G$1)","v":{"$error":"#NAME?"}},{"$f":"_xll.BDP($A5 & \"govt cusip\",H$1)","v":{"$error":"#NAME?"}},{"$f":"_xll.BDP($A5 & \"govt cusip\",I$1)","v":{"$error":"#NAME?"}},{"$f":"_xll.BDP($A5 & \"govt cusip\",J$1)","v":{"$error":"#NAME?"}},{"$f":"_xll.BDP($A5 & \"govt cusip\",K$1)","v":{"$error":"#NAME?"}},{"$f":"_xll.BDP($A5 & \"govt cusip\",L$1)","v":{"$error":"#NAME?"}},{"$f":"_xll.BDP($A5 & \"govt cusip\",M$1)","v":{"$error":"#NAME?"}},{"$f":"_xll.BDP($A5 & \"govt cusip\",N$1)","v":{"$error":"#NAME?"}}]
["912828GG9",{"$f":"_xll.BDP($A6 & \"govt cusip\",B$1)","v":{"$error":"#NAME?"}},{"$f":"_xll.BDP($A6 & \"govt cusip\",C$1)","v":{"$error":"#NAME?"}},{"$f":"_xll.BDP($A6 & \"govt cusip\",D$1)","v":{"$error":"#NAME?"}},{"$f":"_xll.BDP($A6 & \"govt cusip\",\"PX_BID\")","v":{"$error":"#NAME?"}},{"$f":"_xll.BDP($A6 & \"govt cusip\",\"PX_ASK\")","v":{"$error":"#NAME?"}},{"$f":"_xll.BDP($A6 & \"govt cusip\",G$1)","v":{"$error":"#NAME?"}},{"$f":"_xll.BDP($A6 & \"govt cusip\",H$1)","v":{"$error":"#NAME?"}},{"$f":"_xll.BDP($A6 & \"govt cusip\",I$1)","v":{"$error":"#NAME?"}},{"$f":"_xll.BDP($A6 & \"govt cusip\",J$1)","v":{"$error":"#NAME?"}},{"$f":"_xll.BDP($A6 & \"govt cusip\",K$1)","v":{"$error":"#NAME?"}},{"$f":"_xll.BDP($A6 & \"govt cusip\",L$1)","v":{"$error":"#NAME?"}},{"$f":"_xll.BDP($A6 & \"govt cusip\",M$1)","v":{"$error":"#NAME?"}},{"$f":"_xll.BDP($A6 & \"govt cusip\",N$1)","v":{"$error":"#NAME?"}}]
["9128275Z1",{"$f":"_xll.BDP($A7 & \"govt cusip\",B$1)","v":{"$error":"#NAME?"}},{"$f":"_xll.BDP($A7 & \"govt cusip\",C$1)","v":{"$error":"#NAME?"}},{"$f":"_xll.BDP($A7 & \"govt cusip\",D$1)","v":{"$error":"#NAME?"}},{"$f":"_xll.BDP($A7 & \"govt cusip\",\"PX_BID\")","v":{"$error":"#NAME?"}},{"$f":"_xll.BDP($A7 & \"govt cusip\",\"PX_ASK\")","v":{"$error":"#NAME?"}},{"$f":"_xll.BDP($A7 & \"govt cusip\",G$1)","v":{"$error":"#NAME?"}},{"$f":"_xll.BDP($A7 & \"govt cusip\",H$1)","v":{"$error":"#NAME?"}},{"$f":"_xll.BDP($A7 & \"govt cusip\",I$1)","v":{"$error":"#NAME?"}},{"$f":"_xll.BDP($A7 & \"govt cusip\",J$1)","v":{"$error":"#NAME?"}},{"$f":"_xll.BDP($A7 & \"govt cusip\",K$1)","v":{"$error":"#NAME?"}},{"$f":"_xll.BDP($A7 & \"govt cusip\",L$1)","v":{"$error":"#NAME?"}},{"$f":"_xll.BDP($A7 & \"govt cusip\",M$1)","v":{"$error":"#NAME?"}},{"$f":"_xll.BDP($A7 & \"govt cusip\",N$1)","v":{"$error":"#NAME?"}}]
["912828HS2",{"$f":"_xll.BDP($A8 & \"govt cusip\",B$1)","v":{"$error":"#NAME?"}},{"$f":"_xll.BDP($A8 & \"govt cusip\",C$1)","v":{"$error":"#NAME?"}},{"$f":"_xll.BDP($A8 & \"govt cusip\",D$1)","v":{"$error":"#NAME?"}},{"$f":"_xll.BDP($A8 & \"govt cusip\",\"PX_BID\")","v":{"$error":"#NAME?"}},{"$f":"_xll.BDP($A8 & \"govt cusip\",\"PX_ASK\")","v":{"$error":"#NAME?"}},{"$f":"_xll.BDP($A8 & \"govt cusip\",G$1)","v":{"$error":"#NAME?"}},{"$f":"_xll.BDP($A8 & \"govt cusip\",H$1)","v":{"$error":"#NAME?"}},{"$f":"_xll.BDP($A8 & \"govt cusip\",I$1)","v":{"$error":"#NAME?"}},{"$f":"_xll.BDP($A8 & \"govt cusip\",J$1)","v":{"$error":"#NAME?"}},{"$f":"_xll.BDP($A8 & \"govt cusip\",K$1)","v":{"$error":"#NAME?"}},{"$f":"_xll.BDP($A8 & \"govt cusip\",L$1)","v":{"$error":"#NAME?"}},{"$f":"_xll.BDP($A8 & \"govt cusip\",M$1)","v":{"$error":"#NAME?"}},{"$f":"_xll.BDP($A8 & \"govt cusip\",N$1)","v":{"$error":"#NAME?"}}]
["912828DP2",{"$f":"_xll.BDP($A9 & \"govt cusip\",B$1)","v":{"$error":"#NAME?"}},{"$f":"_xll.BDP($A9 & \"govt cusip\",C$1)","v":{"$error":"#NAME?"}},{"$f":"_xll.BDP($A9 & \"govt cusip\",D$1)","v":{"$error":"#NAME?"}},{"$f":"_xll.BDP($A9 & \"govt cusip\",\"PX_BID\")","v":{"$error":"#NAME?"}},{"$f":"_xll.BDP($A9 & \"govt cusip\",\"PX_ASK\")","v":{"$error":"#NAME?"}},{"$f":"_xll.BDP($A9 & \"govt cusip\",G$1)","v":{"$error":"#NAME?"}},{"$f":"_xll.BDP($A9 & \"govt cusip\",H$1)","v":{"$error":"#NAME?"}},{"$f":"_xll.BDP($A9 & \"govt cusip\",I$1)","v":{"$error":"#NAME?"}},{"$f":"_xll.BDP($A9 & \"govt cusip\",J$1)","v":{"$error":"#NAME?"}},{"$f":"_xll.BDP($A9 & \"govt cusip\",K$1)","v":{"$error":"#NAME?"}},{"$f":"_xll.BDP($A9 & \"govt cusip\",L$1)","v":{"$error":"#NAME?"}},{"$f":"_xll.BDP($A9 & \"govt cusip\",M$1)","v":{"$error":"#NAME?"}},{"$f":"_xll.BDP($A9 & \"govt cusip\",N$1)","v":{"$error":"#NAME?"}}]
["912828HU7",{"$f":"_xll.BDP($A10 & \"govt cusip\",B$1)","v":{"$error":"#NAME?"}},{"$f":"_xll.BDP($A10 & \"govt cusip\",C$1)","v":{"$error":"#NAME?"}},{"$f":"_xll.BDP($A10 & \"govt cusip\",D$1)","v":{"$error":"#NAME?"}},{"$f":"_xll.BDP($A10 & \"govt cusip\",\"PX_BID\")","v":{"$error":"#NAME?"}},{"$f":"_xll.BDP($A10 & \"govt cusip\",\"PX_ASK\")","v":{"$error":"#NAME?"}},{"$f":"_xll.BDP($A10 & \"govt cusip\",G$1)","v":{"$error":"#NAME?"}},{"$f":"_xll.BDP($A10 & \"govt cusip\",H$1)","v":{"$error":"#NAME?"}},{"$f":"_xll.BDP($A10 & \"govt cusip\",I$1)","v":{"$error":"#NAME?"}},{"$f":"_xll.BDP($A10 & \"govt cusip\",J$1)","v":{"$error":"#NAME?"}},{"$f":"_xll.BDP($A10 & \"govt cusip\",K$1)","v":{"$error":"#NAME?"}},{"$f":"_xll.BDP($A10 & \"govt cusip\",L$1)","v":{"$error":"#NAME?"}},{"$f":"_xll.BDP($A10 & \"govt cusip\",M$1)","v":{"$error":"#NAME?"}},{"$f":"_xll.BDP($A10 & \"govt cusip\",N$1)","v":{"$error":"#NAME?"}}]
["912828DR8",{"$f":"_xll.BDP($A11 & \"govt cusip\",B$1)","v":{"$error":"#NAME?"}},{"$f":"_xll.BDP($A11 & \"govt cusip\",C$1)","v":{"$error":"#NAME?"}},{"$f":"_xll.BDP($A11 & \"govt cusip\",D$1)","v":{"$error":"#NAME?"}},{"$f":"_xll.BDP($A11 & \"govt cusip\",\"PX_BID\")","v":{"$error":"#NAME?"}},{"$f":"_xll.BDP($A11 & \"govt cusip\",\"PX_ASK\")","v":{"$error":"#NAME?"}},{"$f":"_xll.BDP($A11 & \"govt cusip\",G$1)","v":{"$error":"#NAME?"}},{"$f":"_xll.BDP($A11 & \"govt cusip\",H$1)","v":{"$error":"#NAME?"}},{"$f":"_xll.BDP($A11 & \"govt cusip\",I$1)","v":{"$error":"#NAME?"}},{"$f":"_xll.BDP($A11 & \"govt cusip\",J$1)","v":{"$error":"#NAME?"}},{"$f":"_xll.BDP($A11 & \"govt cusip\",K$1)","v":{"$error":"#NAME?"}},{"$f":"_xll.BDP($A11 & \"govt cusip\",L$1)","v":{"$error":"#NAME?"}},{"$f":"_xll.BDP($A11 & \"govt cusip\",M$1)","v":{"$error":"#NAME?"}},{"$f":"_xll.BDP($A11 & \"govt cusip\",N$1)","v":{"$error":"#NAME?"}}]
["912828HX1",{"$f":"_xll.BDP($A12 & \"govt cusip\",B$1)","v":{"$error":"#NAME?"}},{"$f":"_xll.BDP($A12 & \"govt cusip\",C$1)","v":{"$error":"#NAME?"}},{"$f":"_xll.BDP($A12 & \"govt cusip\",D$1)","v":{"$error":"#NAME?"}},{"$f":"_xll.BDP($A12 & \"govt cusip\",\"PX_BID\")","v":{"$error":"#NAME?"}},{"$f":"_xll.BDP($A12 & \"govt cusip\",\"PX_ASK\")","v":{"$error":"#NAME?"}},{"$f":"_xll.BDP($A12 & \"govt cusip\",G$1)","v":{"$error":"#NAME?"}},{"$f":"_xll.BDP($A12 & \"govt cusip\",H$1)","v":{"$error":"#NAME?"}},{"$f":"_xll.BDP($A12 & \"govt cusip\",I$1)","v":{"$error":"#NAME?"}},{"$f":"_xll.BDP($A12 & \"govt cusip\",J$1)","v":{"$error":"#NAME?"}},{"$f":"_xll.BDP($A12 & \"govt cusip\",K$1)","v":{"$error":"#NAME?"}},{"$f":"_xll.BDP($A12 & \"govt cusip\",L$1)","v":{"$error":"#NAME?"}},{"$f":"_xll.BDP($A12 & \"govt cusip\",M$1)","v":{"$error":"#NAME?"}},{"$f":"_xll.BDP($A12 & \"govt cusip\",N$1)","v":{"$error":"#NAME?"}}]
["912828DU1",{"$f":"_xll.BDP($A13 & \"govt cusip\",B$1)","v":{"$error":"#NAME?"}},{"$f":"_xll.BDP($A13 & \"govt cusip\",C$1)","v":{"$error":"#NAME?"}},{"$f":"_xll.BDP($A13 & \"govt cusip\",D$1)","v":{"$error":"#NAME?"}},{"$f":"_xll.BDP($A13 & \"govt cusip\",\"PX_BID\")","v":{"$error":"#NAME?"}},{"$f":"_xll.BDP($A13 & \"govt cusip\",\"PX_ASK\")","v":{"$error":"#NAME?"}},{"$f":"_xll.BDP($A13 & \"govt cusip\",G$1)","v":{"$error":"#NAME?"}},{"$f":"_xll.BDP($A13 & \"govt cusip\",H$1)","v":{"$error":"#NAME?"}},{"$f":"_xll.BDP($A13 & \"govt cusip\",I$1)","v":{"$error":"#NAME?"}},{"$f":"_xll.BDP($A13 & \"govt cusip\",J$1)","v":{"$error":"#NAME?"}},{"$f":"_xll.BDP($A13 & \"govt cusip\",K$1)","v":{"$error":"#NAME?"}},{"$f":"_xll.BDP($A13 & \"govt cusip\",L$1)","v":{"$error":"#NAME?"}},{"$f":"_xll.BDP($A13 & \"govt cusip\",M$1)","v":{"$error":"#NAME?"}},{"$f":"_xll.BDP($A13 & \"govt cusip\",N$1)","v":{"$error":"#NAME?"}}]
["912828GR5",{"$f":"_xll.BDP($A14 & \"govt cusip\",B$1)","v":{"$error":"#NAME?"}},{"$f":"_xll.BDP($A14 & \"govt cusip\",C$1)","v":{"$error":"#NAME?"}},{"$f":"_xll.BDP($A14 & \"govt cusip\",D$1)","v":{"$error":"#NAME?"}},{"$f":"_xll.BDP($A14 & \"govt cusip\",\"PX_BID\")","v":{"$error":"#NAME?"}},{"$f":"_xll.BDP($A14 & \"govt cusip\",\"PX_ASK\")","v":{"$error":"#NAME?"}},{"$f":"_xll.BDP($A14 & \"govt cusip\",G$1)","v":{"$error":"#NAME?"}},{"$f":"_xll.BDP($A14 & \"govt cusip\",H$1)","v":{"$error":"#NAME?"}},{"$f":"_xll.BDP($A14 & \"govt cusip\",I$1)","v":{"$error":"#NAME?"}},{"$f":"_xll.BDP($A14 & \"govt cusip\",J$1)","v":{"$error":"#NAME?"}},{"$f":"_xll.BDP($A14 & \"govt cusip\",K$1)","v":{"$error":"#NAME?"}},{"$f":"_xll.BDP($A14 & \"govt cusip\",L$1)","v":{"$error":"#NAME?"}},{"$f":"_xll.BDP($A14 & \"govt cusip\",M$1)","v":{"$error":"#NAME?"}},{"$f":"_xll.BDP($A14 & \"govt cusip\",N$1)","v":{"$error":"#NAME?"}}]
["912828JA9",{"$f":"_xll.BDP($A15 & \"govt cusip\",B$1)","v":{"$error":"#NAME?"}},{"$f":"_xll.BDP($A15 & \"govt cusip\",C$1)","v":{"$error":"#NAME?"}},{"$f":"_xll.BDP($A15 & \"govt cusip\",D$1)","v":{"$error":"#NAME?"}},{"$f":"_xll.BDP($A15 & \"govt cusip\",\"PX_BID\")","v":{"$error":"#NAME?"}},{"$f":"_xll.BDP($A15 & \"govt cusip\",\"PX_ASK\")","v":{"$error":"#NAME?"}},{"$f":"_xll.BDP($A15 & \"govt cusip\",G$1)","v":{"$error":"#NAME?"}},{"$f":"_xll.BDP($A15 & \"govt cusip\",H$1)","v":{"$error":"#NAME?"}},{"$f":"_xll.BDP($A15 & \"govt cusip\",I$1)","v":{"$error":"#NAME?"}},{"$f":"_xll.BDP($A15 & \"govt cusip\",J$1)","v":{"$error":"#NAME?"}},{"$f":"_xll.BDP($A15 & \"govt cusip\",K$1)","v":{"$error":"#NAME?"}},{"$f":"_xll.BDP($A15 & \"govt cusip\",L$1)","v":{"$error":"#NAME?"}},{"$f":"_xll.BDP($A15 & \"govt cusip\",M$1)","v":{"$error":"#NAME?"}},{"$f":"_xll.BDP($A15 & \"govt cusip\",N$1)","v":{"$error":"#NAME?"}}]
["912828DX5",{"$f":"_xll.BDP($A16 & \"govt cusip\",B$1)","v":{"$error":"#NAME?"}},{"$f":"_xll.BDP($A16 & \"govt cusip\",C$1)","v":{"$error":"#NAME?"}},{"$f":"_xll.BDP($A16 & \"govt cusip\",D$1)","v":{"$error":"#NAME?"}},{"$f":"_xll.BDP($A16 & \"govt cusip\",\"PX_BID\")","v":{"$error":"#NAME?"}},{"$f":"_xll.BDP($A16 & \"govt cusip\",\"PX_ASK\")","v":{"$error":"#NAME?"}},{"$f":"_xll.BDP($A16 & \"govt cusip\",G$1)","v":{"$error":"#NAME?"}},{"$f":"_xll.BDP($A16 & \"govt cusip\",H$1)","v":{"$error":"#NAME?"}},{"$f":"_xll.BDP($A16 & \"govt cusip\",I$1)","v":{"$error":"#NAME?"}},{"$f":"_xll.BDP($A16 & \"govt cusip\",J$1)","v":{"$error":"#NAME?"}},{"$f":"_xll.BDP($A16 & \"govt cusip\",K$1)","v":{"$error":"#NAME?"}},{"$f":"_xll.BDP($A16 & \"govt cusip\",L$1)","v":{"$error":"#NAME?"}},{"$f":"_xll.BDP($A16 & \"govt cusip\",M$1)","v":{"$error":"#NAME?"}},{"$f":"_xll.BDP($A16 & \"govt cusip\",N$1)","v":{"$error":"#NAME?"}}]
["912828JC5",{"$f":"_xll.BDP($A17 & \"govt cusip\",B$1)","v":{"$error":"#NAME?"}},{"$f":"_xll.BDP($A17 & \"govt cusip\",C$1)","v":{"$error":"#NAME?"}},{"$f":"_xll.BDP($A17 & \"govt cusip\",D$1)","v":{"$error":"#NAME?"}},{"$f":"_xll.BDP($A17 & \"govt cusip\",\"PX_BID\")","v":{"$error":"#NAME?"}},{"$f":"_xll.BDP($A17 & \"govt cusip\",\"PX_ASK\")","v":{"$error":"#NAME?"}},{"$f":"_xll.BDP($A17 & \"govt cusip\",G$1)","v":{"$error":"#NAME?"}},{"$f":"_xll.BDP($A17 & \"govt cusip\",H$1)","v":{"$error":"#NAME?"}},{"$f":"_xll.BDP($A17 & \"govt cusip\",I$1)","v":{"$error":"#NAME?"}},{"$f":"_xll.BDP($A17 & \"govt cusip\",J$1)","v":{"$error":"#NAME?"}},{"$f":"_xll.BDP($A17 & \"govt cusip\",K$1)","v":{"$error":"#NAME?"}},{"$f":"_xll.BDP($A17 & \"govt cusip\",L$1)","v":{"$error":"#NAME?"}},{"$f":"_xll.BDP($A17 & \"govt cusip\",M$1)","v":{"$error":"#NAME?"}},{"$f":"_xll.BDP($A17 & \"govt cusip\",N$1)","v":{"$error":"#NAME?"}}]
["912828DZ0",{"$f":"_xll.BDP($A18 & \"govt cusip\",B$1)","v":{"$error":"#NAME?"}},{"$f":"_xll.BDP($A18 & \"govt cusip\",C$1)","v":{"$error":"#NAME?"}},{"$f":"_xll.BDP($A18 & \"govt cusip\",D$1)","v":{"$error":"#NAME?"}},{"$f":"_xll.BDP($A18 & \"govt cusip\",\"PX_BID\")","v":{"$error":"#NAME?"}},{"$f":"_xll.BDP($A18 & \"govt cusip\",\"PX_ASK\")","v":{"$error":"#NAME?"}},{"$f":"_xll.BDP($A18 & \"govt cusip\",G$1)","v":{"$error":"#NAME?"}},{"$f":"_xll.BDP($A18 & \"govt cusip\",H$1)","v":{"$error":"#NAME?"}},{"$f":"_xll.BDP($A18 & \"govt cusip\",I$1)","v":{"$error":"#NAME?"}},{"$f":"_xll.BDP($A18 & \"govt cusip\",J$1)","v":{"$error":"#NAME?"}},{"$f":"_xll.BDP($A18 & \"govt cusip\",K$1)","v":{"$error":"#NAME?"}},{"$f":"_xll.BDP($A18 & \"govt cusip\",L$1)","v":{"$error":"#NAME?"}},{"$f":"_xll.BDP($A18 & \"govt cusip\",M$1)","v":{"$error":"#NAME?"}},{"$f":"_xll.BDP($A18 & \"govt cusip\",N$1)","v":{"$error":"#NAME?"}}]
["912828ED8",{"$f":"_xll.BDP($A19 & \"govt cusip\",B$1)","v":{"$error":"#NAME?"}},{"$f":"_xll.BDP($A19 & \"govt cusip\",C$1)","v":{"$error":"#NAME?"}},{"$f":"_xll.BDP($A19 & \"govt cusip\",D$1)","v":{"$error":"#NAME?"}},{"$f":"_xll.BDP($A19 & \"govt cusip\",\"PX_BID\")","v":{"$error":"#NAME?"}},{"$f":"_xll.BDP($A19 & \"govt cusip\",\"PX_ASK\")","v":{"$error":"#NAME?"}},{"$f":"_xll.BDP($A19 & \"govt cusip\",G$1)","v":{"$error":"#NAME?"}},{"$f":"_xll.BDP($A19 & \"govt cusip\",H$1)","v":{"$error":"#NAME?"}},{"$f":"_xll.BDP($A19 & \"govt cusip\",I$1)","v":{"$error":"#NAME?"}},{"$f":"_xll.BDP($A19 & \"govt cusip\",J$1)","v":{"$error":"#NAME?"}},{"$f":"_xll.BDP($A19 & \"govt cusip\",K$1)","v":{"$error":"#NAME?"}},{"$f":"_xll.BDP($A19 & \"govt cusip\",L$1)","v":{"$error":"#NAME?"}},{"$f":"_xll.BDP($A19 & \"govt cusip\",M$1)","v":{"$error":"#NAME?"}},{"$f":"_xll.BDP($A19 & \"govt cusip\",N$1)","v":{"$error":"#NAME?"}}]
["9128276J6",{"$f":"_xll.BDP($A20 & \"govt cusip\",B$1)","v":{"$error":"#NAME?"}},{"$f":"_xll.BDP($A20 & \"govt cusip\",C$1)","v":{"$error":"#NAME?"}},{"$f":"_xll.BDP($A20 & \"govt cusip\",D$1)","v":{"$error":"#NAME?"}},{"$f":"_xll.BDP($A20 & \"govt cusip\",\"PX_BID\")","v":{"$error":"#NAME?"}},{"$f":"_xll.BDP($A20 & \"govt cusip\",\"PX_ASK\")","v":{"$error":"#NAME?"}},{"$f":"_xll.BDP($A20 & \"govt cusip\",G$1)","v":{"$error":"#NAME?"}},{"$f":"_xll.BDP($A20 & \"govt cusip\",H$1)","v":{"$error":"#NAME?"}},{"$f":"_xll.BDP($A20 & \"govt cusip\",I$1)","v":{"$error":"#NAME?"}},{"$f":"_xll.BDP($A20 & \"govt cusip\",J$1)","v":{"$error":"#NAME?"}},{"$f":"_xll.BDP($A20 & \"govt cusip\",K$1)","v":{"$error":"#NAME?"}},{"$f":"_xll.BDP($A20 & \"govt cusip\",L$1)","v":{"$error":"#NAME?"}},{"$f":"_xll.BDP($A20 & \"govt cusip\",M$1)","v":{"$error":"#NAME?"}},{"$f":"_xll.BDP($A20 & \"govt cusip\",N$1)","v":{"$error":"#NAME?"}}]
["912828EG1",{"$f":"_xll.BDP($A21 & \"govt cusip\",B$1)","v":{"$error":"#NAME?"}},{"$f":"_xll.BDP($A21 & \"govt cusip\",C$1)","v":{"$error":"#NAME?"}},{"$f":"_xll.BDP($A21 & \"govt cusip\",D$1)","v":{"$error":"#NAME?"}},{"$f":"_xll.BDP($A21 & \"govt cusip\",\"PX_BID\")","v":{"$error":"#NAME?"}},{"$f":"_xll.BDP($A21 & \"govt cusip\",\"PX_ASK\")","v":{"$error":"#NAME?"}},{"$f":"_xll.BDP($A21 & \"govt cusip\",G$1)","v":{"$error":"#NAME?"}},{"$f":"_xll.BDP($A21 & \"govt cusip\",H$1)","v":{"$error":"#NAME?"}},{"$f":"_xll.BDP($A21 & \"govt cusip\",I$1)","v":{"$error":"#NAME?"}},{"$f":"_xll.BDP($A21 & \"govt cusip\",J$1)","v":{"$error":"#NAME?"}},{"$f":"_xll.BDP($A21 & \"govt cusip\",K$1)","v":{"$error":"#NAME?"}},{"$f":"_xll.BDP($A21 & \"govt cusip\",L$1)","v":{"$error":"#NAME?"}},{"$f":"_xll.BDP($A21 & \"govt cusip\",M$1)","v":{"$error":"#NAME?"}},{"$f":"_xll.BDP($A21 & \"govt cusip\",N$1)","v":{"$error":"#NAME?"}}]
["912828EJ5",{"$f":"_xll.BDP($A22 & \"govt cusip\",B$1)","v":{"$error":"#NAME?"}},{"$f":"_xll.BDP($A22 & \"govt cusip\",C$1)","v":{"$error":"#NAME?"}},{"$f":"_xll.BDP($A22 & \"govt cusip\",D$1)","v":{"$error":"#NAME?"}},{"$f":"_xll.BDP($A22 & \"govt cusip\",\"PX_BID\")","v":{"$error":"#NAME?"}},{"$f":"_xll.BDP($A22 & \"govt cusip\",\"PX_ASK\")","v":{"$error":"#NAME?"}},{"$f":"_xll.BDP($A22 & \"govt cusip\",G$1)","v":{"$error":"#NAME?"}},{"$f":"_xll.BDP($A22 & \"govt cusip\",H$1)","v":{"$error":"#NAME?"}},{"$f":"_xll.BDP($A22 & \"govt cusip\",I$1)","v":{"$error":"#NAME?"}},{"$f":"_xll.BDP($A22 & \"govt cusip\",J$1)","v":{"$error":"#NAME?"}},{"$f":"_xll.BDP($A22 & \"govt cusip\",K$1)","v":{"$error":"#NAME?"}},{"$f":"_xll.BDP($A22 & \"govt cusip\",L$1)","v":{"$error":"#NAME?"}},{"$f":"_xll.BDP($A22 & \"govt cusip\",M$1)","v":{"$error":"#NAME?"}},{"$f":"_xll.BDP($A22 & \"govt cusip\",N$1)","v":{"$error":"#NAME?"}}]
["912828EM8",{"$f":"_xll.BDP($A23 & \"govt cusip\",B$1)","v":{"$error":"#NAME?"}},{"$f":"_xll.BDP($A23 & \"govt cusip\",C$1)","v":{"$error":"#NAME?"}},{"$f":"_xll.BDP($A23 & \"govt cusip\",D$1)","v":{"$error":"#NAME?"}},{"$f":"_xll.BDP($A23 & \"govt cusip\",\"PX_BID\")","v":{"$error":"#NAME?"}},{"$f":"_xll.BDP($A23 & \"govt cusip\",\"PX_ASK\")","v":{"$error":"#NAME?"}},{"$f":"_xll.BDP($A23 & \"govt cusip\",G$1)","v":{"$error":"#NAME?"}},{"$f":"_xll.BDP($A23 & \"govt cusip\",H$1)","v":{"$error":"#NAME?"}},{"$f":"_xll.BDP($A23 & \"govt cusip\",I$1)","v":{"$error":"#NAME?"}},{"$f":"_xll.BDP($A23 & \"govt cusip\",J$1)","v":{"$error":"#NAME?"}},{"$f":"_xll.BDP($A23 & \"govt cusip\",K$1)","v":{"$error":"#NAME?"}},{"$f":"_xll.BDP($A23 & \"govt cusip\",L$1)","v":{"$error":"#NAME?"}},{"$f":"_xll.BDP($A23 & \"govt cusip\",M$1)","v":{"$error":"#NAME?"}},{"$f":"_xll.BDP($A23 & \"govt cusip\",N$1)","v":{"$error":"#NAME?"}}]
["912828EQ9",{"$f":"_xll.BDP($A24 & \"govt cusip\",B$1)","v":{"$error":"#NAME?"}},{"$f":"_xll.BDP($A24 & \"govt cusip\",C$1)","v":{"$error":"#NAME?"}},{"$f":"_xll.BDP($A24 & \"govt cusip\",D$1)","v":{"$error":"#NAME?"}},{"$f":"_xll.BDP($A24 & \"govt cusip\",\"PX_BID\")","v":{"$error":"#NAME?"}},{"$f":"_xll.BDP($A24 & \"govt cusip\",\"PX_ASK\")","v":{"$error":"#NAME?"}},{"$f":"_xll.BDP($A24 & \"govt cusip\",G$1)","v":{"$error":"#NAME?"}},{"$f":"_xll.BDP($A24 & \"govt cusip\",H$1)","v":{"$error":"#NAME?"}},{"$f":"_xll.BDP($A24 & \"govt cusip\",I$1)","v":{"$error":"#NAME?"}},{"$f":"_xll.BDP($A24 & \"govt cusip\",J$1)","v":{"$error":"#NAME?"}},{"$f":"_xll.BDP($A24 & \"govt cusip\",K$1)","v":{"$error":"#NAME?"}},{"$f":"_xll.BDP($A24 & \"govt cusip\",L$1)","v":{"$error":"#NAME?"}},{"$f":"_xll.BDP($A24 & \"govt cusip\",M$1)","v":{"$error":"#NAME?"}},{"$f":"_xll.BDP($A24 & \"govt cusip\",N$1)","v":{"$error":"#NAME?"}}]
["912828ES5",{"$f":"_xll.BDP($A25 & \"govt cusip\",B$1)","v":{"$error":"#NAME?"}},{"$f":"_xll.BDP($A25 & \"govt cusip\",C$1)","v":{"$error":"#NAME?"}},{"$f":"_xll.BDP($A25 & \"govt cusip\",D$1)","v":{"$error":"#NAME?"}},{"$f":"_xll.BDP($A25 & \"govt cusip\",\"PX_BID\")","v":{"$error":"#NAME?"}},{"$f":"_xll.BDP($A25 & \"govt cusip\",\"PX_ASK\")","v":{"$error":"#NAME?"}},{"$f":"_xll.BDP($A25 & \"govt cusip\",G$1)","v":{"$error":"#NAME?"}},{"$f":"_xll.BDP($A25 & \"govt cusip\",H$1)","v":{"$error":"#NAME?"}},{"$f":"_xll.BDP($A25 & \"govt cusip\",I$1)","v":{"$error":"#NAME?"}},{"$f":"_xll.BDP($A25 & \"govt cusip\",J$1)","v":{"$error":"#NAME?"}},{"$f":"_xll.BDP($A25 & \"govt cusip\",K$1)","v":{"$error":"#NAME?"}},{"$f":"_xll.BDP($A25 & \"govt cusip\",L$1)","v":{"$error":"#NAME?"}},{"$f":"_xll.BDP($A25 & \"govt cusip\",M$1)","v":{"$error":"#NAME?"}},{"$f":"_xll.BDP($A25 & \"govt cusip\",N$1)","v":{"$error":"#NAME?"}}]
["9128276T4",{"$f":"_xll.BDP($A26 & \"govt cusip\",B$1)","v":{"$error":"#NAME?"}},{"$f":"_xll.BDP($A26 & \"govt cusip\",C$1)","v":{"$error":"#NAME?"}},{"$f":"_xll.BDP($A26 & \"govt cusip\",D$1)","v":{"$error":"#NAME?"}},{"$f":"_xll.BDP($A26 & \"govt cusip\",\"PX_BID\")","v":{"$error":"#NAME?"}},{"$f":"_xll.BDP($A26 & \"govt cusip\",\"PX_ASK\")","v":{"$error":"#NAME?"}},{"$f":"_xll.BDP($A26 & \"govt cusip\",G$1)","v":{"$error":"#NAME?"}},{"$f":"_xll.BDP($A26 & \"govt cusip\",H$1)","v":{"$error":"#NAME?"}},{"$f":"_xll.BDP($A26 & \"govt cusip\",I$1)","v":{"$error":"#NAME?"}},{"$f":"_xll.BDP($A26 & \"govt cusip\",J$1)","v":{"$error":"#NAME?"}},{"$f":"_xll.BDP($A26 & \"govt cusip\",K$1)","v":{"$error":"#NAME?"}},{"$f":"_xll.BDP($A26 & \"govt cusip\",L$1)","v":{"$error":"#NAME?"}},{"$f":"_xll.BDP($A26 & \"govt cusip\",M$1)","v":{"$error":"#NAME?"}},{"$f":"_xll.BDP($A26 & \"govt cusip\",N$1)","v":{"$error":"#NAME?"}}]
["912828EX4",{"$f":"_xll.BDP($A27 & \"govt cusip\",B$1)","v":{"$error":"#NAME?"}},{"$f":"_xll.BDP($A27 & \"govt cusip\",C$1)","v":{"$error":"#NAME?"}},{"$f":"_xll.BDP($A27 & \"govt cusip\",D$1)","v":{"$error":"#NAME?"}},{"$f":"_xll.BDP($A27 & \"govt cusip\",\"PX_BID\")","v":{"$error":"#NAME?"}},{"$f":"_xll.BDP($A27 & \"govt cusip\",\"PX_ASK\")","v":{"$error":"#NAME?"}},{"$f":"_xll.BDP($A27 & \"govt cusip\",G$1)","v":{"$error":"#NAME?"}},{"$f":"_xll.BDP($A27 & \"govt cusip\",H$1)","v":{"$error":"#NAME?"}},{"$f":"_xll.BDP($A27 & \"govt cusip\",I$1)","v":{"$error":"#NAME?"}},{"$f":"_xll.BDP($A27 & \"govt cusip\",J$1)","v":{"$error":"#NAME?"}},{"$f":"_xll.BDP($A27 & \"govt cusip\",K$1)","v":{"$error":"#NAME?"}},{"$f":"_xll.BDP($A27 & \"govt cusip\",L$1)","v":{"$error":"#NAME?"}},{"$f":"_xll.BDP($A27 & \"govt cusip\",M$1)","v":{"$error":"#NAME?"}},{"$f":"_xll.BDP($A27 & \"govt cusip\",N$1)","v":{"$error":"#NAME?"}}]
["912828FA3",{"$f":"_xll.BDP($A28 & \"govt cusip\",B$1)","v":{"$error":"#NAME?"}},{"$f":"_xll.BDP($A28 & \"govt cusip\",C$1)","v":{"$error":"#NAME?"}},{"$f":"_xll.BDP($A28 & \"govt cusip\",D$1)","v":{"$error":"#NAME?"}},{"$f":"_xll.BDP($A28 & \"govt cusip\",\"PX_BID\")","v":{"$error":"#NAME?"}},{"$f":"_xll.BDP($A28 & \"govt cusip\",\"PX_ASK\")","v":{"$error":"#NAME?"}},{"$f":"_xll.BDP($A28 & \"govt cusip\",G$1)","v":{"$error":"#NAME?"}},{"$f":"_xll.BDP($A28 & \"govt cusip\",H$1)","v":{"$error":"#NAME?"}},{"$f":"_xll.BDP($A28 & \"govt cusip\",I$1)","v":{"$error":"#NAME?"}},{"$f":"_xll.BDP($A28 & \"govt cusip\",J$1)","v":{"$error":"#NAME?"}},{"$f":"_xll.BDP($A28 & \"govt cusip\",K$1)","v":{"$error":"#NAME?"}},{"$f":"_xll.BDP($A28 & \"govt cusip\",L$1)","v":{"$error":"#NAME?"}},{"$f":"_xll.BDP($A28 & \"govt cusip\",M$1)","v":{"$error":"#NAME?"}},{"$f":"_xll.BDP($A28 & \"govt cusip\",N$1)","v":{"$error":"#NAME?"}}]
["912828FD7",{"$f":"_xll.BDP($A29 & \"govt cusip\",B$1)","v":{"$error":"#NAME?"}},{"$f":"_xll.BDP($A29 & \"govt cusip\",C$1)","v":{"$error":"#NAME?"}},{"$f":"_xll.BDP($A29 & \"govt cusip\",D$1)","v":{"$error":"#NAME?"}},{"$f":"_xll.BDP($A29 & \"govt cusip\",\"PX_BID\")","v":{"$error":"#NAME?"}},{"$f":"_xll.BDP($A29 & \"govt cusip\",\"PX_ASK\")","v":{"$error":"#NAME?"}},{"$f":"_xll.BDP($A29 & \"govt cusip\",G$1)","v":{"$error":"#NAME?"}},{"$f":"_xll.BDP($A29 & \"govt cusip\",H$1)","v":{"$error":"#NAME?"}},{"$f":"_xll.BDP($A29 & \"govt cusip\",I$1)","v":{"$error":"#NAME?"}},{"$f":"_xll.BDP($A29 & \"govt cusip\",J$1)","v":{"$error":"#NAME?"}},{"$f":"_xll.BDP($A29 & \"govt cusip\",K$1)","v":{"$error":"#NAME?"}},{"$f":"_xll.BDP($A29 & \"govt cusip\",L$1)","v":{"$error":"#NAME?"}},{"$f":"_xll.BDP($A29 & \"govt cusip\",M$1)","v":{"$error":"#NAME?"}},{"$f":"_xll.BDP($A29 & \"govt cusip\",N$1)","v":{"$error":"#NAME?"}}]
["912828FH8",{"$f":"_xll.BDP($A30 & \"govt cusip\",B$1)","v":{"$error":"#NAME?"}},{"$f":"_xll.BDP($A30 & \"govt cusip\",C$1)","v":{"$error":"#NAME?"}},{"$f":"_xll.BDP($A30 & \"govt cusip\",D$1)","v":{"$error":"#NAME?"}},{"$f":"_xll.BDP($A30 & \"govt cusip\",\"PX_BID\")","v":{"$error":"#NAME?"}},{"$f":"_xll.BDP($A30 & \"govt cusip\",\"PX_ASK\")","v":{"$error":"#NAME?"}},{"$f":"_xll.BDP($A30 & \"govt cusip\",G$1)","v":{"$error":"#NAME?"}},{"$f":"_xll.BDP($A30 & \"govt cusip\",H$1)","v":{"$error":"#NAME?"}},{"$f":"_xll.BDP($A30 & \"govt cusip\",I$1)","v":{"$error":"#NAME?"}},{"$f":"_xll.BDP($A30 & \"govt cusip\",J$1)","v":{"$error":"#NAME?"}},{"$f":"_xll.BDP($A30 & \"govt cusip\",K$1)","v":{"$error":"#NAME?"}},{"$f":"_xll.BDP($A30 & \"govt cusip\",L$1)","v":{"$error":"#NAME?"}},{"$f":"_xll.BDP($A30 & \"govt cusip\",M$1)","v":{"$error":"#NAME?"}},{"$f":"_xll.BDP($A30 & \"govt cusip\",N$1)","v":{"$error":"#NAME?"}}]
["912828FK1",{"$f":"_xll.BDP($A31 & \"govt cusip\",B$1)","v":{"$error":"#NAME?"}},{"$f":"_xll.BDP($A31 & \"govt cusip\",C$1)","v":{"$error":"#NAME?"}},{"$f":"_xll.BDP($A31 & \"govt cusip\",D$1)","v":{"$error":"#NAME?"}},{"$f":"_xll.BDP($A31 & \"govt cusip\",\"PX_BID\")","v":{"$error":"#NAME?"}},{"$f":"_xll.BDP($A31 & \"govt cusip\",\"PX_ASK\")","v":{"$error":"#NAME?"}},{"$f":"_xll.BDP($A31 & \"govt cusip\",G$1)","v":{"$error":"#NAME?"}},{"$f":"_xll.BDP($A31 & \"govt cusip\",H$1)","v":{"$error":"#NAME?"}},{"$f":"_xll.BDP($A31 & \"govt cusip\",I$1)","v":{"$error":"#NAME?"}},{"$f":"_xll.BDP($A31 & \"govt cusip\",J$1)","v":{"$error":"#NAME?"}},{"$f":"_xll.BDP($A31 & \"govt cusip\",K$1)","v":{"$error":"#NAME?"}},{"$f":"_xll.BDP($A31 & \"govt cusip\",L$1)","v":{"$error":"#NAME?"}},{"$f":"_xll.BDP($A31 & \"govt cusip\",M$1)","v":{"$error":"#NAME?"}},{"$f":"_xll.BDP($A31 & \"govt cusip\",N$1)","v":{"$error":"#NAME?"}}]
["912828FN5",{"$f":"_xll.BDP($A32 & \"govt cusip\",B$1)","v":{"$error":"#NAME?"}},{"$f":"_xll.BDP($A32 & \"govt cusip\",C$1)","v":{"$error":"#NAME?"}},{"$f":"_xll.BDP($A32 & \"govt cusip\",D$1)","v":{"$error":"#NAME?"}},{"$f":"_xll.BDP($A32 & \"govt cusip\",\"PX_BID\")","v":{"$error":"#NAME?"}},{"$f":"_xll.BDP($A32 & \"govt cusip\",\"PX_ASK\")","v":{"$error":"#NAME?"}},{"$f":"_xll.BDP($A32 & \"govt cusip\",G$1)","v":{"$error":"#NAME?"}},{"$f":"_xll.BDP($A32 & \"govt cusip\",H$1)","v":{"$error":"#NAME?"}},{"$f":"_xll.BDP($A32 & \"govt cusip\",I$1)","v":{"$error":"#NAME?"}},{"$f":"_xll.BDP($A32 & \"govt cusip\",J$1)","v":{"$error":"#NAME?"}},{"$f":"_xll.BDP($A32 & \"govt cusip\",K$1)","v":{"$error":"#NAME?"}},{"$f":"_xll.BDP($A32 & \"govt cusip\",L$1)","v":{"$error":"#NAME?"}},{"$f":"_xll.BDP($A32 & \"govt cusip\",M$1)","v":{"$error":"#NAME?"}},{"$f":"_xll.BDP($A32 & \"govt cusip\",N$1)","v":{"$error":"#NAME?"}}]
["9128277B2",{"$f":"_xll.BDP($A33 & \"govt cusip\",B$1)","v":{"$error":"#NAME?"}},{"$f":"_xll.BDP($A33 & \"govt cusip\",C$1)","v":{"$error":"#NAME?"}},{"$f":"_xll.BDP($A33 & \"govt cusip\",D$1)","v":{"$error":"#NAME?"}},{"$f":"_xll.BDP($A33 & \"govt cusip\",\"PX_BID\")","v":{"$error":"#NAME?"}},{"$f":"_xll.BDP($A33 & \"govt cusip\",\"PX_ASK\")","v":{"$error":"#NAME?"}},{"$f":"_xll.BDP($A33 & \"govt cusip\",G$1)","v":{"$error":"#NAME?"}},{"$f":"_xll.BDP($A33 & \"govt cusip\",H$1)","v":{"$error":"#NAME?"}},{"$f":"_xll.BDP($A33 & \"govt cusip\",I$1)","v":{"$error":"#NAME?"}},{"$f":"_xll.BDP($A33 & \"govt cusip\",J$1)","v":{"$error":"#NAME?"}},{"$f":"_xll.BDP($A33 & \"govt cusip\",K$1)","v":{"$error":"#NAME?"}},{"$f":"_xll.BDP($A33 & \"govt cusip\",L$1)","v":{"$error":"#NAME?"}},{"$f":"_xll.BDP($A33 & \"govt cusip\",M$1)","v":{"$error":"#NAME?"}},{"$f":"_xll.BDP($A33 & \"govt cusip\",N$1)","v":{"$error":"#NAME?"}}]
["912828FS4",{"$f":"_xll.BDP($A34 & \"govt cusip\",B$1)","v":{"$error":"#NAME?"}},{"$f":"_xll.BDP($A34 & \"govt cusip\",C$1)","v":{"$error":"#NAME?"}},{"$f":"_xll.BDP($A34 & \"govt cusip\",D$1)","v":{"$error":"#NAME?"}},{"$f":"_xll.BDP($A34 & \"govt cusip\",\"PX_BID\")","v":{"$error":"#NAME?"}},{"$f":"_xll.BDP($A34 & \"govt cusip\",\"PX_ASK\")","v":{"$error":"#NAME?"}},{"$f":"_xll.BDP($A34 & \"govt cusip\",G$1)","v":{"$error":"#NAME?"}},{"$f":"_xll.BDP($A34 & \"govt cusip\",H$1)","v":{"$error":"#NAME?"}},{"$f":"_xll.BDP($A34 & \"govt cusip\",I$1)","v":{"$error":"#NAME?"}},{"$f":"_xll.BDP($A34 & \"govt cusip\",J$1)","v":{"$error":"#NAME?"}},{"$f":"_xll.BDP($A34 & \"govt cusip\",K$1)","v":{"$error":"#NAME?"}},{"$f":"_xll.BDP($A34 & \"govt cusip\",L$1)","v":{"$error":"#NAME?"}},{"$f":"_xll.BDP($A34 & \"govt cusip\",M$1)","v":{"$error":"#NAME?"}},{"$f":"_xll.BDP($A34 & \"govt cusip\",N$1)","v":{"$error":"#NAME?"}}]
["912828FU9",{"$f":"_xll.BDP($A35 & \"govt cusip\",B$1)","v":{"$error":"#NAME?"}},{"$f":"_xll.BDP($A35 & \"govt cusip\",C$1)","v":{"$error":"#NAME?"}},{"$f":"_xll.BDP($A35 & \"govt cusip\",D$1)","v":{"$error":"#NAME?"}},{"$f":"_xll.BDP($A35 & \"govt cusip\",\"PX_BID\")","v":{"$error":"#NAME?"}},{"$f":"_xll.BDP($A35 & \"govt cusip\",\"PX_ASK\")","v":{"$error":"#NAME?"}},{"$f":"_xll.BDP($A35 & \"govt cusip\",G$1)","v":{"$error":"#NAME?"}},{"$f":"_xll.BDP($A35 & \"govt cusip\",H$1)","v":{"$error":"#NAME?"}},{"$f":"_xll.BDP($A35 & \"govt cusip\",I$1)","v":{"$error":"#NAME?"}},{"$f":"_xll.BDP($A35 & \"govt cusip\",J$1)","v":{"$error":"#NAME?"}},{"$f":"_xll.BDP($A35 & \"govt cusip\",K$1)","v":{"$error":"#NAME?"}},{"$f":"_xll.BDP($A35 & \"govt cusip\",L$1)","v":{"$error":"#NAME?"}},{"$f":"_xll.BDP($A35 & \"govt cusip\",M$1)","v":{"$error":"#NAME?"}},{"$f":"_xll.BDP($A35 & \"govt cusip\",N$1)","v":{"$error":"#NAME?"}}]
["912828FW5",{"$f":"_xll.BDP($A36 & \"govt cusip\",B$1)","v":{"$error":"#NAME?"}},{"$f":"_xll.BDP($A36 & \"govt cusip\",C$1)","v":{"$error":"#NAME?"}},{"$f":"_xll.BDP($A36 & \"govt cusip\",D$1)","v":{"$error":"#NAME?"}},{"$f":"_xll.BDP($A36 & \"govt cusip\",\"PX_BID\")","v":{"$error":"#NAME?"}},{"$f":"_xll.BDP($A36 & \"govt cusip\",\"PX_ASK\")","v":{"$error":"#NAME?"}},{"$f":"_xll.BDP($A36 & \"govt cusip\",G$1)","v":{"$error":"#NAME?"}},{"$f":"_xll.BDP($A36 & \"govt cusip\",H$1)","v":{"$error":"#NAME?"}},{"$f":"_xll.BDP($A36 & \"govt cusip\",I$1)","v":{"$error":"#NAME?"}},{"$f":"_xll.BDP($A36 & \"govt cusip\",J$1)","v":{"$error":"#NAME?"}},{"$f":"_xll.BDP($A36 & \"govt cusip\",K$1)","v":{"$error":"#NAME?"}},{"$f":"_xll.BDP($A36 & \"govt cusip\",L$1)","v":{"$error":"#NAME?"}},{"$f":"_xll.BDP($A36 & \"govt cusip\",M$1)","v":{"$error":"#NAME?"}},{"$f":"_xll.BDP($A36 & \"govt cusip\",N$1)","v":{"$error":"#NAME?"}}]
["912828GA2",{"$f":"_xll.BDP($A37 & \"govt cusip\",B$1)","v":{"$error":"#NAME?"}},{"$f":"_xll.BDP($A37 & \"govt cusip\",C$1)","v":{"$error":"#NAME?"}},{"$f":"_xll.BDP($A37 & \"govt cusip\",D$1)","v":{"$error":"#NAME?"}},{"$f":"_xll.BDP($A37 & \"govt cusip\",\"PX_BID\")","v":{"$error":"#NAME?"}},{"$f":"_xll.BDP($A37 & \"govt cusip\",\"PX_ASK\")","v":{"$error":"#NAME?"}},{"$f":"_xll.BDP($A37 & \"govt cusip\",G$1)","v":{"$error":"#NAME?"}},{"$f":"_xll.BDP($A37 & \"govt cusip\",H$1)","v":{"$error":"#NAME?"}},{"$f":"_xll.BDP($A37 & \"govt cusip\",I$1)","v":{"$error":"#NAME?"}},{"$f":"_xll.BDP($A37 & \"govt cusip\",J$1)","v":{"$error":"#NAME?"}},{"$f":"_xll.BDP($A37 & \"govt cusip\",K$1)","v":{"$error":"#NAME?"}},{"$f":"_xll.BDP($A37 & \"govt cusip\",L$1)","v":{"$error":"#NAME?"}},{"$f":"_xll.BDP($A37 & \"govt cusip\",M$1)","v":{"$error":"#NAME?"}},{"$f":"_xll.BDP($A37 & \"govt cusip\",N$1)","v":{"$error":"#NAME?"}}]
["912828GC8",{"$f":"_xll.BDP($A38 & \"govt cusip\",B$1)","v":{"$error":"#NAME?"}},{"$f":"_xll.BDP($A38 & \"govt cusip\",C$1)","v":{"$error":"#NAME?"}},{"$f":"_xll.BDP($A38 & \"govt cusip\",D$1)","v":{"$error":"#NAME?"}},{"$f":"_xll.BDP($A38 & \"govt cusip\",\"PX_BID\")","v":{"$error":"#NAME?"}},{"$f":"_xll.BDP($A38 & \"govt cusip\",\"PX_ASK\")","v":{"$error":"#NAME?"}},{"$f":"_xll.BDP($A38 & \"govt cusip\",G$1)","v":{"$error":"#NAME?"}},{"$f":"_xll.BDP($A38 & \"govt cusip\",H$1)","v":{"$error":"#NAME?"}},{"$f":"_xll.BDP($A38 & \"govt cusip\",I$1)","v":{"$error":"#NAME?"}},{"$f":"_xll.BDP($A38 & \"govt cusip\",J$1)","v":{"$error":"#NAME?"}},{"$f":"_xll.BDP($A38 & \"govt cusip\",K$1)","v":{"$error":"#NAME?"}},{"$f":"_xll.BDP($A38 & \"govt cusip\",L$1)","v":{"$error":"#NAME?"}},{"$f":"_xll.BDP($A38 & \"govt cusip\",M$1)","v":{"$error":"#NAME?"}},{"$f":"_xll.BDP($A38 & \"govt cusip\",N$1)","v":{"$error":"#NAME?"}}]
["912828GF1",{"$f":"_xll.BDP($A39 & \"govt cusip\",B$1)","v":{"$error":"#NAME?"}},{"$f":"_xll.BDP($A39 & \"govt cusip\",C$1)","v":{"$error":"#NAME?"}},{"$f":"_xll.BDP($A39 & \"govt cusip\",D$1)","v":{"$error":"#NAME?"}},{"$f":"_xll.BDP($A39 & \"govt cusip\",\"PX_BID\")","v":{"$error":"#NAME?"}},{"$f":"_xll.BDP($A39 & \"govt cusip\",\"PX_ASK\")","v":{"$error":"#NAME?"}},{"$f":"_xll.BDP($A39 & \"govt cusip\",G$1)","v":{"$error":"#NAME?"}},{"$f":"_xll.BDP($A39 & \"govt cusip\",H$1)","v":{"$error":"#NAME?"}},{"$f":"_xll.BDP($A39 & \"govt cusip\",I$1)","v":{"$error":"#NAME?"}},{"$f":"_xll.BDP($A39 & \"govt cusip\",J$1)","v":{"$error":"#NAME?"}},{"$f":"_xll.BDP($A39 & \"govt cusip\",K$1)","v":{"$error":"#NAME?"}},{"$f":"_xll.BDP($A39 & \"govt cusip\",L$1)","v":{"$error":"#NAME?"}},{"$f":"_xll.BDP($A39 & \"govt cusip\",M$1)","v":{"$error":"#NAME?"}},{"$f":"_xll.BDP($A39 & \"govt cusip\",N$1)","v":{"$error":"#NAME?"}}]
["9128277L0",{"$f":"_xll.BDP($A40 & \"govt cusip\",B$1)","v":{"$error":"#NAME?"}},{"$f":"_xll.BDP($A40 & \"govt cusip\",C$1)","v":{"$error":"#NAME?"}},{"$f":"_xll.BDP($A40 & \"govt cusip\",D$1)","v":{"$error":"#NAME?"}},{"$f":"_xll.BDP($A40 & \"govt cusip\",\"PX_BID\")","v":{"$error":"#NAME?"}},{"$f":"_xll.BDP($A40 & \"govt cusip\",\"PX_ASK\")","v":{"$error":"#NAME?"}},{"$f":"_xll.BDP($A40 & \"govt cusip\",G$1)","v":{"$error":"#NAME?"}},{"$f":"_xll.BDP($A40 & \"govt cusip\",H$1)","v":{"$error":"#NAME?"}},{"$f":"_xll.BDP($A40 & \"govt cusip\",I$1)","v":{"$error":"#NAME?"}},{"$f":"_xll.BDP($A40 & \"govt cusip\",J$1)","v":{"$error":"#NAME?"}},{"$f":"_xll.BDP($A40 & \"govt cusip\",K$1)","v":{"$error":"#NAME?"}},{"$f":"_xll.BDP($A40 & \"govt cusip\",L$1)","v":{"$error":"#NAME?"}},{"$f":"_xll.BDP($A40 & \"govt cusip\",M$1)","v":{"$error":"#NAME?"}},{"$f":"_xll.BDP($A40 & \"govt cusip\",N$1)","v":{"$error":"#NAME?"}}]
["912828GK0",{"$f":"_xll.BDP($A41 & \"govt cusip\",B$1)","v":{"$error":"#NAME?"}},{"$f":"_xll.BDP($A41 & \"govt cusip\",C$1)","v":{"$error":"#NAME?"}},{"$f":"_xll.BDP($A41 & \"govt cusip\",D$1)","v":{"$error":"#NAME?"}},{"$f":"_xll.BDP($A41 & \"govt cusip\",\"PX_BID\")","v":{"$error":"#NAME?"}},{"$f":"_xll.BDP($A41 & \"govt cusip\",\"PX_ASK\")","v":{"$error":"#NAME?"}},{"$f":"_xll.BDP($A41 & \"govt cusip\",G$1)","v":{"$error":"#NAME?"}},{"$f":"_xll.BDP($A41 & \"govt cusip\",H$1)","v":{"$error":"#NAME?"}},{"$f":"_xll.BDP($A41 & \"govt cusip\",I$1)","v":{"$error":"#NAME?"}},{"$f":"_xll.BDP($A41 & \"govt cusip\",J$1)","v":{"$error":"#NAME?"}},{"$f":"_xll.BDP($A41 & \"govt cusip\",K$1)","v":{"$error":"#NAME?"}},{"$f":"_xll.BDP($A41 & \"govt cusip\",L$1)","v":{"$error":"#NAME?"}},{"$f":"_xll.BDP($A41 & \"govt cusip\",M$1)","v":{"$error":"#NAME?"}},{"$f":"_xll.BDP($A41 & \"govt cusip\",N$1)","v":{"$error":"#NAME?"}}]
["912828GM6",{"$f":"_xll.BDP($A42 & \"govt cusip\",B$1)","v":{"$error":"#NAME?"}},{"$f":"_xll.BDP($A42 & \"govt cusip\",C$1)","v":{"$error":"#NAME?"}},{"$f":"_xll.BDP($A42 & \"govt cusip\",D$1)","v":{"$error":"#NAME?"}},{"$f":"_xll.BDP($A42 & \"govt cusip\",\"PX_BID\")","v":{"$error":"#NAME?"}},{"$f":"_xll.BDP($A42 & \"govt cusip\",\"PX_ASK\")","v":{"$error":"#NAME?"}},{"$f":"_xll.BDP($A42 & \"govt cusip\",G$1)","v":{"$error":"#NAME?"}},{"$f":"_xll.BDP($A42 & \"govt cusip\",H$1)","v":{"$error":"#NAME?"}},{"$f":"_xll.BDP($A42 & \"govt cusip\",I$1)","v":{"$error":"#NAME?"}},{"$f":"_xll.BDP($A42 & \"govt cusip\",J$1)","v":{"$error":"#NAME?"}},{"$f":"_xll.BDP($A42 & \"govt cusip\",K$1)","v":{"$error":"#NAME?"}},{"$f":"_xll.BDP($A42 & \"govt cusip\",L$1)","v":{"$error":"#NAME?"}},{"$f":"_xll.BDP($A42 & \"govt cusip\",M$1)","v":{"$error":"#NAME?"}},{"$f":"_xll.BDP($A42 & \"govt cusip\",N$1)","v":{"$error":"#NAME?"}}]
["912828GQ7",{"$f":"_xll.BDP($A43 & \"govt cusip\",B$1)","v":{"$error":"#NAME?"}},{"$f":"_xll.BDP($A43 & \"govt cusip\",C$1)","v":{"$error":"#NAME?"}},{"$f":"_xll.BDP($A43 & \"govt cusip\",D$1)","v":{"$error":"#NAME?"}},{"$f":"_xll.BDP($A43 & \"govt cusip\",\"PX_BID\")","v":{"$error":"#NAME?"}},{"$f":"_xll.BDP($A43 & \"govt cusip\",\"PX_ASK\")","v":{"$error":"#NAME?"}},{"$f":"_xll.BDP($A43 & \"govt cusip\",G$1)","v":{"$error":"#NAME?"}},{"$f":"_xll.BDP($A43 & \"govt cusip\",H$1)","v":{"$error":"#NAME?"}},{"$f":"_xll.BDP($A43 & \"govt cusip\",I$1)","v":{"$error":"#NAME?"}},{"$f":"_xll.BDP($A43 & \"govt cusip\",J$1)","v":{"$error":"#NAME?"}},{"$f":"_xll.BDP($A43 & \"govt cusip\",K$1)","v":{"$error":"#NAME?"}},{"$f":"_xll.BDP($A43 & \"govt cusip\",L$1)","v":{"$error":"#NAME?"}},{"$f":"_xll.BDP($A43 & \"govt cusip\",M$1)","v":{"$error":"#NAME?"}},{"$f":"_xll.BDP($A43 & \"govt cusip\",N$1)","v":{"$error":"#NAME?"}}]
["912828GU8",{"$f":"_xll.BDP($A44 & \"govt cusip\",B$1)","v":{"$error":"#NAME?"}},{"$f":"_xll.BDP($A44 & \"govt cusip\",C$1)","v":{"$error":"#NAME?"}},{"$f":"_xll.BDP($A44 & \"govt cusip\",D$1)","v":{"$error":"#NAME?"}},{"$f":"_xll.BDP($A44 & \"govt cusip\",\"PX_BID\")","v":{"$error":"#NAME?"}},{"$f":"_xll.BDP($A44 & \"govt cusip\",\"PX_ASK\")","v":{"$error":"#NAME?"}},{"$f":"_xll.BDP($A44 & \"govt cusip\",G$1)","v":{"$error":"#NAME?"}},{"$f":"_xll.BDP($A44 & \"govt cusip\",H$1)","v":{"$error":"#NAME?"}},{"$f":"_xll.BDP($A44 & \"govt cusip\",I$1)","v":{"$error":"#NAME?"}},{"$f":"_xll.BDP($A44 & \"govt cusip\",J$1)","v":{"$error":"#NAME?"}},{"$f":"_xll.BDP($A44 & \"govt cusip\",K$1)","v":{"$error":"#NAME?"}},{"$f":"_xll.BDP($A44 & \"govt cusip\",L$1)","v":{"$error":"#NAME?"}},{"$f":"_xll.BDP($A44 & \"govt cusip\",M$1)","v":{"$error":"#NAME?"}},{"$f":"_xll.BDP($A44 & \"govt cusip\",N$1)","v":{"$error":"#NAME?"}}]
["912828GW4",{"$f":"_xll.BDP($A45 & \"govt cusip\",B$1)","v":{"$error":"#NAME?"}},{"$f":"_xll.BDP($A45 & \"govt cusip\",C$1)","v":{"$error":"#NAME?"}},{"$f":"_xll.BDP($A45 & \"govt cusip\",D$1)","v":{"$error":"#NAME?"}},{"$f":"_xll.BDP($A45 & \"govt cusip\",\"PX_BID\")","v":{"$error":"#NAME?"}},{"$f":"_xll.BDP($A45 & \"govt cusip\",\"PX_ASK\")","v":{"$error":"#NAME?"}},{"$f":"_xll.BDP($A45 & \"govt cusip\",G$1)","v":{"$error":"#NAME?"}},{"$f":"_xll.BDP($A45 & \"govt cusip\",H$1)","v":{"$error":"#NAME?"}},{"$f":"_xll.BDP($A45 & \"govt cusip\",I$1)","v":{"$error":"#NAME?"}},{"$f":"_xll.BDP($A45 & \"govt cusip\",J$1)","v":{"$error":"#NAME?"}},{"$f":"_xll.BDP($A45 & \"govt cusip\",K$1)","v":{"$error":"#NAME?"}},{"$f":"_xll.BDP($A45 & \"govt cusip\",L$1)","v":{"$error":"#NAME?"}},{"$f":"_xll.BDP($A45 & \"govt cusip\",M$1)","v":{"$error":"#NAME?"}},{"$f":"_xll.BDP($A45 & \"govt cusip\",N$1)","v":{"$error":"#NAME?"}}]
["912828GZ7",{"$f":"_xll.BDP($A46 & \"govt cusip\",B$1)","v":{"$error":"#NAME?"}},{"$f":"_xll.BDP($A46 & \"govt cusip\",C$1)","v":{"$error":"#NAME?"}},{"$f":"_xll.BDP($A46 & \"govt cusip\",D$1)","v":{"$error":"#NAME?"}},{"$f":"_xll.BDP($A46 & \"govt cusip\",\"PX_BID\")","v":{"$error":"#NAME?"}},{"$f":"_xll.BDP($A46 & \"govt cusip\",\"PX_ASK\")","v":{"$error":"#NAME?"}},{"$f":"_xll.BDP($A46 & \"govt cusip\",G$1)","v":{"$error":"#NAME?"}},{"$f":"_xll.BDP($A46 & \"govt cusip\",H$1)","v":{"$error":"#NAME?"}},{"$f":"_xll.BDP($A46 & \"govt cusip\",I$1)","v":{"$error":"#NAME?"}},{"$f":"_xll.BDP($A46 & \"govt cusip\",J$1)","v":{"$error":"#NAME?"}},{"$f":"_xll.BDP($A46 & \"govt cusip\",K$1)","v":{"$error":"#NAME?"}},{"$f":"_xll.BDP($A46 & \"govt cusip\",L$1)","v":{"$error":"#NAME?"}},{"$f":"_xll.BDP($A46 & \"govt cusip\",M$1)","v":{"$error":"#NAME?"}},{"$f":"_xll.BDP($A46 & \"govt cusip\",N$1)","v":{"$error":"#NAME?"}}]
["912828AJ9",{"$f":"_xll.BDP($A47 & \"govt cusip\",B$1)","v":{"$error":"#NAME?"}},{"$f":"_xll.BDP($A47 & \"govt cusip\",C$1)","v":{"$error":"#NAME?"}},{"$f":"_xll.BDP($A47 & \"govt cusip\",D$1)","v":{"$error":"#NAME?"}},{"$f":"_xll.BDP($A47 & \"govt cusip\",\"PX_BID\")","v":{"$error":"#NAME?"}},{"$f":"_xll.BDP($A47 & \"govt cusip\",\"PX_ASK\")","v":{"$error":"#NAME?"}},{"$f":"_xll.BDP($A47 & \"govt cusip\",G$1)","v":{"$error":"#NAME?"}},{"$f":"_xll.BDP($A47 & \"govt cusip\",H$1)","v":{"$error":"#NAME?"}},{"$f":"_xll.BDP($A47 & \"govt cusip\",I$1)","v":{"$error":"#NAME?"}},{"$f":"_xll.BDP($A47 & \"govt cusip\",J$1)","v":{"$error":"#NAME?"}},{"$f":"_xll.BDP($A47 & \"govt cusip\",K$1)","v":{"$error":"#NAME?"}},{"$f":"_xll.BDP($A47 & \"govt cusip\",L$1)","v":{"$error":"#NAME?"}},{"$f":"_xll.BDP($A47 & \"govt cusip\",M$1)","v":{"$error":"#NAME?"}},{"$f":"_xll.BDP($A47 & \"govt cusip\",N$1)","v":{"$error":"#NAME?"}}]
["912828HC7",{"$f":"_xll.BDP($A48 & \"govt cusip\",B$1)","v":{"$error":"#NAME?"}},{"$f":"_xll.BDP($A48 & \"govt cusip\",C$1)","v":{"$error":"#NAME?"}},{"$f":"_xll.BDP($A48 & \"govt cusip\",D$1)","v":{"$error":"#NAME?"}},{"$f":"_xll.BDP($A48 & \"govt cusip\",\"PX_BID\")","v":{"$error":"#NAME?"}},{"$f":"_xll.BDP($A48 & \"govt cusip\",\"PX_ASK\")","v":{"$error":"#NAME?"}},{"$f":"_xll.BDP($A48 & \"govt cusip\",G$1)","v":{"$error":"#NAME?"}},{"$f":"_xll.BDP($A48 & \"govt cusip\",H$1)","v":{"$error":"#NAME?"}},{"$f":"_xll.BDP($A48 & \"govt cusip\",I$1)","v":{"$error":"#NAME?"}},{"$f":"_xll.BDP($A48 & \"govt cusip\",J$1)","v":{"$error":"#NAME?"}},{"$f":"_xll.BDP($A48 & \"govt cusip\",K$1)","v":{"$error":"#NAME?"}},{"$f":"_xll.BDP($A48 & \"govt cusip\",L$1)","v":{"$error":"#NAME?"}},{"$f":"_xll.BDP($A48 & \"govt cusip\",M$1)","v":{"$error":"#NAME?"}},{"$f":"_xll.BDP($A48 & \"govt cusip\",N$1)","v":{"$error":"#NAME?"}}]
["912828HE3",{"$f":"_xll.BDP($A49 & \"govt cusip\",B$1)","v":{"$error":"#NAME?"}},{"$f":"_xll.BDP($A49 & \"govt cusip\",C$1)","v":{"$error":"#NAME?"}},{"$f":"_xll.BDP($A49 & \"govt cusip\",D$1)","v":{"$error":"#NAME?"}},{"$f":"_xll.BDP($A49 & \"govt cusip\",\"PX_BID\")","v":{"$error":"#NAME?"}},{"$f":"_xll.BDP($A49 & \"govt cusip\",\"PX_ASK\")","v":{"$error":"#NAME?"}},{"$f":"_xll.BDP($A49 & \"govt cusip\",G$1)","v":{"$error":"#NAME?"}},{"$f":"_xll.BDP($A49 & \"govt cusip\",H$1)","v":{"$error":"#NAME?"}},{"$f":"_xll.BDP($A49 & \"govt cusip\",I$1)","v":{"$error":"#NAME?"}},{"$f":"_xll.BDP($A49 & \"govt cusip\",J$1)","v":{"$error":"#NAME?"}},{"$f":"_xll.BDP($A49 & \"govt cusip\",K$1)","v":{"$error":"#NAME?"}},{"$f":"_xll.BDP($A49 & \"govt cusip\",L$1)","v":{"$error":"#NAME?"}},{"$f":"_xll.BDP($A49 & \"govt cusip\",M$1)","v":{"$error":"#NAME?"}},{"$f":"_xll.BDP($A49 & \"govt cusip\",N$1)","v":{"$error":"#NAME?"}}]
["912828HG8",{"$f":"_xll.BDP($A50 & \"govt cusip\",B$1)","v":{"$error":"#NAME?"}},{"$f":"_xll.BDP($A50 & \"govt cusip\",C$1)","v":{"$error":"#NAME?"}},{"$f":"_xll.BDP($A50 & \"govt cusip\",D$1)","v":{"$error":"#NAME?"}},{"$f":"_xll.BDP($A50 & \"govt cusip\",\"PX_BID\")","v":{"$error":"#NAME?"}},{"$f":"_xll.BDP($A50 & \"govt cusip\",\"PX_ASK\")","v":{"$error":"#NAME?"}},{"$f":"_xll.BDP($A50 & \"govt cusip\",G$1)","v":{"$error":"#NAME?"}},{"$f":"_xll.BDP($A50 & \"govt cusip\",H$1)","v":{"$error":"#NAME?"}},{"$f":"_xll.BDP($A50 & \"govt cusip\",I$1)","v":{"$error":"#NAME?"}},{"$f":"_xll.BDP($A50 & \"govt cusip\",J$1)","v":{"$error":"#NAME?"}},{"$f":"_xll.BDP($A50 & \"govt cusip\",K$1)","v":{"$error":"#NAME?"}},{"$f":"_xll.BDP($A50 & \"govt cusip\",L$1)","v":{"$error":"#NAME?"}},{"$f":"_xll.BDP($A50 & \"govt cusip\",M$1)","v":{"$error":"#NAME?"}},{"$f":"_xll.BDP($A50 & \"govt cusip\",N$1)","v":{"$error":"#NAME?"}}]
["912828AP5",{"$f":"_xll.BDP($A51 & \"govt cusip\",B$1)","v":{"$error":"#NAME?"}},{"$f":"_xll.BDP($A51 & \"govt cusip\",C$1)","v":{"$error":"#NAME?"}},{"$f":"_xll.BDP($A51 & \"govt cusip\",D$1)","v":{"$error":"#NAME?"}},{"$f":"_xll.BDP($A51 & \"govt cusip\",\"PX_BID\")","v":{"$error":"#NAME?"}},{"$f":"_xll.BDP($A51 & \"govt cusip\",\"PX_ASK\")","v":{"$error":"#NAME?"}},{"$f":"_xll.BDP($A51 & \"govt cusip\",G$1)","v":{"$error":"#NAME?"}},{"$f":"_xll.BDP($A51 & \"govt cusip\",H$1)","v":{"$error":"#NAME?"}},{"$f":"_xll.BDP($A51 & \"govt cusip\",I$1)","v":{"$error":"#NAME?"}},{"$f":"_xll.BDP($A51 & \"govt cusip\",J$1)","v":{"$error":"#NAME?"}},{"$f":"_xll.BDP($A51 & \"govt cusip\",K$1)","v":{"$error":"#NAME?"}},{"$f":"_xll.BDP($A51 & \"govt cusip\",L$1)","v":{"$error":"#NAME?"}},{"$f":"_xll.BDP($A51 & \"govt cusip\",M$1)","v":{"$error":"#NAME?"}},{"$f":"_xll.BDP($A51 & \"govt cusip\",N$1)","v":{"$error":"#NAME?"}}]
["912828HK9",{"$f":"_xll.BDP($A52 & \"govt cusip\",B$1)","v":{"$error":"#NAME?"}},{"$f":"_xll.BDP($A52 & \"govt cusip\",C$1)","v":{"$error":"#NAME?"}},{"$f":"_xll.BDP($A52 & \"govt cusip\",D$1)","v":{"$error":"#NAME?"}},{"$f":"_xll.BDP($A52 & \"govt cusip\",\"PX_BID\")","v":{"$error":"#NAME?"}},{"$f":"_xll.BDP($A52 & \"govt cusip\",\"PX_ASK\")","v":{"$error":"#NAME?"}},{"$f":"_xll.BDP($A52 & \"govt cusip\",G$1)","v":{"$error":"#NAME?"}},{"$f":"_xll.BDP($A52 & \"govt cusip\",H$1)","v":{"$error":"#NAME?"}},{"$f":"_xll.BDP($A52 & \"govt cusip\",I$1)","v":{"$error":"#NAME?"}},{"$f":"_xll.BDP($A52 & \"govt cusip\",J$1)","v":{"$error":"#NAME?"}},{"$f":"_xll.BDP($A52 & \"govt cusip\",K$1)","v":{"$error":"#NAME?"}},{"$f":"_xll.BDP($A52 & \"govt cusip\",L$1)","v":{"$error":"#NAME?"}},{"$f":"_xll.BDP($A52 & \"govt cusip\",M$1)","v":{"$error":"#NAME?"}},{"$f":"_xll.BDP($A52 & \"govt cusip\",N$1)","v":{"$error":"#NAME?"}}]
["912828HM5",{"$f":"_xll.BDP($A53 & \"govt cusip\",B$1)","v":{"$error":"#NAME?"}},{"$f":"_xll.BDP($A53 & \"govt cusip\",C$1)","v":{"$error":"#NAME?"}},{"$f":"_xll.BDP($A53 & \"govt cusip\",D$1)","v":{"$error":"#NAME?"}},{"$f":"_xll.BDP($A53 & \"govt cusip\",\"PX_BID\")","v":{"$error":"#NAME?"}},{"$f":"_xll.BDP($A53 & \"govt cusip\",\"PX_ASK\")","v":{"$error":"#NAME?"}},{"$f":"_xll.BDP($A53 & \"govt cusip\",G$1)","v":{"$error":"#NAME?"}},{"$f":"_xll.BDP($A53 & \"govt cusip\",H$1)","v":{"$error":"#NAME?"}},{"$f":"_xll.BDP($A53 & \"govt cusip\",I$1)","v":{"$error":"#NAME?"}},{"$f":"_xll.BDP($A53 & \"govt cusip\",J$1)","v":{"$error":"#NAME?"}},{"$f":"_xll.BDP($A53 & \"govt cusip\",K$1)","v":{"$error":"#NAME?"}},{"$f":"_xll.BDP($A53 & \"govt cusip\",L$1)","v":{"$error":"#NAME?"}},{"$f":"_xll.BDP($A53 & \"govt cusip\",M$1)","v":{"$error":"#NAME?"}},{"$f":"_xll.BDP($A53 & \"govt cusip\",N$1)","v":{"$error":"#NAME?"}}]
["912828HQ6",{"$f":"_xll.BDP($A54 & \"govt cusip\",B$1)","v":{"$error":"#NAME?"}},{"$f":"_xll.BDP($A54 & \"govt cusip\",C$1)","v":{"$error":"#NAME?"}},{"$f":"_xll.BDP($A54 & \"govt cusip\",D$1)","v":{"$error":"#NAME?"}},{"$f":"_xll.BDP($A54 & \"govt cusip\",\"PX_BID\")","v":{"$error":"#NAME?"}},{"$f":"_xll.BDP($A54 & \"govt cusip\",\"PX_ASK\")","v":{"$error":"#NAME?"}},{"$f":"_xll.BDP($A54 & \"govt cusip\",G$1)","v":{"$error":"#NAME?"}},{"$f":"_xll.BDP($A54 & \"govt cusip\",H$1)","v":{"$error":"#NAME?"}},{"$f":"_xll.BDP($A54 & \"govt cusip\",I$1)","v":{"$error":"#NAME?"}},{"$f":"_xll.BDP($A54 & \"govt cusip\",J$1)","v":{"$error":"#NAME?"}},{"$f":"_xll.BDP($A54 & \"govt cusip\",K$1)","v":{"$error":"#NAME?"}},{"$f":"_xll.BDP($A54 & \"govt cusip\",L$1)","v":{"$error":"#NAME?"}},{"$f":"_xll.BDP($A54 & \"govt cusip\",M$1)","v":{"$error":"#NAME?"}},{"$f":"_xll.BDP($A54 & \"govt cusip\",N$1)","v":{"$error":"#NAME?"}}]
["912828AU4",{"$f":"_xll.BDP($A55 & \"govt cusip\",B$1)","v":{"$error":"#NAME?"}},{"$f":"_xll.BDP($A55 & \"govt cusip\",C$1)","v":{"$error":"#NAME?"}},{"$f":"_xll.BDP($A55 & \"govt cusip\",D$1)","v":{"$error":"#NAME?"}},{"$f":"_xll.BDP($A55 & \"govt cusip\",\"PX_BID\")","v":{"$error":"#NAME?"}},{"$f":"_xll.BDP($A55 & \"govt cusip\",\"PX_ASK\")","v":{"$error":"#NAME?"}},{"$f":"_xll.BDP($A55 & \"govt cusip\",G$1)","v":{"$error":"#NAME?"}},{"$f":"_xll.BDP($A55 & \"govt cusip\",H$1)","v":{"$error":"#NAME?"}},{"$f":"_xll.BDP($A55 & \"govt cusip\",I$1)","v":{"$error":"#NAME?"}},{"$f":"_xll.BDP($A55 & \"govt cusip\",J$1)","v":{"$error":"#NAME?"}},{"$f":"_xll.BDP($A55 & \"govt cusip\",K$1)","v":{"$error":"#NAME?"}},{"$f":"_xll.BDP($A55 & \"govt cusip\",L$1)","v":{"$error":"#NAME?"}},{"$f":"_xll.BDP($A55 & \"govt cusip\",M$1)","v":{"$error":"#NAME?"}},{"$f":"_xll.BDP($A55 & \"govt cusip\",N$1)","v":{"$error":"#NAME?"}}]
["912828HT0",{"$f":"_xll.BDP($A56 & \"govt cusip\",B$1)","v":{"$error":"#NAME?"}},{"$f":"_xll.BDP($A56 & \"govt cusip\",C$1)","v":{"$error":"#NAME?"}},{"$f":"_xll.BDP($A56 & \"govt cusip\",D$1)","v":{"$error":"#NAME?"}},{"$f":"_xll.BDP($A56 & \"govt cusip\",\"PX_BID\")","v":{"$error":"#NAME?"}},{"$f":"_xll.BDP($A56 & \"govt cusip\",\"PX_ASK\")","v":{"$error":"#NAME?"}},{"$f":"_xll.BDP($A56 & \"govt cusip\",G$1)","v":{"$error":"#NAME?"}},{"$f":"_xll.BDP($A56 & \"govt cusip\",H$1)","v":{"$error":"#NAME?"}},{"$f":"_xll.BDP($A56 & \"govt cusip\",I$1)","v":{"$error":"#NAME?"}},{"$f":"_xll.BDP($A56 & \"govt cusip\",J$1)","v":{"$error":"#NAME?"}},{"$f":"_xll.BDP($A56 & \"govt cusip\",K$1)","v":{"$error":"#NAME?"}},{"$f":"_xll.BDP($A56 & \"govt cusip\",L$1)","v":{"$error":"#NAME?"}},{"$f":"_xll.BDP($A56 & \"govt cusip\",M$1)","v":{"$error":"#NAME?"}},{"$f":"_xll.BDP($A56 & \"govt cusip\",N$1)","v":{"$error":"#NAME?"}}]
["912828HV5",{"$f":"_xll.BDP($A57 & \"govt cusip\",B$1)","v":{"$error":"#NAME?"}},{"$f":"_xll.BDP($A57 & \"govt cusip\",C$1)","v":{"$error":"#NAME?"}},{"$f":"_xll.BDP($A57 & \"govt cusip\",D$1)","v":{"$error":"#NAME?"}},{"$f":"_xll.BDP($A57 & \"govt cusip\",\"PX_BID\")","v":{"$error":"#NAME?"}},{"$f":"_xll.BDP($A57 & \"govt cusip\",\"PX_ASK\")","v":{"$error":"#NAME?"}},{"$f":"_xll.BDP($A57 & \"govt cusip\",G$1)","v":{"$error":"#NAME?"}},{"$f":"_xll.BDP($A57 & \"govt cusip\",H$1)","v":{"$error":"#NAME?"}},{"$f":"_xll.BDP($A57 & \"govt cusip\",I$1)","v":{"$error":"#NAME?"}},{"$f":"_xll.BDP($A57 & \"govt cusip\",J$1)","v":{"$error":"#NAME?"}},{"$f":"_xll.BDP($A57 & \"govt cusip\",K$1)","v":{"$error":"#NAME?"}},{"$f":"_xll.BDP($A57 & \"govt cusip\",L$1)","v":{"$error":"#NAME?"}},{"$f":"_xll.BDP($A57 & \"govt cusip\",M$1)","v":{"$error":"#NAME?"}},{"$f":"_xll.BDP($A57 & \"govt cusip\",N$1)","v":{"$error":"#NAME?"}}]
["912828HY9",{"$f":"_xll.BDP($A58 & \"govt cusip\",B$1)","v":{"$error":"#NAME?"}},{"$f":"_xll.BDP($A58 & \"govt cusip\",C$1)","v":{"$error":"#NAME?"}},{"$f":"_xll.BDP($A58 & \"govt cusip\",D$1)","v":{"$error":"#NAME?"}},{"$f":"_xll.BDP($A58 & \"govt cusip\",\"PX_BID\")","v":{"$error":"#NAME?"}},{"$f":"_xll.BDP($A58 & \"govt cusip\",\"PX_ASK\")","v":{"$error":"#NAME?"}},{"$f":"_xll.BDP($A58 & \"govt cusip\",G$1)","v":{"$error":"#NAME?"}},{"$f":"_xll.BDP($A58 & \"govt cusip\",H$1)","v":{"$error":"#NAME?"}},{"$f":"_xll.BDP($A58 & \"govt cusip\",I$1)","v":{"$error":"#NAME?"}},{"$f":"_xll.BDP($A58 & \"govt cusip\",J$1)","v":{"$error":"#NAME?"}},{"$f":"_xll.BDP($A58 & \"govt cusip\",K$1)","v":{"$error":"#NAME?"}},{"$f":"_xll.BDP($A58 & \"govt cusip\",L$1)","v":{"$error":"#NAME?"}},{"$f":"_xll.BDP($A58 & \"govt cusip\",M$1)","v":{"$error":"#NAME?"}},{"$f":"_xll.BDP($A58 & \"govt cusip\",N$1)","v":{"$error":"#NAME?"}}]
["912828BA7",{"$f":"_xll.BDP($A59 & \"govt cusip\",B$1)","v":{"$error":"#NAME?"}},{"$f":"_xll.BDP($A59 & \"govt cusip\",C$1)","v":{"$error":"#NAME?"}},{"$f":"_xll.BDP($A59 & \"govt cusip\",D$1)","v":{"$error":"#NAME?"}},{"$f":"_xll.BDP($A59 & \"govt cusip\",\"PX_BID\")","v":{"$error":"#NAME?"}},{"$f":"_xll.BDP($A59 & \"govt cusip\",\"PX_ASK\")","v":{"$error":"#NAME?"}},{"$f":"_xll.BDP($A59 & \"govt cusip\",G$1)","v":{"$error":"#NAME?"}},{"$f":"_xll.BDP($A59 & \"govt cusip\",H$1)","v":{"$error":"#NAME?"}},{"$f":"_xll.BDP($A59 & \"govt cusip\",I$1)","v":{"$error":"#NAME?"}},{"$f":"_xll.BDP($A59 & \"govt cusip\",J$1)","v":{"$error":"#NAME?"}},{"$f":"_xll.BDP($A59 & \"govt cusip\",K$1)","v":{"$error":"#NAME?"}},{"$f":"_xll.BDP($A59 & \"govt cusip\",L$1)","v":{"$error":"#NAME?"}},{"$f":"_xll.BDP($A59 & \"govt cusip\",M$1)","v":{"$error":"#NAME?"}},{"$f":"_xll.BDP($A59 & \"govt cusip\",N$1)","v":{"$error":"#NAME?"}}]
["912828JB7",{"$f":"_xll.BDP($A60 & \"govt cusip\",B$1)","v":{"$error":"#NAME?"}},{"$f":"_xll.BDP($A60 & \"govt cusip\",C$1)","v":{"$error":"#NAME?"}},{"$f":"_xll.BDP($A60 & \"govt cusip\",D$1)","v":{"$error":"#NAME?"}},{"$f":"_xll.BDP($A60 & \"govt cusip\",\"PX_BID\")","v":{"$error":"#NAME?"}},{"$f":"_xll.BDP($A60 & \"govt cusip\",\"PX_ASK\")","v":{"$error":"#NAME?"}},{"$f":"_xll.BDP($A60 & \"govt cusip\",G$1)","v":{"$error":"#NAME?"}},{"$f":"_xll.BDP($A60 & \"govt cusip\",H$1)","v":{"$error":"#NAME?"}},{"$f":"_xll.BDP($A60 & \"govt cusip\",I$1)","v":{"$error":"#NAME?"}},{"$f":"_xll.BDP($A60 & \"govt cusip\",J$1)","v":{"$error":"#NAME?"}},{"$f":"_xll.BDP($A60 & \"govt cusip\",K$1)","v":{"$error":"#NAME?"}},{"$f":"_xll.BDP($A60 & \"govt cusip\",L$1)","v":{"$error":"#NAME?"}},{"$f":"_xll.BDP($A60 & \"govt cusip\",M$1)","v":{"$error":"#NAME?"}},{"$f":"_xll.BDP($A60 & \"govt cusip\",N$1)","v":{"$error":"#NAME?"}}]
["912828JD3",{"$f":"_xll.BDP($A61 & \"govt cusip\",B$1)","v":{"$error":"#NAME?"}},{"$f":"_xll.BDP($A61 & \"govt cusip\",C$1)","v":{"$error":"#NAME?"}},{"$f":"_xll.BDP($A61 & \"govt cusip\",D$1)","v":{"$error":"#NAME?"}},{"$f":"_xll.BDP($A61 & \"govt cusip\",\"PX_BID\")","v":{"$error":"#NAME?"}},{"$f":"_xll.BDP($A61 & \"govt cusip\",\"PX_ASK\")","v":{"$error":"#NAME?"}},{"$f":"_xll.BDP($A61 & \"govt cusip\",G$1)","v":{"$error":"#NAME?"}},{"$f":"_xll.BDP($A61 & \"govt cusip\",H$1)","v":{"$error":"#NAME?"}},{"$f":"_xll.BDP($A61 & \"govt cusip\",I$1)","v":{"$error":"#NAME?"}},{"$f":"_xll.BDP($A61 & \"govt cusip\",J$1)","v":{"$error":"#NAME?"}},{"$f":"_xll.BDP($A61 & \"govt cusip\",K$1)","v":{"$error":"#NAME?"}},{"$f":"_xll.BDP($A61 & \"govt cusip\",L$1)","v":{"$error":"#NAME?"}},{"$f":"_xll.BDP($A61 & \"govt cusip\",M$1)","v":{"$error":"#NAME?"}},{"$f":"_xll.BDP($A61 & \"govt cusip\",N$1)","v":{"$error":"#NAME?"}}]
["912828BH2",{"$f":"_xll.BDP($A62 & \"govt cusip\",B$1)","v":{"$error":"#NAME?"}},{"$f":"_xll.BDP($A62 & \"govt cusip\",C$1)","v":{"$error":"#NAME?"}},{"$f":"_xll.BDP($A62 & \"govt cusip\",D$1)","v":{"$error":"#NAME?"}},{"$f":"_xll.BDP($A62 & \"govt cusip\",\"PX_BID\")","v":{"$error":"#NAME?"}},{"$f":"_xll.BDP($A62 & \"govt cusip\",\"PX_ASK\")","v":{"$error":"#NAME?"}},{"$f":"_xll.BDP($A62 & \"govt cusip\",G$1)","v":{"$error":"#NAME?"}},{"$f":"_xll.BDP($A62 & \"govt cusip\",H$1)","v":{"$error":"#NAME?"}},{"$f":"_xll.BDP($A62 & \"govt cusip\",I$1)","v":{"$error":"#NAME?"}},{"$f":"_xll.BDP($A62 & \"govt cusip\",J$1)","v":{"$error":"#NAME?"}},{"$f":"_xll.BDP($A62 & \"govt cusip\",K$1)","v":{"$error":"#NAME?"}},{"$f":"_xll.BDP($A62 & \"govt cusip\",L$1)","v":{"$error":"#NAME?"}},{"$f":"_xll.BDP($A62 & \"govt cusip\",M$1)","v":{"$error":"#NAME?"}},{"$f":"_xll.BDP($A62 & \"govt cusip\",N$1)","v":{"$error":"#NAME?"}}]
["912828BR0",{"$f":"_xll.BDP($A63 & \"govt cusip\",B$1)","v":{"$error":"#NAME?"}},{"$f":"_xll.BDP($A63 & \"govt cusip\",C$1)","v":{"$error":"#NAME?"}},{"$f":"_xll.BDP($A63 & \"govt cusip\",D$1)","v":{"$error":"#NAME?"}},{"$f":"_xll.BDP($A63 & \"govt cusip\",\"PX_BID\")","v":{"$error":"#NAME?"}},{"$f":"_xll.BDP($A63 & \"govt cusip\",\"PX_ASK\")","v":{"$error":"#NAME?"}},{"$f":"_xll.BDP($A63 & \"govt cusip\",G$1)","v":{"$error":"#NAME?"}},{"$f":"_xll.BDP($A63 & \"govt cusip\",H$1)","v":{"$error":"#NAME?"}},{"$f":"_xll.BDP($A63 & \"govt cusip\",I$1)","v":{"$error":"#NAME?"}},{"$f":"_xll.BDP($A63 & \"govt cusip\",J$1)","v":{"$error":"#NAME?"}},{"$f":"_xll.BDP($A63 & \"govt cusip\",K$1)","v":{"$error":"#NAME?"}},{"$f":"_xll.BDP($A63 & \"govt cusip\",L$1)","v":{"$error":"#NAME?"}},{"$f":"_xll.BDP($A63 & \"govt cusip\",M$1)","v":{"$error":"#NAME?"}},{"$f":"_xll.BDP($A63 & \"govt cusip\",N$1)","v":{"$error":"#NAME?"}}]
["912828CA6",{"$f":"_xll.BDP($A64 & \"govt cusip\",B$1)","v":{"$error":"#NAME?"}},{"$f":"_xll.BDP($A64 & \"govt cusip\",C$1)","v":{"$error":"#NAME?"}},{"$f":"_xll.BDP($A64 & \"govt cusip\",D$1)","v":{"$error":"#NAME?"}},{"$f":"_xll.BDP($A64 & \"govt cusip\",\"PX_BID\")","v":{"$error":"#NAME?"}},{"$f":"_xll.BDP($A64 & \"govt cusip\",\"PX_ASK\")","v":{"$error":"#NAME?"}},{"$f":"_xll.BDP($A64 & \"govt cusip\",G$1)","v":{"$error":"#NAME?"}},{"$f":"_xll.BDP($A64 & \"govt cusip\",H$1)","v":{"$error":"#NAME?"}},{"$f":"_xll.BDP($A64 & \"govt cusip\",I$1)","v":{"$error":"#NAME?"}},{"$f":"_xll.BDP($A64 & \"govt cusip\",J$1)","v":{"$error":"#NAME?"}},{"$f":"_xll.BDP($A64 & \"govt cusip\",K$1)","v":{"$error":"#NAME?"}},{"$f":"_xll.BDP($A64 & \"govt cusip\",L$1)","v":{"$error":"#NAME?"}},{"$f":"_xll.BDP($A64 & \"govt cusip\",M$1)","v":{"$error":"#NAME?"}},{"$f":"_xll.BDP($A64 & \"govt cusip\",N$1)","v":{"$error":"#NAME?"}}]
["912828CJ7",{"$f":"_xll.BDP($A65 & \"govt cusip\",B$1)","v":{"$error":"#NAME?"}},{"$f":"_xll.BDP($A65 & \"govt cusip\",C$1)","v":{"$error":"#NAME?"}},{"$f":"_xll.BDP($A65 & \"govt cusip\",D$1)","v":{"$error":"#NAME?"}},{"$f":"_xll.BDP($A65 & \"govt cusip\",\"PX_BID\")","v":{"$error":"#NAME?"}},{"$f":"_xll.BDP($A65 & \"govt cusip\",\"PX_ASK\")","v":{"$error":"#NAME?"}},{"$f":"_xll.BDP($A65 & \"govt cusip\",G$1)","v":{"$error":"#NAME?"}},{"$f":"_xll.BDP($A65 & \"govt cusip\",H$1)","v":{"$error":"#NAME?"}},{"$f":"_xll.BDP($A65 & \"govt cusip\",I$1)","v":{"$error":"#NAME?"}},{"$f":"_xll.BDP($A65 & \"govt cusip\",J$1)","v":{"$error":"#NAME?"}},{"$f":"_xll.BDP($A65 & \"govt cusip\",K$1)","v":{"$error":"#NAME?"}},{"$f":"_xll.BDP($A65 & \"govt cusip\",L$1)","v":{"$error":"#NAME?"}},{"$f":"_xll.BDP($A65 & \"govt cusip\",M$1)","v":{"$error":"#NAME?"}},{"$f":"_xll.BDP($A65 & \"govt cusip\",N$1)","v":{"$error":"#NAME?"}}]
["912828CT5",{"$f":"_xll.BDP($A66 & \"govt cusip\",B$1)","v":{"$error":"#NAME?"}},{"$f":"_xll.BDP($A66 & \"govt cusip\",C$1)","v":{"$error":"#NAME?"}},{"$f":"_xll.BDP($A66 & \"govt cusip\",D$1)","v":{"$error":"#NAME?"}},{"$f":"_xll.BDP($A66 & \"govt cusip\",\"PX_BID\")","v":{"$error":"#NAME?"}},{"$f":"_xll.BDP($A66 & \"govt cusip\",\"PX_ASK\")","v":{"$error":"#NAME?"}},{"$f":"_xll.BDP($A66 & \"govt cusip\",G$1)","v":{"$error":"#NAME?"}},{"$f":"_xll.BDP($A66 & \"govt cusip\",H$1)","v":{"$error":"#NAME?"}},{"$f":"_xll.BDP($A66 & \"govt cusip\",I$1)","v":{"$error":"#NAME?"}},{"$f":"_xll.BDP($A66 & \"govt cusip\",J$1)","v":{"$error":"#NAME?"}},{"$f":"_xll.BDP($A66 & \"govt cusip\",K$1)","v":{"$error":"#NAME?"}},{"$f":"_xll.BDP($A66 & \"govt cusip\",L$1)","v":{"$error":"#NAME?"}},{"$f":"_xll.BDP($A66 & \"govt cusip\",M$1)","v":{"$error":"#NAME?"}},{"$f":"_xll.BDP($A66 & \"govt cusip\",N$1)","v":{"$error":"#NAME?"}}]
["912828DC1",{"$f":"_xll.BDP($A67 & \"govt cusip\",B$1)","v":{"$error":"#NAME?"}},{"$f":"_xll.BDP($A67 & \"govt cusip\",C$1)","v":{"$error":"#NAME?"}},{"$f":"_xll.BDP($A67 & \"govt cusip\",D$1)","v":{"$error":"#NAME?"}},{"$f":"_xll.BDP($A67 & \"govt cusip\",\"PX_BID\")","v":{"$error":"#NAME?"}},{"$f":"_xll.BDP($A67 & \"govt cusip\",\"PX_ASK\")","v":{"$error":"#NAME?"}},{"$f":"_xll.BDP($A67 & \"govt cusip\",G$1)","v":{"$error":"#NAME?"}},{"$f":"_xll.BDP($A67 & \"govt cusip\",H$1)","v":{"$error":"#NAME?"}},{"$f":"_xll.BDP($A67 & \"govt cusip\",I$1)","v":{"$error":"#NAME?"}},{"$f":"_xll.BDP($A67 & \"govt cusip\",J$1)","v":{"$error":"#NAME?"}},{"$f":"_xll.BDP($A67 & \"govt cusip\",K$1)","v":{"$error":"#NAME?"}},{"$f":"_xll.BDP($A67 & \"govt cusip\",L$1)","v":{"$error":"#NAME?"}},{"$f":"_xll.BDP($A67 & \"govt cusip\",M$1)","v":{"$error":"#NAME?"}},{"$f":"_xll.BDP($A67 & \"govt cusip\",N$1)","v":{"$error":"#NAME?"}}]
["912828DM9",{"$f":"_xll.BDP($A68 & \"govt cusip\",B$1)","v":{"$error":"#NAME?"}},{"$f":"_xll.BDP($A68 & \"govt cusip\",C$1)","v":{"$error":"#NAME?"}},{"$f":"_xll.BDP($A68 & \"govt cusip\",D$1)","v":{"$error":"#NAME?"}},{"$f":"_xll.BDP($A68 & \"govt cusip\",\"PX_BID\")","v":{"$error":"#NAME?"}},{"$f":"_xll.BDP($A68 & \"govt cusip\",\"PX_ASK\")","v":{"$error":"#NAME?"}},{"$f":"_xll.BDP($A68 & \"govt cusip\",G$1)","v":{"$error":"#NAME?"}},{"$f":"_xll.BDP($A68 & \"govt cusip\",H$1)","v":{"$error":"#NAME?"}},{"$f":"_xll.BDP($A68 & \"govt cusip\",I$1)","v":{"$error":"#NAME?"}},{"$f":"_xll.BDP($A68 & \"govt cusip\",J$1)","v":{"$error":"#NAME?"}},{"$f":"_xll.BDP($A68 & \"govt cusip\",K$1)","v":{"$error":"#NAME?"}},{"$f":"_xll.BDP($A68 & \"govt cusip\",L$1)","v":{"$error":"#NAME?"}},{"$f":"_xll.BDP($A68 & \"govt cusip\",M$1)","v":{"$error":"#NAME?"}},{"$f":"_xll.BDP($A68 & \"govt cusip\",N$1)","v":{"$error":"#NAME?"}}]
["912828DV9",{"$f":"_xll.BDP($A69 & \"govt cusip\",B$1)","v":{"$error":"#NAME?"}},{"$f":"_xll.BDP($A69 & \"govt cusip\",C$1)","v":{"$error":"#NAME?"}},{"$f":"_xll.BDP($A69 & \"govt cusip\",D$1)","v":{"$error":"#NAME?"}},{"$f":"_xll.BDP($A69 & \"govt cusip\",\"PX_BID\")","v":{"$error":"#NAME?"}},{"$f":"_xll.BDP($A69 & \"govt cusip\",\"PX_ASK\")","v":{"$error":"#NAME?"}},{"$f":"_xll.BDP($A69 & \"govt cusip\",G$1)","v":{"$error":"#NAME?"}},{"$f":"_xll.BDP($A69 & \"govt cusip\",H$1)","v":{"$error":"#NAME?"}},{"$f":"_xll.BDP($A69 & \"govt cusip\",I$1)","v":{"$error":"#NAME?"}},{"$f":"_xll.BDP($A69 & \"govt cusip\",J$1)","v":{"$error":"#NAME?"}},{"$f":"_xll.BDP($A69 & \"govt cusip\",K$1)","v":{"$error":"#NAME?"}},{"$f":"_xll.BDP($A69 & \"govt cusip\",L$1)","v":{"$error":"#NAME?"}},{"$f":"_xll.BDP($A69 & \"govt cusip\",M$1)","v":{"$error":"#NAME?"}},{"$f":"_xll.BDP($A69 & \"govt cusip\",N$1)","v":{"$error":"#NAME?"}}]
["912828EE6",{"$f":"_xll.BDP($A70 & \"govt cusip\",B$1)","v":{"$error":"#NAME?"}},{"$f":"_xll.BDP($A70 & \"govt cusip\",C$1)","v":{"$error":"#NAME?"}},{"$f":"_xll.BDP($A70 & \"govt cusip\",D$1)","v":{"$error":"#NAME?"}},{"$f":"_xll.BDP($A70 & \"govt cusip\",\"PX_BID\")","v":{"$error":"#NAME?"}},{"$f":"_xll.BDP($A70 & \"govt cusip\",\"PX_ASK\")","v":{"$error":"#NAME?"}},{"$f":"_xll.BDP($A70 & \"govt cusip\",G$1)","v":{"$error":"#NAME?"}},{"$f":"_xll.BDP($A70 & \"govt cusip\",H$1)","v":{"$error":"#NAME?"}},{"$f":"_xll.BDP($A70 & \"govt cusip\",I$1)","v":{"$error":"#NAME?"}},{"$f":"_xll.BDP($A70 & \"govt cusip\",J$1)","v":{"$error":"#NAME?"}},{"$f":"_xll.BDP($A70 & \"govt cusip\",K$1)","v":{"$error":"#NAME?"}},{"$f":"_xll.BDP($A70 & \"govt cusip\",L$1)","v":{"$error":"#NAME?"}},{"$f":"_xll.BDP($A70 & \"govt cusip\",M$1)","v":{"$error":"#NAME?"}},{"$f":"_xll.BDP($A70 & \"govt cusip\",N$1)","v":{"$error":"#NAME?"}}]
["912828EN6",{"$f":"_xll.BDP($A71 & \"govt cusip\",B$1)","v":{"$error":"#NAME?"}},{"$f":"_xll.BDP($A71 & \"govt cusip\",C$1)","v":{"$error":"#NAME?"}},{"$f":"_xll.BDP($A71 & \"govt cusip\",D$1)","v":{"$error":"#NAME?"}},{"$f":"_xll.BDP($A71 & \"govt cusip\",\"PX_BID\")","v":{"$error":"#NAME?"}},{"$f":"_xll.BDP($A71 & \"govt cusip\",\"PX_ASK\")","v":{"$error":"#NAME?"}},{"$f":"_xll.BDP($A71 & \"govt cusip\",G$1)","v":{"$error":"#NAME?"}},{"$f":"_xll.BDP($A71 & \"govt cusip\",H$1)","v":{"$error":"#NAME?"}},{"$f":"_xll.BDP($A71 & \"govt cusip\",I$1)","v":{"$error":"#NAME?"}},{"$f":"_xll.BDP($A71 & \"govt cusip\",J$1)","v":{"$error":"#NAME?"}},{"$f":"_xll.BDP($A71 & \"govt cusip\",K$1)","v":{"$error":"#NAME?"}},{"$f":"_xll.BDP($A71 & \"govt cusip\",L$1)","v":{"$error":"#NAME?"}},{"$f":"_xll.BDP($A71 & \"govt cusip\",M$1)","v":{"$error":"#NAME?"}},{"$f":"_xll.BDP($A71 & \"govt cusip\",N$1)","v":{"$error":"#NAME?"}}]
["912828EW6",{"$f":"_xll.BDP($A72 & \"govt cusip\",B$1)","v":{"$error":"#NAME?"}},{"$f":"_xll.BDP($A72 & \"govt cusip\",C$1)","v":{"$error":"#NAME?"}},{"$f":"_xll.BDP($A72 & \"govt cusip\",D$1)","v":{"$error":"#NAME?"}},{"$f":"_xll.BDP($A72 & \"govt cusip\",\"PX_BID\")","v":{"$error":"#NAME?"}},{"$f":"_xll.BDP($A72 & \"govt cusip\",\"PX_ASK\")","v":{"$error":"#NAME?"}},{"$f":"_xll.BDP($A72 & \"govt cusip\",G$1)","v":{"$error":"#NAME?"}},{"$f":"_xll.BDP($A72 & \"govt cusip\",H$1)","v":{"$error":"#NAME?"}},{"$f":"_xll.BDP($A72 & \"govt cusip\",I$1)","v":{"$error":"#NAME?"}},{"$f":"_xll.BDP($A72 & \"govt cusip\",J$1)","v":{"$error":"#NAME?"}},{"$f":"_xll.BDP($A72 & \"govt cusip\",K$1)","v":{"$error":"#NAME?"}},{"$f":"_xll.BDP($A72 & \"govt cusip\",L$1)","v":{"$error":"#NAME?"}},{"$f":"_xll.BDP($A72 & \"govt cusip\",M$1)","v":{"$error":"#NAME?"}},{"$f":"_xll.BDP($A72 & \"govt cusip\",N$1)","v":{"$error":"#NAME?"}}]
["912828FF2",{"$f":"_xll.BDP($A73 & \"govt cusip\",B$1)","v":{"$error":"#NAME?"}},{"$f":"_xll.BDP($A73 & \"govt cusip\",C$1)","v":{"$error":"#NAME?"}},{"$f":"_xll.BDP($A73 & \"govt cusip\",D$1)","v":{"$error":"#NAME?"}},{"$f":"_xll.BDP($A73 & \"govt cusip\",\"PX_BID\")","v":{"$error":"#NAME?"}},{"$f":"_xll.BDP($A73 & \"govt cusip\",\"PX_ASK\")","v":{"$error":"#NAME?"}},{"$f":"_xll.BDP($A73 & \"govt cusip\",G$1)","v":{"$error":"#NAME?"}},{"$f":"_xll.BDP($A73 & \"govt cusip\",H$1)","v":{"$error":"#NAME?"}},{"$f":"_xll.BDP($A73 & \"govt cusip\",I$1)","v":{"$error":"#NAME?"}},{"$f":"_xll.BDP($A73 & \"govt cusip\",J$1)","v":{"$error":"#NAME?"}},{"$f":"_xll.BDP($A73 & \"govt cusip\",K$1)","v":{"$error":"#NAME?"}},{"$f":"_xll.BDP($A73 & \"govt cusip\",L$1)","v":{"$error":"#NAME?"}},{"$f":"_xll.BDP($A73 & \"govt cusip\",M$1)","v":{"$error":"#NAME?"}},{"$f":"_xll.BDP($A73 & \"govt cusip\",N$1)","v":{"$error":"#NAME?"}}]
["912828FQ8",{"$f":"_xll.BDP($A74 & \"govt cusip\",B$1)","v":{"$error":"#NAME?"}},{"$f":"_xll.BDP($A74 & \"govt cusip\",C$1)","v":{"$error":"#NAME?"}},{"$f":"_xll.BDP($A74 & \"govt cusip\",D$1)","v":{"$error":"#NAME?"}},{"$f":"_xll.BDP($A74 & \"govt cusip\",\"PX_BID\")","v":{"$error":"#NAME?"}},{"$f":"_xll.BDP($A74 & \"govt cusip\",\"PX_ASK\")","v":{"$error":"#NAME?"}},{"$f":"_xll.BDP($A74 & \"govt cusip\",G$1)","v":{"$error":"#NAME?"}},{"$f":"_xll.BDP($A74 & \"govt cusip\",H$1)","v":{"$error":"#NAME?"}},{"$f":"_xll.BDP($A74 & \"govt cusip\",I$1)","v":{"$error":"#NAME?"}},{"$f":"_xll.BDP($A74 & \"govt cusip\",J$1)","v":{"$error":"#NAME?"}},{"$f":"_xll.BDP($A74 & \"govt cusip\",K$1)","v":{"$error":"#NAME?"}},{"$f":"_xll.BDP($A74 & \"govt cusip\",L$1)","v":{"$error":"#NAME?"}},{"$f":"_xll.BDP($A74 & \"govt cusip\",M$1)","v":{"$error":"#NAME?"}},{"$f":"_xll.BDP($A74 & \"govt cusip\",N$1)","v":{"$error":"#NAME?"}}]
["912828FY1",{"$f":"_xll.BDP($A75 & \"govt cusip\",B$1)","v":{"$error":"#NAME?"}},{"$f":"_xll.BDP($A75 & \"govt cusip\",C$1)","v":{"$error":"#NAME?"}},{"$f":"_xll.BDP($A75 & \"govt cusip\",D$1)","v":{"$error":"#NAME?"}},{"$f":"_xll.BDP($A75 & \"govt cusip\",\"PX_BID\")","v":{"$error":"#NAME?"}},{"$f":"_xll.BDP($A75 & \"govt cusip\",\"PX_ASK\")","v":{"$error":"#NAME?"}},{"$f":"_xll.BDP($A75 & \"govt cusip\",G$1)","v":{"$error":"#NAME?"}},{"$f":"_xll.BDP($A75 & \"govt cusip\",H$1)","v":{"$error":"#NAME?"}},{"$f":"_xll.BDP($A75 & \"govt cusip\",I$1)","v":{"$error":"#NAME?"}},{"$f":"_xll.BDP($A75 & \"govt cusip\",J$1)","v":{"$error":"#NAME?"}},{"$f":"_xll.BDP($A75 & \"govt cusip\",K$1)","v":{"$error":"#NAME?"}},{"$f":"_xll.BDP($A75 & \"govt cusip\",L$1)","v":{"$error":"#NAME?"}},{"$f":"_xll.BDP($A75 & \"govt cusip\",M$1)","v":{"$error":"#NAME?"}},{"$f":"_xll.BDP($A75 & \"govt cusip\",N$1)","v":{"$error":"#NAME?"}}]
["912828GH7",{"$f":"_xll.BDP($A76 & \"govt cusip\",B$1)","v":{"$error":"#NAME?"}},{"$f":"_xll.BDP($A76 & \"govt cusip\",C$1)","v":{"$error":"#NAME?"}},{"$f":"_xll.BDP($A76 & \"govt cusip\",D$1)","v":{"$error":"#NAME?"}},{"$f":"_xll.BDP($A76 & \"govt cusip\",\"PX_BID\")","v":{"$error":"#NAME?"}},{"$f":"_xll.BDP($A76 & \"govt cusip\",\"PX_ASK\")","v":{"$error":"#NAME?"}},{"$f":"_xll.BDP($A76 & \"govt cusip\",G$1)","v":{"$error":"#NAME?"}},{"$f":"_xll.BDP($A76 & \"govt cusip\",H$1)","v":{"$error":"#NAME?"}},{"$f":"_xll.BDP($A76 & \"govt cusip\",I$1)","v":{"$error":"#NAME?"}},{"$f":"_xll.BDP($A76 & \"govt cusip\",J$1)","v":{"$error":"#NAME?"}},{"$f":"_xll.BDP($A76 & \"govt cusip\",K$1)","v":{"$error":"#NAME?"}},{"$f":"_xll.BDP($A76 & \"govt cusip\",L$1)","v":{"$error":"#NAME?"}},{"$f":"_xll.BDP($A76 & \"govt cusip\",M$1)","v":{"$error":"#NAME?"}},{"$f":"_xll.BDP($A76 & \"govt cusip\",N$1)","v":{"$error":"#NAME?"}}]
["912828GS3",{"$f":"_xll.BDP($A77 & \"govt cusip\",B$1)","v":{"$error":"#NAME?"}},{"$f":"_xll.BDP($A77 & \"govt cusip\",C$1)","v":{"$error":"#NAME?"}},{"$f":"_xll.BDP($A77 & \"govt cusip\",D$1)","v":{"$error":"#NAME?"}},{"$f":"_xll.BDP($A77 & \"govt cusip\",\"PX_BID\")","v":{"$error":"#NAME?"}},{"$f":"_xll.BDP($A77 & \"govt cusip\",\"PX_ASK\")","v":{"$error":"#NAME?"}},{"$f":"_xll.BDP($A77 & \"govt cusip\",G$1)","v":{"$error":"#NAME?"}},{"$f":"_xll.BDP($A77 & \"govt cusip\",H$1)","v":{"$error":"#NAME?"}},{"$f":"_xll.BDP($A77 & \"govt cusip\",I$1)","v":{"$error":"#NAME?"}},{"$f":"_xll.BDP($A77 & \"govt cusip\",J$1)","v":{"$error":"#NAME?"}},{"$f":"_xll.BDP($A77 & \"govt cusip\",K$1)","v":{"$error":"#NAME?"}},{"$f":"_xll.BDP($A77 & \"govt cusip\",L$1)","v":{"$error":"#NAME?"}},{"$f":"_xll.BDP($A77 & \"govt cusip\",M$1)","v":{"$error":"#NAME?"}},{"$f":"_xll.BDP($A77 & \"govt cusip\",N$1)","v":{"$error":"#NAME?"}}]
["912828HA1",{"$f":"_xll.BDP($A78 & \"govt cusip\",B$1)","v":{"$error":"#NAME?"}},{"$f":"_xll.BDP($A78 & \"govt cusip\",C$1)","v":{"$error":"#NAME?"}},{"$f":"_xll.BDP($A78 & \"govt cusip\",D$1)","v":{"$error":"#NAME?"}},{"$f":"_xll.BDP($A78 & \"govt cusip\",\"PX_BID\")","v":{"$error":"#NAME?"}},{"$f":"_xll.BDP($A78 & \"govt cusip\",\"PX_ASK\")","v":{"$error":"#NAME?"}},{"$f":"_xll.BDP($A78 & \"govt cusip\",G$1)","v":{"$error":"#NAME?"}},{"$f":"_xll.BDP($A78 & \"govt cusip\",H$1)","v":{"$error":"#NAME?"}},{"$f":"_xll.BDP($A78 & \"govt cusip\",I$1)","v":{"$error":"#NAME?"}},{"$f":"_xll.BDP($A78 & \"govt cusip\",J$1)","v":{"$error":"#NAME?"}},{"$f":"_xll.BDP($A78 & \"govt cusip\",K$1)","v":{"$error":"#NAME?"}},{"$f":"_xll.BDP($A78 & \"govt cusip\",L$1)","v":{"$error":"#NAME?"}},{"$f":"_xll.BDP($A78 & \"govt cusip\",M$1)","v":{"$error":"#NAME?"}},{"$f":"_xll.BDP($A78 & \"govt cusip\",N$1)","v":{"$error":"#NAME?"}}]
["912828HH6",{"$f":"_xll.BDP($A79 & \"govt cusip\",B$1)","v":{"$error":"#NAME?"}},{"$f":"_xll.BDP($A79 & \"govt cusip\",C$1)","v":{"$error":"#NAME?"}},{"$f":"_xll.BDP($A79 & \"govt cusip\",D$1)","v":{"$error":"#NAME?"}},{"$f":"_xll.BDP($A79 & \"govt cusip\",\"PX_BID\")","v":{"$error":"#NAME?"}},{"$f":"_xll.BDP($A79 & \"govt cusip\",\"PX_ASK\")","v":{"$error":"#NAME?"}},{"$f":"_xll.BDP($A79 & \"govt cusip\",G$1)","v":{"$error":"#NAME?"}},{"$f":"_xll.BDP($A79 & \"govt cusip\",H$1)","v":{"$error":"#NAME?"}},{"$f":"_xll.BDP($A79 & \"govt cusip\",I$1)","v":{"$error":"#NAME?"}},{"$f":"_xll.BDP($A79 & \"govt cusip\",J$1)","v":{"$error":"#NAME?"}},{"$f":"_xll.BDP($A79 & \"govt cusip\",K$1)","v":{"$error":"#NAME?"}},{"$f":"_xll.BDP($A79 & \"govt cusip\",L$1)","v":{"$error":"#NAME?"}},{"$f":"_xll.BDP($A79 & \"govt cusip\",M$1)","v":{"$error":"#NAME?"}},{"$f":"_xll.BDP($A79 & \"govt cusip\",N$1)","v":{"$error":"#NAME?"}}]
["912828HR4",{"$f":"_xll.BDP($A80 & \"govt cusip\",B$1)","v":{"$error":"#NAME?"}},{"$f":"_xll.BDP($A80 & \"govt cusip\",C$1)","v":{"$error":"#NAME?"}},{"$f":"_xll.BDP($A80 & \"govt cusip\",D$1)","v":{"$error":"#NAME?"}},{"$f":"_xll.BDP($A80 & \"govt cusip\",\"PX_BID\")","v":{"$error":"#NAME?"}},{"$f":"_xll.BDP($A80 & \"govt cusip\",\"PX_ASK\")","v":{"$error":"#NAME?"}},{"$f":"_xll.BDP($A80 & \"govt cusip\",G$1)","v":{"$error":"#NAME?"}},{"$f":"_xll.BDP($A80 & \"govt cusip\",H$1)","v":{"$error":"#NAME?"}},{"$f":"_xll.BDP($A80 & \"govt cusip\",I$1)","v":{"$error":"#NAME?"}},{"$f":"_xll.BDP($A80 & \"govt cusip\",J$1)","v":{"$error":"#NAME?"}},{"$f":"_xll.BDP($A80 & \"govt cusip\",K$1)","v":{"$error":"#NAME?"}},{"$f":"_xll.BDP($A80 & \"govt cusip\",L$1)","v":{"$error":"#NAME?"}},{"$f":"_xll.BDP($A80 & \"govt cusip\",M$1)","v":{"$error":"#NAME?"}},{"$f":"_xll.BDP($A80 & \"govt cusip\",N$1)","v":{"$error":"#NAME?"}}]
["912828HZ6",{"$f":"_xll.BDP($A81 & \"govt cusip\",B$1)","v":{"$error":"#NAME?"}},{"$f":"_xll.BDP($A81 & \"govt cusip\",C$1)","v":{"$error":"#NAME?"}},{"$f":"_xll.BDP($A81 & \"govt cusip\",D$1)","v":{"$error":"#NAME?"}},{"$f":"_xll.BDP($A81 & \"govt cusip\",\"PX_BID\")","v":{"$error":"#NAME?"}},{"$f":"_xll.BDP($A81 & \"govt cusip\",\"PX_ASK\")","v":{"$error":"#NAME?"}},{"$f":"_xll.BDP($A81 & \"govt cusip\",G$1)","v":{"$error":"#NAME?"}},{"$f":"_xll.BDP($A81 & \"govt cusip\",H$1)","v":{"$error":"#NAME?"}},{"$f":"_xll.BDP($A81 & \"govt cusip\",I$1)","v":{"$error":"#NAME?"}},{"$f":"_xll.BDP($A81 & \"govt cusip\",J$1)","v":{"$error":"#NAME?"}},{"$f":"_xll.BDP($A81 & \"govt cusip\",K$1)","v":{"$error":"#NAME?"}},{"$f":"_xll.BDP($A81 & \"govt cusip\",L$1)","v":{"$error":"#NAME?"}},{"$f":"_xll.BDP($A81 & \"govt cusip\",M$1)","v":{"$error":"#NAME?"}},{"$f":"_xll.BDP($A81 & \"govt cusip\",N$1)","v":{"$error":"#NAME?"}}]
["912810DP0",{"$f":"_xll.BDP($A82 & \"govt cusip\",B$1)","v":{"$error":"#NAME?"}},{"$f":"_xll.BDP($A82 & \"govt cusip\",C$1)","v":{"$error":"#NAME?"}},{"$f":"_xll.BDP($A82 & \"govt cusip\",D$1)","v":{"$error":"#NAME?"}},{"$f":"_xll.BDP($A82 & \"govt cusip\",\"PX_BID\")","v":{"$error":"#NAME?"}},{"$f":"_xll.BDP($A82 & \"govt cusip\",\"PX_ASK\")","v":{"$error":"#NAME?"}},{"$f":"_xll.BDP($A82 & \"govt cusip\",G$1)","v":{"$error":"#NAME?"}},{"$f":"_xll.BDP($A82 & \"govt cusip\",H$1)","v":{"$error":"#NAME?"}},{"$f":"_xll.BDP($A82 & \"govt cusip\",I$1)","v":{"$error":"#NAME?"}},{"$f":"_xll.BDP($A82 & \"govt cusip\",J$1)","v":{"$error":"#NAME?"}},{"$f":"_xll.BDP($A82 & \"govt cusip\",K$1)","v":{"$error":"#NAME?"}},{"$f":"_xll.BDP($A82 & \"govt cusip\",L$1)","v":{"$error":"#NAME?"}},{"$f":"_xll.BDP($A82 & \"govt cusip\",M$1)","v":{"$error":"#NAME?"}},{"$f":"_xll.BDP($A82 & \"govt cusip\",N$1)","v":{"$error":"#NAME?"}}]
["912810DS4",{"$f":"_xll.BDP($A83 & \"govt cusip\",B$1)","v":{"$error":"#NAME?"}},{"$f":"_xll.BDP($A83 & \"govt cusip\",C$1)","v":{"$error":"#NAME?"}},{"$f":"_xll.BDP($A83 & \"govt cusip\",D$1)","v":{"$error":"#NAME?"}},{"$f":"_xll.BDP($A83 & \"govt cusip\",\"PX_BID\")","v":{"$error":"#NAME?"}},{"$f":"_xll.BDP($A83 & \"govt cusip\",\"PX_ASK\")","v":{"$error":"#NAME?"}},{"$f":"_xll.BDP($A83 & \"govt cusip\",G$1)","v":{"$error":"#NAME?"}},{"$f":"_xll.BDP($A83 & \"govt cusip\",H$1)","v":{"$error":"#NAME?"}},{"$f":"_xll.BDP($A83 & \"govt cusip\",I$1)","v":{"$error":"#NAME?"}},{"$f":"_xll.BDP($A83 & \"govt cusip\",J$1)","v":{"$error":"#NAME?"}},{"$f":"_xll.BDP($A83 & \"govt cusip\",K$1)","v":{"$error":"#NAME?"}},{"$f":"_xll.BDP($A83 & \"govt cusip\",L$1)","v":{"$error":"#NAME?"}},{"$f":"_xll.BDP($A83 & \"govt cusip\",M$1)","v":{"$error":"#NAME?"}},{"$f":"_xll.BDP($A83 & \"govt cusip\",N$1)","v":{"$error":"#NAME?"}}]
["912810DT2",{"$f":"_xll.BDP($A84 & \"govt cusip\",B$1)","v":{"$error":"#NAME?"}},{"$f":"_xll.BDP($A84 & \"govt cusip\",C$1)","v":{"$error":"#NAME?"}},{"$f":"_xll.BDP($A84 & \"govt cusip\",D$1)","v":{"$error":"#NAME?"}},{"$f":"_xll.BDP($A84 & \"govt cusip\",\"PX_BID\")","v":{"$error":"#NAME?"}},{"$f":"_xll.BDP($A84 & \"govt cusip\",\"PX_ASK\")","v":{"$error":"#NAME?"}},{"$f":"_xll.BDP($A84 & \"govt cusip\",G$1)","v":{"$error":"#NAME?"}},{"$f":"_xll.BDP($A84 & \"govt cusip\",H$1)","v":{"$error":"#NAME?"}},{"$f":"_xll.BDP($A84 & \"govt cusip\",I$1)","v":{"$error":"#NAME?"}},{"$f":"_xll.BDP($A84 & \"govt cusip\",J$1)","v":{"$error":"#NAME?"}},{"$f":"_xll.BDP($A84 & \"govt cusip\",K$1)","v":{"$error":"#NAME?"}},{"$f":"_xll.BDP($A84 & \"govt cusip\",L$1)","v":{"$error":"#NAME?"}},{"$f":"_xll.BDP($A84 & \"govt cusip\",M$1)","v":{"$error":"#NAME?"}},{"$f":"_xll.BDP($A84 & \"govt cusip\",N$1)","v":{"$error":"#NAME?"}}]
["912810DV7",{"$f":"_xll.BDP($A85 & \"govt cusip\",B$1)","v":{"$error":"#NAME?"}},{"$f":"_xll.BDP($A85 & \"govt cusip\",C$1)","v":{"$error":"#NAME?"}},{"$f":"_xll.BDP($A85 & \"govt cusip\",D$1)","v":{"$error":"#NAME?"}},{"$f":"_xll.BDP($A85 & \"govt cusip\",\"PX_BID\")","v":{"$error":"#NAME?"}},{"$f":"_xll.BDP($A85 & \"govt cusip\",\"PX_ASK\")","v":{"$error":"#NAME?"}},{"$f":"_xll.BDP($A85 & \"govt cusip\",G$1)","v":{"$error":"#NAME?"}},{"$f":"_xll.BDP($A85 & \"govt cusip\",H$1)","v":{"$error":"#NAME?"}},{"$f":"_xll.BDP($A85 & \"govt cusip\",I$1)","v":{"$error":"#NAME?"}},{"$f":"_xll.BDP($A85 & \"govt cusip\",J$1)","v":{"$error":"#NAME?"}},{"$f":"_xll.BDP($A85 & \"govt cusip\",K$1)","v":{"$error":"#NAME?"}},{"$f":"_xll.BDP($A85 & \"govt cusip\",L$1)","v":{"$error":"#NAME?"}},{"$f":"_xll.BDP($A85 & \"govt cusip\",M$1)","v":{"$error":"#NAME?"}},{"$f":"_xll.BDP($A85 & \"govt cusip\",N$1)","v":{"$error":"#NAME?"}}]
["912810DW5",{"$f":"_xll.BDP($A86 & \"govt cusip\",B$1)","v":{"$error":"#NAME?"}},{"$f":"_xll.BDP($A86 & \"govt cusip\",C$1)","v":{"$error":"#NAME?"}},{"$f":"_xll.BDP($A86 & \"govt cusip\",D$1)","v":{"$error":"#NAME?"}},{"$f":"_xll.BDP($A86 & \"govt cusip\",\"PX_BID\")","v":{"$error":"#NAME?"}},{"$f":"_xll.BDP($A86 & \"govt cusip\",\"PX_ASK\")","v":{"$error":"#NAME?"}},{"$f":"_xll.BDP($A86 & \"govt cusip\",G$1)","v":{"$error":"#NAME?"}},{"$f":"_xll.BDP($A86 & \"govt cusip\",H$1)","v":{"$error":"#NAME?"}},{"$f":"_xll.BDP($A86 & \"govt cusip\",I$1)","v":{"$error":"#NAME?"}},{"$f":"_xll.BDP($A86 & \"govt cusip\",J$1)","v":{"$error":"#NAME?"}},{"$f":"_xll.BDP($A86 & \"govt cusip\",K$1)","v":{"$error":"#NAME?"}},{"$f":"_xll.BDP($A86 & \"govt cusip\",L$1)","v":{"$error":"#NAME?"}},{"$f":"_xll.BDP($A86 & \"govt cusip\",M$1)","v":{"$error":"#NAME?"}},{"$f":"_xll.BDP($A86 & \"govt cusip\",N$1)","v":{"$error":"#NAME?"}}]
["912810DX3",{"$f":"_xll.BDP($A87 & \"govt cusip\",B$1)","v":{"$error":"#NAME?"}},{"$f":"_xll.BDP($A87 & \"govt cusip\",C$1)","v":{"$error":"#NAME?"}},{"$f":"_xll.BDP($A87 & \"govt cusip\",D$1)","v":{"$error":"#NAME?"}},{"$f":"_xll.BDP($A87 & \"govt cusip\",\"PX_BID\")","v":{"$error":"#NAME?"}},{"$f":"_xll.BDP($A87 & \"govt cusip\",\"PX_ASK\")","v":{"$error":"#NAME?"}},{"$f":"_xll.BDP($A87 & \"govt cusip\",G$1)","v":{"$error":"#NAME?"}},{"$f":"_xll.BDP($A87 & \"govt cusip\",H$1)","v":{"$error":"#NAME?"}},{"$f":"_xll.BDP($A87 & \"govt cusip\",I$1)","v":{"$error":"#NAME?"}},{"$f":"_xll.BDP($A87 & \"govt cusip\",J$1)","v":{"$error":"#NAME?"}},{"$f":"_xll.BDP($A87 & \"govt cusip\",K$1)","v":{"$error":"#NAME?"}},{"$f":"_xll.BDP($A87 & \"govt cusip\",L$1)","v":{"$error":"#NAME?"}},{"$f":"_xll.BDP($A87 & \"govt cusip\",M$1)","v":{"$error":"#NAME?"}},{"$f":"_xll.BDP($A87 & \"govt cusip\",N$1)","v":{"$error":"#NAME?"}}]
["912810DY1",{"$f":"_xll.BDP($A88 & \"govt cusip\",B$1)","v":{"$error":"#NAME?"}},{"$f":"_xll.BDP($A88 & \"govt cusip\",C$1)","v":{"$error":"#NAME?"}},{"$f":"_xll.BDP($A88 & \"govt cusip\",D$1)","v":{"$error":"#NAME?"}},{"$f":"_xll.BDP($A88 & \"govt cusip\",\"PX_BID\")","v":{"$error":"#NAME?"}},{"$f":"_xll.BDP($A88 & \"govt cusip\",\"PX_ASK\")","v":{"$error":"#NAME?"}},{"$f":"_xll.BDP($A88 & \"govt cusip\",G$1)","v":{"$error":"#NAME?"}},{"$f":"_xll.BDP($A88 & \"govt cusip\",H$1)","v":{"$error":"#NAME?"}},{"$f":"_xll.BDP($A88 & \"govt cusip\",I$1)","v":{"$error":"#NAME?"}},{"$f":"_xll.BDP($A88 & \"govt cusip\",J$1)","v":{"$error":"#NAME?"}},{"$f":"_xll.BDP($A88 & \"govt cusip\",K$1)","v":{"$error":"#NAME?"}},{"$f":"_xll.BDP($A88 & \"govt cusip\",L$1)","v":{"$error":"#NAME?"}},{"$f":"_xll.BDP($A88 & \"govt cusip\",M$1)","v":{"$error":"#NAME?"}},{"$f":"_xll.BDP($A88 & \"govt cusip\",N$1)","v":{"$error":"#NAME?"}}]
["912810DZ8",{"$f":"_xll.BDP($A89 & \"govt cusip\",B$1)","v":{"$error":"#NAME?"}},{"$f":"_xll.BDP($A89 & \"govt cusip\",C$1)","v":{"$error":"#NAME?"}},{"$f":"_xll.BDP($A89 & \"govt cusip\",D$1)","v":{"$error":"#NAME?"}},{"$f":"_xll.BDP($A89 & \"govt cusip\",\"PX_BID\")","v":{"$error":"#NAME?"}},{"$f":"_xll.BDP($A89 & \"govt cusip\",\"PX_ASK\")","v":{"$error":"#NAME?"}},{"$f":"_xll.BDP($A89 & \"govt cusip\",G$1)","v":{"$error":"#NAME?"}},{"$f":"_xll.BDP($A89 & \"govt cusip\",H$1)","v":{"$error":"#NAME?"}},{"$f":"_xll.BDP($A89 & \"govt cusip\",I$1)","v":{"$error":"#NAME?"}},{"$f":"_xll.BDP($A89 & \"govt cusip\",J$1)","v":{"$error":"#NAME?"}},{"$f":"_xll.BDP($A89 & \"govt cusip\",K$1)","v":{"$error":"#NAME?"}},{"$f":"_xll.BDP($A89 & \"govt cusip\",L$1)","v":{"$error":"#NAME?"}},{"$f":"_xll.BDP($A89 & \"govt cusip\",M$1)","v":{"$error":"#NAME?"}},{"$f":"_xll.BDP($A89 & \"govt cusip\",N$1)","v":{"$error":"#NAME?"}}]
["912810EA2",{"$f":"_xll.BDP($A90 & \"govt cusip\",B$1)","v":{"$error":"#NAME?"}},{"$f":"_xll.BDP($A90 & \"govt cusip\",C$1)","v":{"$error":"#NAME?"}},{"$f":"_xll.BDP($A90 & \"govt cusip\",D$1)","v":{"$error":"#NAME?"}},{"$f":"_xll.BDP($A90 & \"govt cusip\",\"PX_BID\")","v":{"$error":"#NAME?"}},{"$f":"_xll.BDP($A90 & \"govt cusip\",\"PX_ASK\")","v":{"$error":"#NAME?"}},{"$f":"_xll.BDP($A90 & \"govt cusip\",G$1)","v":{"$error":"#NAME?"}},{"$f":"_xll.BDP($A90 & \"govt cusip\",H$1)","v":{"$error":"#NAME?"}},{"$f":"_xll.BDP($A90 & \"govt cusip\",I$1)","v":{"$error":"#NAME?"}},{"$f":"_xll.BDP($A90 & \"govt cusip\",J$1)","v":{"$error":"#NAME?"}},{"$f":"_xll.BDP($A90 & \"govt cusip\",K$1)","v":{"$error":"#NAME?"}},{"$f":"_xll.BDP($A90 & \"govt cusip\",L$1)","v":{"$error":"#NAME?"}},{"$f":"_xll.BDP($A90 & \"govt cusip\",M$1)","v":{"$error":"#NAME?"}},{"$f":"_xll.BDP($A90 & \"govt cusip\",N$1)","v":{"$error":"#NAME?"}}]
["912810EB0",{"$f":"_xll.BDP($A91 & \"govt cusip\",B$1)","v":{"$error":"#NAME?"}},{"$f":"_xll.BDP($A91 & \"govt cusip\",C$1)","v":{"$error":"#NAME?"}},{"$f":"_xll.BDP($A91 & \"govt cusip\",D$1)","v":{"$error":"#NAME?"}},{"$f":"_xll.BDP($A91 & \"govt cusip\",\"PX_BID\")","v":{"$error":"#NAME?"}},{"$f":"_xll.BDP($A91 & \"govt cusip\",\"PX_ASK\")","v":{"$error":"#NAME?"}},{"$f":"_xll.BDP($A91 & \"govt cusip\",G$1)","v":{"$error":"#NAME?"}},{"$f":"_xll.BDP($A91 & \"govt cusip\",H$1)","v":{"$error":"#NAME?"}},{"$f":"_xll.BDP($A91 & \"govt cusip\",I$1)","v":{"$error":"#NAME?"}},{"$f":"_xll.BDP($A91 & \"govt cusip\",J$1)","v":{"$error":"#NAME?"}},{"$f":"_xll.BDP($A91 & \"govt cusip\",K$1)","v":{"$error":"#NAME?"}},{"$f":"_xll.BDP($A91 & \"govt cusip\",L$1)","v":{"$error":"#NAME?"}},{"$f":"_xll.BDP($A91 & \"govt cusip\",M$1)","v":{"$error":"#NAME?"}},{"$f":"_xll.BDP($A91 & \"govt cusip\",N$1)","v":{"$error":"#NAME?"}}]
["912810EC8",{"$f":"_xll.BDP($A92 & \"govt cusip\",B$1)","v":{"$error":"#NAME?"}},{"$f":"_xll.BDP($A92 & \"govt cusip\",C$1)","v":{"$error":"#NAME?"}},{"$f":"_xll.BDP($A92 & \"govt cusip\",D$1)","v":{"$error":"#NAME?"}},{"$f":"_xll.BDP($A92 & \"govt cusip\",\"PX_BID\")","v":{"$error":"#NAME?"}},{"$f":"_xll.BDP($A92 & \"govt cusip\",\"PX_ASK\")","v":{"$error":"#NAME?"}},{"$f":"_xll.BDP($A92 & \"govt cusip\",G$1)","v":{"$error":"#NAME?"}},{"$f":"_xll.BDP($A92 & \"govt cusip\",H$1)","v":{"$error":"#NAME?"}},{"$f":"_xll.BDP($A92 & \"govt cusip\",I$1)","v":{"$error":"#NAME?"}},{"$f":"_xll.BDP($A92 & \"govt cusip\",J$1)","v":{"$error":"#NAME?"}},{"$f":"_xll.BDP($A92 & \"govt cusip\",K$1)","v":{"$error":"#NAME?"}},{"$f":"_xll.BDP($A92 & \"govt cusip\",L$1)","v":{"$error":"#NAME?"}},{"$f":"_xll.BDP($A92 & \"govt cusip\",M$1)","v":{"$error":"#NAME?"}},{"$f":"_xll.BDP($A92 & \"govt cusip\",N$1)","v":{"$error":"#NAME?"}}]
["912810ED6",{"$f":"_xll.BDP($A93 & \"govt cusip\",B$1)","v":{"$error":"#NAME?"}},{"$f":"_xll.BDP($A93 & \"govt cusip\",C$1)","v":{"$error":"#NAME?"}},{"$f":"_xll.BDP($A93 & \"govt cusip\",D$1)","v":{"$error":"#NAME?"}},{"$f":"_xll.BDP($A93 & \"govt cusip\",\"PX_BID\")","v":{"$error":"#NAME?"}},{"$f":"_xll.BDP($A93 & \"govt cusip\",\"PX_ASK\")","v":{"$error":"#NAME?"}},{"$f":"_xll.BDP($A93 & \"govt cusip\",G$1)","v":{"$error":"#NAME?"}},{"$f":"_xll.BDP($A93 & \"govt cusip\",H$1)","v":{"$error":"#NAME?"}},{"$f":"_xll.BDP($A93 & \"govt cusip\",I$1)","v":{"$error":"#NAME?"}},{"$f":"_xll.BDP($A93 & \"govt cusip\",J$1)","v":{"$error":"#NAME?"}},{"$f":"_xll.BDP($A93 & \"govt cusip\",K$1)","v":{"$error":"#NAME?"}},{"$f":"_xll.BDP($A93 & \"govt cusip\",L$1)","v":{"$error":"#NAME?"}},{"$f":"_xll.BDP($A93 & \"govt cusip\",M$1)","v":{"$error":"#NAME?"}},{"$f":"_xll.BDP($A93 & \"govt cusip\",N$1)","v":{"$error":"#NAME?"}}]
["912810EE4",{"$f":"_xll.BDP($A94 & \"govt cusip\",B$1)","v":{"$error":"#NAME?"}},{"$f":"_xll.BDP($A94 & \"govt cusip\",C$1)","v":{"$error":"#NAME?"}},{"$f":"_xll.BDP($A94 & \"govt cusip\",D$1)","v":{"$error":"#NAME?"}},{"$f":"_xll.BDP($A94 & \"govt cusip\",\"PX_BID\")","v":{"$error":"#NAME?"}},{"$f":"_xll.BDP($A94 & \"govt cusip\",\"PX_ASK\")","v":{"$error":"#NAME?"}},{"$f":"_xll.BDP($A94 & \"govt cusip\",G$1)","v":{"$error":"#NAME?"}},{"$f":"_xll.BDP($A94 & \"govt cusip\",H$1)","v":{"$error":"#NAME?"}},{"$f":"_xll.BDP($A94 & \"govt cusip\",I$1)","v":{"$error":"#NAME?"}},{"$f":"_xll.BDP($A94 & \"govt cusip\",J$1)","v":{"$error":"#NAME?"}},{"$f":"_xll.BDP($A94 & \"govt cusip\",K$1)","v":{"$error":"#NAME?"}},{"$f":"_xll.BDP($A94 & \"govt cusip\",L$1)","v":{"$error":"#NAME?"}},{"$f":"_xll.BDP($A94 & \"govt cusip\",M$1)","v":{"$error":"#NAME?"}},{"$f":"_xll.BDP($A94 & \"govt cusip\",N$1)","v":{"$error":"#NAME?"}}]
["912810EF1",{"$f":"_xll.BDP($A95 & \"govt cusip\",B$1)","v":{"$error":"#NAME?"}},{"$f":"_xll.BDP($A95 & \"govt cusip\",C$1)","v":{"$error":"#NAME?"}},{"$f":"_xll.BDP($A95 & \"govt cusip\",D$1)","v":{"$error":"#NAME?"}},{"$f":"_xll.BDP($A95 & \"govt cusip\",\"PX_BID\")","v":{"$error":"#NAME?"}},{"$f":"_xll.BDP($A95 & \"govt cusip\",\"PX_ASK\")","v":{"$error":"#NAME?"}},{"$f":"_xll.BDP($A95 & \"govt cusip\",G$1)","v":{"$error":"#NAME?"}},{"$f":"_xll.BDP($A95 & \"govt cusip\",H$1)","v":{"$error":"#NAME?"}},{"$f":"_xll.BDP($A95 & \"govt cusip\",I$1)","v":{"$error":"#NAME?"}},{"$f":"_xll.BDP($A95 & \"govt cusip\",J$1)","v":{"$error":"#NAME?"}},{"$f":"_xll.BDP($A95 & \"govt cusip\",K$1)","v":{"$error":"#NAME?"}},{"$f":"_xll.BDP($A95 & \"govt cusip\",L$1)","v":{"$error":"#NAME?"}},{"$f":"_xll.BDP($A95 & \"govt cusip\",M$1)","v":{"$error":"#NAME?"}},{"$f":"_xll.BDP($A95 & \"govt cusip\",N$1)","v":{"$error":"#NAME?"}}]
["912810EG9",{"$f":"_xll.BDP($A96 & \"govt cusip\",B$1)","v":{"$error":"#NAME?"}},{"$f":"_xll.BDP($A96 & \"govt cusip\",C$1)","v":{"$error":"#NAME?"}},{"$f":"_xll.BDP($A96 & \"govt cusip\",D$1)","v":{"$error":"#NAME?"}},{"$f":"_xll.BDP($A96 & \"govt cusip\",\"PX_BID\")","v":{"$error":"#NAME?"}},{"$f":"_xll.BDP($A96 & \"govt cusip\",\"PX_ASK\")","v":{"$error":"#NAME?"}},{"$f":"_xll.BDP($A96 & \"govt cusip\",G$1)","v":{"$error":"#NAME?"}},{"$f":"_xll.BDP($A96 & \"govt cusip\",H$1)","v":{"$error":"#NAME?"}},{"$f":"_xll.BDP($A96 & \"govt cusip\",I$1)","v":{"$error":"#NAME?"}},{"$f":"_xll.BDP($A96 & \"govt cusip\",J$1)","v":{"$error":"#NAME?"}},{"$f":"_xll.BDP($A96 & \"govt cusip\",K$1)","v":{"$error":"#NAME?"}},{"$f":"_xll.BDP($A96 & \"govt cusip\",L$1)","v":{"$error":"#NAME?"}},{"$f":"_xll.BDP($A96 & \"govt cusip\",M$1)","v":{"$error":"#NAME?"}},{"$f":"_xll.BDP($A96 & \"govt cusip\",N$1)","v":{"$error":"#NAME?"}}]
["912810EH7",{"$f":"_xll.BDP($A97 & \"govt cusip\",B$1)","v":{"$error":"#NAME?"}},{"$f":"_xll.BDP($A97 & \"govt cusip\",C$1)","v":{"$error":"#NAME?"}},{"$f":"_xll.BDP($A97 & \"govt cusip\",D$1)","v":{"$error":"#NAME?"}},{"$f":"_xll.BDP($A97 & \"govt cusip\",\"PX_BID\")","v":{"$error":"#NAME?"}},{"$f":"_xll.BDP($A97 & \"govt cusip\",\"PX_ASK\")","v":{"$error":"#NAME?"}},{"$f":"_xll.BDP($A97 & \"govt cusip\",G$1)","v":{"$error":"#NAME?"}},{"$f":"_xll.BDP($A97 & \"govt cusip\",H$1)","v":{"$error":"#NAME?"}},{"$f":"_xll.BDP($A97 & \"govt cusip\",I$1)","v":{"$error":"#NAME?"}},{"$f":"_xll.BDP($A97 & \"govt cusip\",J$1)","v":{"$error":"#NAME?"}},{"$f":"_xll.BDP($A97 & \"govt cusip\",K$1)","v":{"$error":"#NAME?"}},{"$f":"_xll.BDP($A97 & \"govt cusip\",L$1)","v":{"$error":"#NAME?"}},{"$f":"_xll.BDP($A97 & \"govt cusip\",M$1)","v":{"$error":"#NAME?"}},{"$f":"_xll.BDP($A97 & \"govt cusip\",N$1)","v":{"$error":"#NAME?"}}]
["912810EJ3",{"$f":"_xll.BDP($A98 & \"govt cusip\",B$1)","v":{"$error":"#NAME?"}},{"$f":"_xll.BDP($A98 & \"govt cusip\",C$1)","v":{"$error":"#NAME?"}},{"$f":"_xll.BDP($A98 & \"govt cusip\",D$1)","v":{"$error":"#NAME?"}},{"$f":"_xll.BDP($A98 & \"govt cusip\",\"PX_BID\")","v":{"$error":"#NAME?"}},{"$f":"_xll.BDP($A98 & \"govt cusip\",\"PX_ASK\")","v":{"$error":"#NAME?"}},{"$f":"_xll.BDP($A98 & \"govt cusip\",G$1)","v":{"$error":"#NAME?"}},{"$f":"_xll.BDP($A98 & \"govt cusip\",H$1)","v":{"$error":"#NAME?"}},{"$f":"_xll.BDP($A98 & \"govt cusip\",I$1)","v":{"$error":"#NAME?"}},{"$f":"_xll.BDP($A98 & \"govt cusip\",J$1)","v":{"$error":"#NAME?"}},{"$f":"_xll.BDP($A98 & \"govt cusip\",K$1)","v":{"$error":"#NAME?"}},{"$f":"_xll.BDP($A98 & \"govt cusip\",L$1)","v":{"$error":"#NAME?"}},{"$f":"_xll.BDP($A98 & \"govt cusip\",M$1)","v":{"$error":"#NAME?"}},{"$f":"_xll.BDP($A98 & \"govt cusip\",N$1)","v":{"$error":"#NAME?"}}]
["912810EK0",{"$f":"_xll.BDP($A99 & \"govt cusip\",B$1)","v":{"$error":"#NAME?"}},{"$f":"_xll.BDP($A99 & \"govt cusip\",C$1)","v":{"$error":"#NAME?"}},{"$f":"_xll.BDP($A99 & \"govt cusip\",D$1)","v":{"$error":"#NAME?"}},{"$f":"_xll.BDP($A99 & \"govt cusip\",\"PX_BID\")","v":{"$error":"#NAME?"}},{"$f":"_xll.BDP($A99 & \"govt cusip\",\"PX_ASK\")","v":{"$error":"#NAME?"}},{"$f":"_xll.BDP($A99 & \"govt cusip\",G$1)","v":{"$error":"#NAME?"}},{"$f":"_xll.BDP($A99 & \"govt cusip\",H$1)","v":{"$error":"#NAME?"}},{"$f":"_xll.BDP($A99 & \"govt cusip\",I$1)","v":{"$error":"#NAME?"}},{"$f":"_xll.BDP($A99 & \"govt cusip\",J$1)","v":{"$error":"#NAME?"}},{"$f":"_xll.BDP($A99 & \"govt cusip\",K$1)","v":{"$error":"#NAME?"}},{"$f":"_xll.BDP($A99 & \"govt cusip\",L$1)","v":{"$error":"#NAME?"}},{"$f":"_xll.BDP($A99 & \"govt cusip\",M$1)","v":{"$error":"#NAME?"}},{"$f":"_xll.BDP($A99 & \"govt cusip\",N$1)","v":{"$error":"#NAME?"}}]
["912810EL8",{"$f":"_xll.BDP($A100 & \"govt cusip\",B$1)","v":{"$error":"#NAME?"}},{"$f":"_xll.BDP($A100 & \"govt cusip\",C$1)","v":{"$error":"#NAME?"}},{"$f":"_xll.BDP($A100 & \"govt cusip\",D$1)","v":{"$error":"#NAME?"}},{"$f":"_xll.BDP($A100 & \"govt cusip\",\"PX_BID\")","v":{"$error":"#NAME?"}},{"$f":"_xll.BDP($A100 & \"govt cusip\",\"PX_ASK\")","v":{"$error":"#NAME?"}},{"$f":"_xll.BDP($A100 & \"govt cusip\",G$1)","v":{"$error":"#NAME?"}},{"$f":"_xll.BDP($A100 & \"govt cusip\",H$1)","v":{"$error":"#NAME?"}},{"$f":"_xll.BDP($A100 & \"govt cusip\",I$1)","v":{"$error":"#NAME?"}},{"$f":"_xll.BDP($A100 & \"govt cusip\",J$1)","v":{"$error":"#NAME?"}},{"$f":"_xll.BDP($A100 & \"govt cusip\",K$1)","v":{"$error":"#NAME?"}},{"$f":"_xll.BDP($A100 & \"govt cusip\",L$1)","v":{"$error":"#NAME?"}},{"$f":"_xll.BDP($A100 & \"govt cusip\",M$1)","v":{"$error":"#NAME?"}},{"$f":"_xll.BDP($A100 & \"govt cusip\",N$1)","v":{"$error":"#NAME?"}}]
["912810EM6",{"$f":"_xll.BDP($A101 & \"govt cusip\",B$1)","v":{"$error":"#NAME?"}},{"$f":"_xll.BDP($A101 & \"govt cusip\",C$1)","v":{"$error":"#NAME?"}},{"$f":"_xll.BDP($A101 & \"govt cusip\",D$1)","v":{"$error":"#NAME?"}},{"$f":"_xll.BDP($A101 & \"govt cusip\",\"PX_BID\")","v":{"$error":"#NAME?"}},{"$f":"_xll.BDP($A101 & \"govt cusip\",\"PX_ASK\")","v":{"$error":"#NAME?"}},{"$f":"_xll.BDP($A101 & \"govt cusip\",G$1)","v":{"$error":"#NAME?"}},{"$f":"_xll.BDP($A101 & \"govt cusip\",H$1)","v":{"$error":"#NAME?"}},{"$f":"_xll.BDP($A101 & \"govt cusip\",I$1)","v":{"$error":"#NAME?"}},{"$f":"_xll.BDP($A101 & \"govt cusip\",J$1)","v":{"$error":"#NAME?"}},{"$f":"_xll.BDP($A101 & \"govt cusip\",K$1)","v":{"$error":"#NAME?"}},{"$f":"_xll.BDP($A101 & \"govt cusip\",L$1)","v":{"$error":"#NAME?"}},{"$f":"_xll.BDP($A101 & \"govt cusip\",M$1)","v":{"$error":"#NAME?"}},{"$f":"_xll.BDP($A101 & \"govt cusip\",N$1)","v":{"$error":"#NAME?"}}]
["912810EN4",{"$f":"_xll.BDP($A102 & \"govt cusip\",B$1)","v":{"$error":"#NAME?"}},{"$f":"_xll.BDP($A102 & \"govt cusip\",C$1)","v":{"$error":"#NAME?"}},{"$f":"_xll.BDP($A102 & \"govt cusip\",D$1)","v":{"$error":"#NAME?"}},{"$f":"_xll.BDP($A102 & \"govt cusip\",\"PX_BID\")","v":{"$error":"#NAME?"}},{"$f":"_xll.BDP($A102 & \"govt cusip\",\"PX_ASK\")","v":{"$error":"#NAME?"}},{"$f":"_xll.BDP($A102 & \"govt cusip\",G$1)","v":{"$error":"#NAME?"}},{"$f":"_xll.BDP($A102 & \"govt cusip\",H$1)","v":{"$error":"#NAME?"}},{"$f":"_xll.BDP($A102 & \"govt cusip\",I$1)","v":{"$error":"#NAME?"}},{"$f":"_xll.BDP($A102 & \"govt cusip\",J$1)","v":{"$error":"#NAME?"}},{"$f":"_xll.BDP($A102 & \"govt cusip\",K$1)","v":{"$error":"#NAME?"}},{"$f":"_xll.BDP($A102 & \"govt cusip\",L$1)","v":{"$error":"#NAME?"}},{"$f":"_xll.BDP($A102 & \"govt cusip\",M$1)","v":{"$error":"#NAME?"}},{"$f":"_xll.BDP($A102 & \"govt cusip\",N$1)","v":{"$error":"#NAME?"}}]
["912810EP9",{"$f":"_xll.BDP($A103 & \"govt cusip\",B$1)","v":{"$error":"#NAME?"}},{"$f":"_xll.BDP($A103 & \"govt cusip\",C$1)","v":{"$error":"#NAME?"}},{"$f":"_xll.BDP($A103 & \"govt cusip\",D$1)","v":{"$error":"#NAME?"}},{"$f":"_xll.BDP($A103 & \"govt cusip\",\"PX_BID\")","v":{"$error":"#NAME?"}},{"$f":"_xll.BDP($A103 & \"govt cusip\",\"PX_ASK\")","v":{"$error":"#NAME?"}},{"$f":"_xll.BDP($A103 & \"govt cusip\",G$1)","v":{"$error":"#NAME?"}},{"$f":"_xll.BDP($A103 & \"govt cusip\",H$1)","v":{"$error":"#NAME?"}},{"$f":"_xll.BDP($A103 & \"govt cusip\",I$1)","v":{"$error":"#NAME?"}},{"$f":"_xll.BDP($A103 & \"govt cusip\",J$1)","v":{"$error":"#NAME?"}},{"$f":"_xll.BDP($A103 & \"govt cusip\",K$1)","v":{"$error":"#NAME?"}},{"$f":"_xll.BDP($A103 & \"govt cusip\",L$1)","v":{"$error":"#NAME?"}},{"$f":"_xll.BDP($A103 & \"govt cusip\",M$1)","v":{"$error":"#NAME?"}},{"$f":"_xll.BDP($A103 & \"govt cusip\",N$1)","v":{"$error":"#NAME?"}}]
["912810EQ7",{"$f":"_xll.BDP($A104 & \"govt cusip\",B$1)","v":{"$error":"#NAME?"}},{"$f":"_xll.BDP($A104 & \"govt cusip\",C$1)","v":{"$error":"#NAME?"}},{"$f":"_xll.BDP($A104 & \"govt cusip\",D$1)","v":{"$error":"#NAME?"}},{"$f":"_xll.BDP($A104 & \"govt cusip\",\"PX_BID\")","v":{"$error":"#NAME?"}},{"$f":"_xll.BDP($A104 & \"govt cusip\",\"PX_ASK\")","v":{"$error":"#NAME?"}},{"$f":"_xll.BDP($A104 & \"govt cusip\",G$1)","v":{"$error":"#NAME?"}},{"$f":"_xll.BDP($A104 & \"govt cusip\",H$1)","v":{"$error":"#NAME?"}},{"$f":"_xll.BDP($A104 & \"govt cusip\",I$1)","v":{"$error":"#NAME?"}},{"$f":"_xll.BDP($A104 & \"govt cusip\",J$1)","v":{"$error":"#NAME?"}},{"$f":"_xll.BDP($A104 & \"govt cusip\",K$1)","v":{"$error":"#NAME?"}},{"$f":"_xll.BDP($A104 & \"govt cusip\",L$1)","v":{"$error":"#NAME?"}},{"$f":"_xll.BDP($A104 & \"govt cusip\",M$1)","v":{"$error":"#NAME?"}},{"$f":"_xll.BDP($A104 & \"govt cusip\",N$1)","v":{"$error":"#NAME?"}}]
["912810ES3",{"$f":"_xll.BDP($A105 & \"govt cusip\",B$1)","v":{"$error":"#NAME?"}},{"$f":"_xll.BDP($A105 & \"govt cusip\",C$1)","v":{"$error":"#NAME?"}},{"$f":"_xll.BDP($A105 & \"govt cusip\",D$1)","v":{"$error":"#NAME?"}},{"$f":"_xll.BDP($A105 & \"govt cusip\",\"PX_BID\")","v":{"$error":"#NAME?"}},{"$f":"_xll.BDP($A105 & \"govt cusip\",\"PX_ASK\")","v":{"$error":"#NAME?"}},{"$f":"_xll.BDP($A105 & \"govt cusip\",G$1)","v":{"$error":"#NAME?"}},{"$f":"_xll.BDP($A105 & \"govt cusip\",H$1)","v":{"$error":"#NAME?"}},{"$f":"_xll.BDP($A105 & \"govt cusip\",I$1)","v":{"$error":"#NAME?"}},{"$f":"_xll.BDP($A105 & \"govt cusip\",J$1)","v":{"$error":"#NAME?"}},{"$f":"_xll.BDP($A105 & \"govt cusip\",K$1)","v":{"$error":"#NAME?"}},{"$f":"_xll.BDP($A105 & \"govt cusip\",L$1)","v":{"$error":"#NAME?"}},{"$f":"_xll.BDP($A105 & \"govt cusip\",M$1)","v":{"$error":"#NAME?"}},{"$f":"_xll.BDP($A105 & \"govt cusip\",N$1)","v":{"$error":"#NAME?"}}]
["912810ET1",{"$f":"_xll.BDP($A106 & \"govt cusip\",B$1)","v":{"$error":"#NAME?"}},{"$f":"_xll.BDP($A106 & \"govt cusip\",C$1)","v":{"$error":"#NAME?"}},{"$f":"_xll.BDP($A106 & \"govt cusip\",D$1)","v":{"$error":"#NAME?"}},{"$f":"_xll.BDP($A106 & \"govt cusip\",\"PX_BID\")","v":{"$error":"#NAME?"}},{"$f":"_xll.BDP($A106 & \"govt cusip\",\"PX_ASK\")","v":{"$error":"#NAME?"}},{"$f":"_xll.BDP($A106 & \"govt cusip\",G$1)","v":{"$error":"#NAME?"}},{"$f":"_xll.BDP($A106 & \"govt cusip\",H$1)","v":{"$error":"#NAME?"}},{"$f":"_xll.BDP($A106 & \"govt cusip\",I$1)","v":{"$error":"#NAME?"}},{"$f":"_xll.BDP($A106 & \"govt cusip\",J$1)","v":{"$error":"#NAME?"}},{"$f":"_xll.BDP($A106 & \"govt cusip\",K$1)","v":{"$error":"#NAME?"}},{"$f":"_xll.BDP($A106 & \"govt cusip\",L$1)","v":{"$error":"#NAME?"}},{"$f":"_xll.BDP($A106 & \"govt cusip\",M$1)","v":{"$error":"#NAME?"}},{"$f":"_xll.BDP($A106 & \"govt cusip\",N$1)","v":{"$error":"#NAME?"}}]
["912810EV6",{"$f":"_xll.BDP($A107 & \"govt cusip\",B$1)","v":{"$error":"#NAME?"}},{"$f":"_xll.BDP($A107 & \"govt cusip\",C$1)","v":{"$error":"#NAME?"}},{"$f":"_xll.BDP($A107 & \"govt cusip\",D$1)","v":{"$error":"#NAME?"}},{"$f":"_xll.BDP($A107 & \"govt cusip\",\"PX_BID\")","v":{"$error":"#NAME?"}},{"$f":"_xll.BDP($A107 & \"govt cusip\",\"PX_ASK\")","v":{"$error":"#NAME?"}},{"$f":"_xll.BDP($A107 & \"govt cusip\",G$1)","v":{"$error":"#NAME?"}},{"$f":"_xll.BDP($A107 & \"govt cusip\",H$1)","v":{"$error":"#NAME?"}},{"$f":"_xll.BDP($A107 & \"govt cusip\",I$1)","v":{"$error":"#NAME?"}},{"$f":"_xll.BDP($A107 & \"govt cusip\",J$1)","v":{"$error":"#NAME?"}},{"$f":"_xll.BDP($A107 & \"govt cusip\",K$1)","v":{"$error":"#NAME?"}},{"$f":"_xll.BDP($A107 & \"govt cusip\",L$1)","v":{"$error":"#NAME?"}},{"$f":"_xll.BDP($A107 & \"govt cusip\",M$1)","v":{"$error":"#NAME?"}},{"$f":"_xll.BDP($A107 & \"govt cusip\",N$1)","v":{"$error":"#NAME?"}}]
["912810EW4",{"$f":"_xll.BDP($A108 & \"govt cusip\",B$1)","v":{"$error":"#NAME?"}},{"$f":"_xll.BDP($A108 & \"govt cusip\",C$1)","v":{"$error":"#NAME?"}},{"$f":"_xll.BDP($A108 & \"govt cusip\",D$1)","v":{"$error":"#NAME?"}},{"$f":"_xll.BDP($A108 & \"govt cusip\",\"PX_BID\")","v":{"$error":"#NAME?"}},{"$f":"_xll.BDP($A108 & \"govt cusip\",\"PX_ASK\")","v":{"$error":"#NAME?"}},{"$f":"_xll.BDP($A108 & \"govt cusip\",G$1)","v":{"$error":"#NAME?"}},{"$f":"_xll.BDP($A108 & \"govt cusip\",H$1)","v":{"$error":"#NAME?"}},{"$f":"_xll.BDP($A108 & \"govt cusip\",I$1)","v":{"$error":"#NAME?"}},{"$f":"_xll.BDP($A108 & \"govt cusip\",J$1)","v":{"$error":"#NAME?"}},{"$f":"_xll.BDP($A108 & \"govt cusip\",K$1)","v":{"$error":"#NAME?"}},{"$f":"_xll.BDP($A108 & \"govt cusip\",L$1)","v":{"$error":"#NAME?"}},{"$f":"_xll.BDP($A108 & \"govt cusip\",M$1)","v":{"$error":"#NAME?"}},{"$f":"_xll.BDP($A108 & \"govt cusip\",N$1)","v":{"$error":"#NAME?"}}]
["912810EX2",{"$f":"_xll.BDP($A109 & \"govt cusip\",B$1)","v":{"$error":"#NAME?"}},{"$f":"_xll.BDP($A109 & \"govt cusip\",C$1)","v":{"$error":"#NAME?"}},{"$f":"_xll.BDP($A109 & \"govt cusip\",D$1)","v":{"$error":"#NAME?"}},{"$f":"_xll.BDP($A109 & \"govt cusip\",\"PX_BID\")","v":{"$error":"#NAME?"}},{"$f":"_xll.BDP($A109 & \"govt cusip\",\"PX_ASK\")","v":{"$error":"#NAME?"}},{"$f":"_xll.BDP($A109 & \"govt cusip\",G$1)","v":{"$error":"#NAME?"}},{"$f":"_xll.BDP($A109 & \"govt cusip\",H$1)","v":{"$error":"#NAME?"}},{"$f":"_xll.BDP($A109 & \"govt cusip\",I$1)","v":{"$error":"#NAME?"}},{"$f":"_xll.BDP($A109 & \"govt cusip\",J$1)","v":{"$error":"#NAME?"}},{"$f":"_xll.BDP($A109 & \"govt cusip\",K$1)","v":{"$error":"#NAME?"}},{"$f":"_xll.BDP($A109 & \"govt cusip\",L$1)","v":{"$error":"#NAME?"}},{"$f":"_xll.BDP($A109 & \"govt cusip\",M$1)","v":{"$error":"#NAME?"}},{"$f":"_xll.BDP($A109 & \"govt cusip\",N$1)","v":{"$error":"#NAME?"}}]
["912810EY0",{"$f":"_xll.BDP($A110 & \"govt cusip\",B$1)","v":{"$error":"#NAME?"}},{"$f":"_xll.BDP($A110 & \"govt cusip\",C$1)","v":{"$error":"#NAME?"}},{"$f":"_xll.BDP($A110 & \"govt cusip\",D$1)","v":{"$error":"#NAME?"}},{"$f":"_xll.BDP($A110 & \"govt cusip\",\"PX_BID\")","v":{"$error":"#NAME?"}},{"$f":"_xll.BDP($A110 & \"govt cusip\",\"PX_ASK\")","v":{"$error":"#NAME?"}},{"$f":"_xll.BDP($A110 & \"govt cusip\",G$1)","v":{"$error":"#NAME?"}},{"$f":"_xll.BDP($A110 & \"govt cusip\",H$1)","v":{"$error":"#NAME?"}},{"$f":"_xll.BDP($A110 & \"govt cusip\",I$1)","v":{"$error":"#NAME?"}},{"$f":"_xll.BDP($A110 & \"govt cusip\",J$1)","v":{"$error":"#NAME?"}},{"$f":"_xll.BDP($A110 & \"govt cusip\",K$1)","v":{"$error":"#NAME?"}},{"$f":"_xll.BDP($A110 & \"govt cusip\",L$1)","v":{"$error":"#NAME?"}},{"$f":"_xll.BDP($A110 & \"govt cusip\",M$1)","v":{"$error":"#NAME?"}},{"$f":"_xll.BDP($A110 & \"govt cusip\",N$1)","v":{"$error":"#NAME?"}}]
["912810EZ7",{"$f":"_xll.BDP($A111 & \"govt cusip\",B$1)","v":{"$error":"#NAME?"}},{"$f":"_xll.BDP($A111 & \"govt cusip\",C$1)","v":{"$error":"#NAME?"}},{"$f":"_xll.BDP($A111 & \"govt cusip\",D$1)","v":{"$error":"#NAME?"}},{"$f":"_xll.BDP($A111 & \"govt cusip\",\"PX_BID\")","v":{"$error":"#NAME?"}},{"$f":"_xll.BDP($A111 & \"govt cusip\",\"PX_ASK\")","v":{"$error":"#NAME?"}},{"$f":"_xll.BDP($A111 & \"govt cusip\",G$1)","v":{"$error":"#NAME?"}},{"$f":"_xll.BDP($A111 & \"govt cusip\",H$1)","v":{"$error":"#NAME?"}},{"$f":"_xll.BDP($A111 & \"govt cusip\",I$1)","v":{"$error":"#NAME?"}},{"$f":"_xll.BDP($A111 & \"govt cusip\",J$1)","v":{"$error":"#NAME?"}},{"$f":"_xll.BDP($A111 & \"govt cusip\",K$1)","v":{"$error":"#NAME?"}},{"$f":"_xll.BDP($A111 & \"govt cusip\",L$1)","v":{"$error":"#NAME?"}},{"$f":"_xll.BDP($A111 & \"govt cusip\",M$1)","v":{"$error":"#NAME?"}},{"$f":"_xll.BDP($A111 & \"govt cusip\",N$1)","v":{"$error":"#NAME?"}}]
["912810FA1",{"$f":"_xll.BDP($A112 & \"govt cusip\",B$1)","v":{"$error":"#NAME?"}},{"$f":"_xll.BDP($A112 & \"govt cusip\",C$1)","v":{"$error":"#NAME?"}},{"$f":"_xll.BDP($A112 & \"govt cusip\",D$1)","v":{"$error":"#NAME?"}},{"$f":"_xll.BDP($A112 & \"govt cusip\",\"PX_BID\")","v":{"$error":"#NAME?"}},{"$f":"_xll.BDP($A112 & \"govt cusip\",\"PX_ASK\")","v":{"$error":"#NAME?"}},{"$f":"_xll.BDP($A112 & \"govt cusip\",G$1)","v":{"$error":"#NAME?"}},{"$f":"_xll.BDP($A112 & \"govt cusip\",H$1)","v":{"$error":"#NAME?"}},{"$f":"_xll.BDP($A112 & \"govt cusip\",I$1)","v":{"$error":"#NAME?"}},{"$f":"_xll.BDP($A112 & \"govt cusip\",J$1)","v":{"$error":"#NAME?"}},{"$f":"_xll.BDP($A112 & \"govt cusip\",K$1)","v":{"$error":"#NAME?"}},{"$f":"_xll.BDP($A112 & \"govt cusip\",L$1)","v":{"$error":"#NAME?"}},{"$f":"_xll.BDP($A112 & \"govt cusip\",M$1)","v":{"$error":"#NAME?"}},{"$f":"_xll.BDP($A112 & \"govt cusip\",N$1)","v":{"$error":"#NAME?"}}]
["912810FB9",{"$f":"_xll.BDP($A113 & \"govt cusip\",B$1)","v":{"$error":"#NAME?"}},{"$f":"_xll.BDP($A113 & \"govt cusip\",C$1)","v":{"$error":"#NAME?"}},{"$f":"_xll.BDP($A113 & \"govt cusip\",D$1)","v":{"$error":"#NAME?"}},{"$f":"_xll.BDP($A113 & \"govt cusip\",\"PX_BID\")","v":{"$error":"#NAME?"}},{"$f":"_xll.BDP($A113 & \"govt cusip\",\"PX_ASK\")","v":{"$error":"#NAME?"}},{"$f":"_xll.BDP($A113 & \"govt cusip\",G$1)","v":{"$error":"#NAME?"}},{"$f":"_xll.BDP($A113 & \"govt cusip\",H$1)","v":{"$error":"#NAME?"}},{"$f":"_xll.BDP($A113 & \"govt cusip\",I$1)","v":{"$error":"#NAME?"}},{"$f":"_xll.BDP($A113 & \"govt cusip\",J$1)","v":{"$error":"#NAME?"}},{"$f":"_xll.BDP($A113 & \"govt cusip\",K$1)","v":{"$error":"#NAME?"}},{"$f":"_xll.BDP($A113 & \"govt cusip\",L$1)","v":{"$error":"#NAME?"}},{"$f":"_xll.BDP($A113 & \"govt cusip\",M$1)","v":{"$error":"#NAME?"}},{"$f":"_xll.BDP($A113 & \"govt cusip\",N$1)","v":{"$error":"#NAME?"}}]
["912810FE3",{"$f":"_xll.BDP($A114 & \"govt cusip\",B$1)","v":{"$error":"#NAME?"}},{"$f":"_xll.BDP($A114 & \"govt cusip\",C$1)","v":{"$error":"#NAME?"}},{"$f":"_xll.BDP($A114 & \"govt cusip\",D$1)","v":{"$error":"#NAME?"}},{"$f":"_xll.BDP($A114 & \"govt cusip\",\"PX_BID\")","v":{"$error":"#NAME?"}},{"$f":"_xll.BDP($A114 & \"govt cusip\",\"PX_ASK\")","v":{"$error":"#NAME?"}},{"$f":"_xll.BDP($A114 & \"govt cusip\",G$1)","v":{"$error":"#NAME?"}},{"$f":"_xll.BDP($A114 & \"govt cusip\",H$1)","v":{"$error":"#NAME?"}},{"$f":"_xll.BDP($A114 & \"govt cusip\",I$1)","v":{"$error":"#NAME?"}},{"$f":"_xll.BDP($A114 & \"govt cusip\",J$1)","v":{"$error":"#NAME?"}},{"$f":"_xll.BDP($A114 & \"govt cusip\",K$1)","v":{"$error":"#NAME?"}},{"$f":"_xll.BDP($A114 & \"govt cusip\",L$1)","v":{"$error":"#NAME?"}},{"$f":"_xll.BDP($A114 & \"govt cusip\",M$1)","v":{"$error":"#NAME?"}},{"$f":"_xll.BDP($A114 & \"govt cusip\",N$1)","v":{"$error":"#NAME?"}}]
["912810FF0",{"$f":"_xll.BDP($A115 & \"govt cusip\",B$1)","v":{"$error":"#NAME?"}},{"$f":"_xll.BDP($A115 & \"govt cusip\",C$1)","v":{"$error":"#NAME?"}},{"$f":"_xll.BDP($A115 & \"govt cusip\",D$1)","v":{"$error":"#NAME?"}},{"$f":"_xll.BDP($A115 & \"govt cusip\",\"PX_BID\")","v":{"$error":"#NAME?"}},{"$f":"_xll.BDP($A115 & \"govt cusip\",\"PX_ASK\")","v":{"$error":"#NAME?"}},{"$f":"_xll.BDP($A115 & \"govt cusip\",G$1)","v":{"$error":"#NAME?"}},{"$f":"_xll.BDP($A115 & \"govt cusip\",H$1)","v":{"$error":"#NAME?"}},{"$f":"_xll.BDP($A115 & \"govt cusip\",I$1)","v":{"$error":"#NAME?"}},{"$f":"_xll.BDP($A115 & \"govt cusip\",J$1)","v":{"$error":"#NAME?"}},{"$f":"_xll.BDP($A115 & \"govt cusip\",K$1)","v":{"$error":"#NAME?"}},{"$f":"_xll.BDP($A115 & \"govt cusip\",L$1)","v":{"$error":"#NAME?"}},{"$f":"_xll.BDP($A115 & \"govt cusip\",M$1)","v":{"$error":"#NAME?"}},{"$f":"_xll.BDP($A115 & \"govt cusip\",N$1)","v":{"$error":"#NAME?"}}]
["912810FG8",{"$f":"_xll.BDP($A116 & \"govt cusip\",B$1)","v":{"$error":"#NAME?"}},{"$f":"_xll.BDP($A116 & \"govt cusip\",C$1)","v":{"$error":"#NAME?"}},{"$f":"_xll.BDP($A116 & \"govt cusip\",D$1)","v":{"$error":"#NAME?"}},{"$f":"_xll.BDP($A116 & \"govt cusip\",\"PX_BID\")","v":{"$error":"#NAME?"}},{"$f":"_xll.BDP($A116 & \"govt cusip\",\"PX_ASK\")","v":{"$error":"#NAME?"}},{"$f":"_xll.BDP($A116 & \"govt cusip\",G$1)","v":{"$error":"#NAME?"}},{"$f":"_xll.BDP($A116 & \"govt cusip\",H$1)","v":{"$error":"#NAME?"}},{"$f":"_xll.BDP($A116 & \"govt cusip\",I$1)","v":{"$error":"#NAME?"}},{"$f":"_xll.BDP($A116 & \"govt cusip\",J$1)","v":{"$error":"#NAME?"}},{"$f":"_xll.BDP($A116 & \"govt cusip\",K$1)","v":{"$error":"#NAME?"}},{"$f":"_xll.BDP($A116 & \"govt cusip\",L$1)","v":{"$error":"#NAME?"}},{"$f":"_xll.BDP($A116 & \"govt cusip\",M$1)","v":{"$error":"#NAME?"}},{"$f":"_xll.BDP($A116 & \"govt cusip\",N$1)","v":{"$error":"#NAME?"}}]
["912810FJ2",{"$f":"_xll.BDP($A117 & \"govt cusip\",B$1)","v":{"$error":"#NAME?"}},{"$f":"_xll.BDP($A117 & \"govt cusip\",C$1)","v":{"$error":"#NAME?"}},{"$f":"_xll.BDP($A117 & \"govt cusip\",D$1)","v":{"$error":"#NAME?"}},{"$f":"_xll.BDP($A117 & \"govt cusip\",\"PX_BID\")","v":{"$error":"#NAME?"}},{"$f":"_xll.BDP($A117 & \"govt cusip\",\"PX_ASK\")","v":{"$error":"#NAME?"}},{"$f":"_xll.BDP($A117 & \"govt cusip\",G$1)","v":{"$error":"#NAME?"}},{"$f":"_xll.BDP($A117 & \"govt cusip\",H$1)","v":{"$error":"#NAME?"}},{"$f":"_xll.BDP($A117 & \"govt cusip\",I$1)","v":{"$error":"#NAME?"}},{"$f":"_xll.BDP($A117 & \"govt cusip\",J$1)","v":{"$error":"#NAME?"}},{"$f":"_xll.BDP($A117 & \"govt cusip\",K$1)","v":{"$error":"#NAME?"}},{"$f":"_xll.BDP($A117 & \"govt cusip\",L$1)","v":{"$error":"#NAME?"}},{"$f":"_xll.BDP($A117 & \"govt cusip\",M$1)","v":{"$error":"#NAME?"}},{"$f":"_xll.BDP($A117 & \"govt cusip\",N$1)","v":{"$error":"#NAME?"}}]
["912810FM5",{"$f":"_xll.BDP($A118 & \"govt cusip\",B$1)","v":{"$error":"#NAME?"}},{"$f":"_xll.BDP($A118 & \"govt cusip\",C$1)","v":{"$error":"#NAME?"}},{"$f":"_xll.BDP($A118 & \"govt cusip\",D$1)","v":{"$error":"#NAME?"}},{"$f":"_xll.BDP($A118 & \"govt cusip\",\"PX_BID\")","v":{"$error":"#NAME?"}},{"$f":"_xll.BDP($A118 & \"govt cusip\",\"PX_ASK\")","v":{"$error":"#NAME?"}},{"$f":"_xll.BDP($A118 & \"govt cusip\",G$1)","v":{"$error":"#NAME?"}},{"$f":"_xll.BDP($A118 & \"govt cusip\",H$1)","v":{"$error":"#NAME?"}},{"$f":"_xll.BDP($A118 & \"govt cusip\",I$1)","v":{"$error":"#NAME?"}},{"$f":"_xll.BDP($A118 & \"govt cusip\",J$1)","v":{"$error":"#NAME?"}},{"$f":"_xll.BDP($A118 & \"govt cusip\",K$1)","v":{"$error":"#NAME?"}},{"$f":"_xll.BDP($A118 & \"govt cusip\",L$1)","v":{"$error":"#NAME?"}},{"$f":"_xll.BDP($A118 & \"govt cusip\",M$1)","v":{"$error":"#NAME?"}},{"$f":"_xll.BDP($A118 & \"govt cusip\",N$1)","v":{"$error":"#NAME?"}}]
["912810FP8",{"$f":"_xll.BDP($A119 & \"govt cusip\",B$1)","v":{"$error":"#NAME?"}},{"$f":"_xll.BDP($A119 & \"govt cusip\",C$1)","v":{"$error":"#NAME?"}},{"$f":"_xll.BDP($A119 & \"govt cusip\",D$1)","v":{"$error":"#NAME?"}},{"$f":"_xll.BDP($A119 & \"govt cusip\",\"PX_BID\")","v":{"$error":"#NAME?"}},{"$f":"_xll.BDP($A119 & \"govt cusip\",\"PX_ASK\")","v":{"$error":"#NAME?"}},{"$f":"_xll.BDP($A119 & \"govt cusip\",G$1)","v":{"$error":"#NAME?"}},{"$f":"_xll.BDP($A119 & \"govt cusip\",H$1)","v":{"$error":"#NAME?"}},{"$f":"_xll.BDP($A119 & \"govt cusip\",I$1)","v":{"$error":"#NAME?"}},{"$f":"_xll.BDP($A119 & \"govt cusip\",J$1)","v":{"$error":"#NAME?"}},{"$f":"_xll.BDP($A119 & \"govt cusip\",K$1)","v":{"$error":"#NAME?"}},{"$f":"_xll.BDP($A119 & \"govt cusip\",L$1)","v":{"$error":"#NAME?"}},{"$f":"_xll.BDP($A119 & \"govt cusip\",M$1)","v":{"$error":"#NAME?"}},{"$f":"_xll.BDP($A119 & \"govt cusip\",N$1)","v":{"$error":"#NAME?"}}]
["912810FT0",{"$f":"_xll.BDP($A120 & \"govt cusip\",B$1)","v":{"$error":"#NAME?"}},{"$f":"_xll.BDP($A120 & \"govt cusip\",C$1)","v":{"$error":"#NAME?"}},{"$f":"_xll.BDP($A120 & \"govt cusip\",D$1)","v":{"$error":"#NAME?"}},{"$f":"_xll.BDP($A120 & \"govt cusip\",\"PX_BID\")","v":{"$error":"#NAME?"}},{"$f":"_xll.BDP($A120 & \"govt cusip\",\"PX_ASK\")","v":{"$error":"#NAME?"}},{"$f":"_xll.BDP($A120 & \"govt cusip\",G$1)","v":{"$error":"#NAME?"}},{"$f":"_xll.BDP($A120 & \"govt cusip\",H$1)","v":{"$error":"#NAME?"}},{"$f":"_xll.BDP($A120 & \"govt cusip\",I$1)","v":{"$error":"#NAME?"}},{"$f":"_xll.BDP($A120 & \"govt cusip\",J$1)","v":{"$error":"#NAME?"}},{"$f":"_xll.BDP($A120 & \"govt cusip\",K$1)","v":{"$error":"#NAME?"}},{"$f":"_xll.BDP($A120 & \"govt cusip\",L$1)","v":{"$error":"#NAME?"}},{"$f":"_xll.BDP($A120 & \"govt cusip\",M$1)","v":{"$error":"#NAME?"}},{"$f":"_xll.BDP($A120 & \"govt cusip\",N$1)","v":{"$error":"#NAME?"}}]
["912810PT9",{"$f":"_xll.BDP($A121 & \"govt cusip\",B$1)","v":{"$error":"#NAME?"}},{"$f":"_xll.BDP($A121 & \"govt cusip\",C$1)","v":{"$error":"#NAME?"}},{"$f":"_xll.BDP($A121 & \"govt cusip\",D$1)","v":{"$error":"#NAME?"}},{"$f":"_xll.BDP($A121 & \"govt cusip\",\"PX_BID\")","v":{"$error":"#NAME?"}},{"$f":"_xll.BDP($A121 & \"govt cusip\",\"PX_ASK\")","v":{"$error":"#NAME?"}},{"$f":"_xll.BDP($A121 & \"govt cusip\",G$1)","v":{"$error":"#NAME?"}},{"$f":"_xll.BDP($A121 & \"govt cusip\",H$1)","v":{"$error":"#NAME?"}},{"$f":"_xll.BDP($A121 & \"govt cusip\",I$1)","v":{"$error":"#NAME?"}},{"$f":"_xll.BDP($A121 & \"govt cusip\",J$1)","v":{"$error":"#NAME?"}},{"$f":"_xll.BDP($A121 & \"govt cusip\",K$1)","v":{"$error":"#NAME?"}},{"$f":"_xll.BDP($A121 & \"govt cusip\",L$1)","v":{"$error":"#NAME?"}},{"$f":"_xll.BDP($A121 & \"govt cusip\",M$1)","v":{"$error":"#NAME?"}},{"$f":"_xll.BDP($A121 & \"govt cusip\",N$1)","v":{"$error":"#NAME?"}}]
["912810PU6",{"$f":"_xll.BDP($A122 & \"govt cusip\",B$1)","v":{"$error":"#NAME?"}},{"$f":"_xll.BDP($A122 & \"govt cusip\",C$1)","v":{"$error":"#NAME?"}},{"$f":"_xll.BDP($A122 & \"govt cusip\",D$1)","v":{"$error":"#NAME?"}},{"$f":"_xll.BDP($A122 & \"govt cusip\",\"PX_BID\")","v":{"$error":"#NAME?"}},{"$f":"_xll.BDP($A122 & \"govt cusip\",\"PX_ASK\")","v":{"$error":"#NAME?"}},{"$f":"_xll.BDP($A122 & \"govt cusip\",G$1)","v":{"$error":"#NAME?"}},{"$f":"_xll.BDP($A122 & \"govt cusip\",H$1)","v":{"$error":"#NAME?"}},{"$f":"_xll.BDP($A122 & \"govt cusip\",I$1)","v":{"$error":"#NAME?"}},{"$f":"_xll.BDP($A122 & \"govt cusip\",J$1)","v":{"$error":"#NAME?"}},{"$f":"_xll.BDP($A122 & \"govt cusip\",K$1)","v":{"$error":"#NAME?"}},{"$f":"_xll.BDP($A122 & \"govt cusip\",L$1)","v":{"$error":"#NAME?"}},{"$f":"_xll.BDP($A122 & \"govt cusip\",M$1)","v":{"$error":"#NAME?"}},{"$f":"_xll.BDP($A122 & \"govt cusip\",N$1)","v":{"$error":"#NAME?"}}]

{"sheet":"prices","index":1,"n_rows":122,"n_cols":20,"rows_kept":122,"cut":false,"hidden":false,"merged":[]}
["CUSIP","MATURITY","CPN",null,"NXT_CPN_DT","ID_BB","ASK","DUR_BID","DUR_MID","YLD_YTM_MID","YLD_YTM_BID","YLD_YTM_ASK","PX_CLEAN_ASK","PX_DIRTY_ASK","REPO_REPORATE","days to next pay","days since","dirty ask","accrued int","theo price"]
[null,null,"2010-01-29",null,null,null,null,null,null,null,null,null,null,null,null,"2010-01-29"]
[]
["912828HP8","1/31/2010",2.125,{"$f":"(B4-$C$2)/365","v":5.4794520547945206E-3},"1/31/2010",100,100.03125,8.152173913813442E-3,8.15217391410193E-3,0.20614652760642116,2.1030197292560615,-1.6901402139779382,100.03125,101.07642663043478,0.06,{"$f":"COUPDAYSNC($P$2,B4,IF(C4>0,2,1))","v":1},{"$f":"COUPDAYBS($P$2,B4,IF(C4>0,2,1))","v":179},null,{"$f":"IF(C4>0,Q4/(P4+Q4)*C4,0)","v":2.1131944444444444},{"$f":"NSbondPrice(prices!$P$2,prices!B4,prices!C4/100,'nelson siegel ASK'!$E$4,'nelson siegel ASK'!$E$5,'nelson siegel ASK'!$E$6,'nelson siegel ASK'!$E$7)","v":101.06374532626688}]
["912828DL1","2/15/2010",3.5,4.6575342465753428E-2,"2/15/2010",100.15625,100.1875,4.8913043478803077E-2,4.8913043478861072E-2,-1.3649922514533428E-2,0.3003444166950765,-0.32754784156676403,100.1875,101.76630434782609,0.06,16,{"$f":"COUPDAYBS($P$2,B5,IF(C5>0,2,1))","v":164},null,3.1888888888888887,{"$f":"NSbondPrice(prices!$P$2,prices!B5,prices!C5/100,'nelson siegel ASK'!$E$4,'nelson siegel ASK'!$E$5,'nelson siegel ASK'!$E$6,'nelson siegel ASK'!$E$7)","v":101.7591225438409}]
["912828GG9","2/15/2010",4.75,4.6575342465753428E-2,"2/15/2010",100.21875,100.25,4.8913043479335956E-2,4.8913043478899701E-2,-4.0699230474889381E-2,0.27136962017113575,-0.35267283844147262,100.25,102.39266304347827,0.06,16,164,null,4.3277777777777775,{"$f":"NSbondPrice(prices!$P$2,prices!B6,prices!C6/100,'nelson siegel ASK'!$E$4,'nelson siegel ASK'!$E$5,'nelson siegel ASK'!$E$6,'nelson siegel ASK'!$E$7)","v":102.38417857912248}]
["9128275Z1","2/15/2010",6.5,4.6575342465753428E-2,"2/15/2010",100.296875,100.328125,4.8913043479014588E-2,4.8913043479052655E-2,0.10761933170767198,0.41708803233739328,-0.20175571330493092,100.328125,103.2601902173913,0.06,16,164,null,5.9222222222222225,{"$f":"NSbondPrice(prices!$P$2,prices!B7,prices!C7/100,'nelson siegel ASK'!$E$4,'nelson siegel ASK'!$E$5,'nelson siegel ASK'!$E$6,'nelson siegel ASK'!$E$7)","v":103.25925702851669}]
["912828HS2","2/28/2010",2,8.2191780821917804E-2,"2/28/2010",100.15625,100.1875,8.5635359120836196E-2,8.5635359122031185E-2,-6.9865439550572056E-3,0.17369239173389747,-0.1876095854892342,100.1875,101.01622928176796,0.06,31,149,null,1.6555555555555554,{"$f":"NSbondPrice(prices!$P$2,prices!B8,prices!C8/100,'nelson siegel ASK'!$E$4,'nelson siegel ASK'!$E$5,'nelson siegel ASK'!$E$6,'nelson siegel ASK'!$E$7)","v":101.01365949024778}]
["912828DP2","3/15/2010",4,0.12328767123287671,"3/15/2010",100.484375,100.515625,0.12707182322395091,0.12707182322419616,6.394381423096393E-2,0.18453281750377534,-5.6608246539214181E-2,100.515625,102.00733770718232,0.06,46,134,null,2.9777777777777779,{"$f":"NSbondPrice(prices!$P$2,prices!B9,prices!C9/100,'nelson siegel ASK'!$E$4,'nelson siegel ASK'!$E$5,'nelson siegel ASK'!$E$6,'nelson siegel ASK'!$E$7)","v":102.01665284218466}]
["912828HU7","3/31/2010",1.75,0.16712328767123288,"3/31/2010",100.28125,100.3125,0.17032967037963379,0.17032967037895388,6.9953265837682348E-3,9.7949744246644987E-2,-8.3930918397952109E-2,100.3125,100.88942307692308,0.06,61,119,null,1.1569444444444443,{"$f":"NSbondPrice(prices!$P$2,prices!B10,prices!C10/100,'nelson siegel ASK'!$E$4,'nelson siegel ASK'!$E$5,'nelson siegel ASK'!$E$6,'nelson siegel ASK'!$E$7)","v":100.8915753665519}]
["912828DR8","4/15/2010",4,0.20821917808219179,"4/15/2010",100.8125,100.84375,0.21153846163260986,0.21153846163325901,8.3570921176547644E-2,0.15602295766377464,1.114108252752256E-2,100.84375,101.99759615384616,0.06,76,104,null,2.3111111111111109,{"$f":"NSbondPrice(prices!$P$2,prices!B11,prices!C11/100,'nelson siegel ASK'!$E$4,'nelson siegel ASK'!$E$5,'nelson siegel ASK'!$E$6,'nelson siegel ASK'!$E$7)","v":102.01412258579531}]
["912828HX1","4/30/2010",2.125,0.24931506849315069,"4/30/2010",100.515625,100.546875,0.25414364657407268,0.25414364657418442,3.42854748811596E-2,9.514009682470799E-2,-2.6550331194908999E-2,100.546875,101.06931975138122,0.06,91,89,null,1.0506944444444444,{"$f":"NSbondPrice(prices!$P$2,prices!B12,prices!C12/100,'nelson siegel ASK'!$E$4,'nelson siegel ASK'!$E$5,'nelson siegel ASK'!$E$6,'nelson siegel ASK'!$E$7)","v":101.07127224344953}]
["912828DU1","5/15/2010",3.875,0.29041095890410956,"5/15/2010",101.109375,101.140625,0.295580110754742,0.29558011075436175,6.7628705424828683E-2,0.11951480665291507,1.575851116122351E-2,101.140625,101.9327520718232,0.06,106,74,null,1.5930555555555554,{"$f":"NSbondPrice(prices!$P$2,prices!B13,prices!C13/100,'nelson siegel ASK'!$E$4,'nelson siegel ASK'!$E$5,'nelson siegel ASK'!$E$6,'nelson siegel ASK'!$E$7)","v":101.93847107617771}]
["912828GR5","5/15/2010",4.5,0.29041095890410956,"5/15/2010",101.28125,101.3125,0.29558011075420021,0.29558011075467078,0.1100030795652949,0.16174353742238132,5.8278437530542501E-2,101.3125,102.23238950276243,0.06,106,74,null,1.8499999999999999,{"$f":"NSbondPrice(prices!$P$2,prices!B14,prices!C14/100,'nelson siegel ASK'!$E$4,'nelson siegel ASK'!$E$5,'nelson siegel ASK'!$E$6,'nelson siegel ASK'!$E$7)","v":102.25097405311266}]
["912828JA9","5/31/2010",2.625,0.33424657534246577,"5/31/2010",100.84375,100.875,0.33791208829612396,0.33791208829709235,8.0771150304882702E-2,0.12644391540762226,3.5112474709829811E-2,100.875,101.30048076923077,0.06,121,59,null,0.86041666666666672,{"$f":"NSbondPrice(prices!$P$2,prices!B15,prices!C15/100,'nelson siegel ASK'!$E$4,'nelson siegel ASK'!$E$5,'nelson siegel ASK'!$E$6,'nelson siegel ASK'!$E$7)","v":101.30227436861402}]
["912828DX5","6/15/2010",3.625,0.37534246575342467,"6/15/2010",101.3125,101.34375,0.37912087966511693,0.37912087966591096,0.11971516700786435,0.16023820906504627,7.9204566697244239E-2,101.34375,101.78193681318682,0.06,136,44,null,0.88611111111111107,{"$f":"NSbondPrice(prices!$P$2,prices!B16,prices!C16/100,'nelson siegel ASK'!$E$4,'nelson siegel ASK'!$E$5,'nelson siegel ASK'!$E$6,'nelson siegel ASK'!$E$7)","v":101.78902472113256}]
["912828JC5","6/30/2010",2.875,0.41643835616438357,"6/30/2010",101.140625,101.171875,0.42265193445652727,0.4226519344565608,0.1374031110325046,0.17389613435705356,0.10092133496285537,101.171875,101.39425069060773,0.06,151,29,null,0.46319444444444446,{"$f":"NSbondPrice(prices!$P$2,prices!B17,prices!C17/100,'nelson siegel ASK'!$E$4,'nelson siegel ASK'!$E$5,'nelson siegel ASK'!$E$6,'nelson siegel ASK'!$E$7)","v":101.39841867435501}]
["912828DZ0","7/15/2010",3.875,0.45753424657534247,"7/15/2010",101.71875,101.75,0.46408839878744729,0.46408839878675284,0.13529993326250178,0.16837472953215715,0.10223528122609532,101.75,101.88915745856353,0.06,166,14,null,0.30138888888888887,{"$f":"NSbondPrice(prices!$P$2,prices!B18,prices!C18/100,'nelson siegel ASK'!$E$4,'nelson siegel ASK'!$E$5,'nelson siegel ASK'!$E$6,'nelson siegel ASK'!$E$7)","v":101.87992045526765}]
["912828ED8","8/15/2010",4.125,0.54246575342465753,"2/15/2010",102.140625,102.171875,0.53899837815013718,0.53899973233565934,0.1926533,0.22055359999999999,0.16476109999999999,102.171875,104.03260869565217,0.06,16,164,null,3.7583333333333333,{"$f":"NSbondPrice(prices!$P$2,prices!B19,prices!C19/100,'nelson siegel ASK'!$E$4,'nelson siegel ASK'!$E$5,'nelson siegel ASK'!$E$6,'nelson siegel ASK'!$E$7)","v":104.02003665691858}]
["9128276J6","8/15/2010",5.75,0.54246575342465753,"2/15/2010",103.03125,103.0625,0.5353050481590329,0.53530687697895396,0.19340350000000001,0.2210645,0.16575039999999999,103.0625,105.65625,0.06,16,164,null,5.2388888888888889,{"$f":"NSbondPrice(prices!$P$2,prices!B20,prices!C20/100,'nelson siegel ASK'!$E$4,'nelson siegel ASK'!$E$5,'nelson siegel ASK'!$E$6,'nelson siegel ASK'!$E$7)","v":105.64427243764462}]
["912828EG1","9/15/2010",3.875,0.62739726027397258,"3/15/2010",102.28125,102.3125,0.61773509734829102,0.61773621434425474,0.2075535,0.2319638,0.18315000000000001,102.3125,103.75759668508287,0.06,46,134,null,2.8847222222222224,{"$f":"NSbondPrice(prices!$P$2,prices!B21,prices!C21/100,'nelson siegel ASK'!$E$4,'nelson siegel ASK'!$E$5,'nelson siegel ASK'!$E$6,'nelson siegel ASK'!$E$7)","v":103.71558281834049}]
["912828EJ5","10/15/2010",4.25,0.70958904109589038,"4/15/2010",102.84375,102.875,0.701334289935449,0.70133535972704242,0.2255173,0.24694869999999999,0.20409150000000001,102.875,104.10096153846153,0.06,76,104,null,2.4555555555555553,{"$f":"NSbondPrice(prices!$P$2,prices!B22,prices!C22/100,'nelson siegel ASK'!$E$4,'nelson siegel ASK'!$E$5,'nelson siegel ASK'!$E$6,'nelson siegel ASK'!$E$7)","v":104.02568207701935}]
["912828EM8","11/15/2010",4.5,0.79452054794520544,"5/15/2010",103.359375,103.390625,0.78480036337849801,0.78480137013886297,0.25049939999999998,0.2696152,0.23138819999999999,103.390625,104.31051450276243,0.06,106,74,null,1.8499999999999999,{"$f":"NSbondPrice(prices!$P$2,prices!B23,prices!C23/100,'nelson siegel ASK'!$E$4,'nelson siegel ASK'!$E$5,'nelson siegel ASK'!$E$6,'nelson siegel ASK'!$E$7)","v":104.19820279053988}]
["912828EQ9","12/15/2010",4.375,0.87671232876712324,"6/15/2010",103.5625,103.59375,0.86862575800344299,0.86862664569735415,0.29622910000000002,0.31353530000000002,0.27892709999999998,103.59375,104.12259615384616,0.06,136,44,null,1.0694444444444444,{"$f":"NSbondPrice(prices!$P$2,prices!B24,prices!C24/100,'nelson siegel ASK'!$E$4,'nelson siegel ASK'!$E$5,'nelson siegel ASK'!$E$6,'nelson siegel ASK'!$E$7)","v":103.98883710479845}]
["912828ES5","1/15/2011",4.25,0.9616438356164384,"7/15/2010",103.75,103.78125,0.95387907368381009,0.95387986192846319,0.33442070000000002,0.35021170000000001,0.31863330000000001,103.78125,103.93387430939227,0.06,166,14,{"$f":"G25+S25","v":104.11180555555555},0.33055555555555555,{"$f":"NSbondPrice(prices!$P$2,prices!B25,prices!C25/100,'nelson siegel ASK'!$E$4,'nelson siegel ASK'!$E$5,'nelson siegel ASK'!$E$6,'nelson siegel ASK'!$E$7)","v":103.76027346005199}]
["9128276T4","2/15/2011",5,1.0465753424657533,"2/15/2010",104.8125,104.875,1.0139185182004138,1.0139265605099033,0.36873830000000002,0.39757559999999997,0.33991389999999999,104.875,107.1304347826087,0.06,16,164,{"$f":"G26+S26","v":109.43055555555556},4.5555555555555554,{"$f":"NSbondPrice(prices!$P$2,prices!B26,prices!C26/100,'nelson siegel ASK'!$E$4,'nelson siegel ASK'!$E$5,'nelson siegel ASK'!$E$6,'nelson siegel ASK'!$E$7)","v":106.90723418121783}]
["912828EX4","2/28/2011",4.5,1.0821917808219179,"2/28/2010",104.40625,104.46875,1.0539110665460876,1.0539181623273701,0.39929290000000001,0.42724820000000002,0.37135000000000001,104.46875,106.3333908839779,0.06,31,149,108.19374999999999,3.7249999999999996,{"$f":"NSbondPrice(prices!$P$2,prices!B27,prices!C27/100,'nelson siegel ASK'!$E$4,'nelson siegel ASK'!$E$5,'nelson siegel ASK'!$E$6,'nelson siegel ASK'!$E$7)","v":106.11098147246545}]
["912828FA3","3/31/2011",4.75,1.167123287671233,"3/31/2010",105,105.0625,1.1369514542304242,1.1369583414886859,0.43487940000000003,0.46072560000000001,0.40904430000000003,105.0625,106.62843406593407,0.06,61,119,108.20277777777778,3.1402777777777775,{"$f":"NSbondPrice(prices!$P$2,prices!B28,prices!C28/100,'nelson siegel ASK'!$E$4,'nelson siegel ASK'!$E$5,'nelson siegel ASK'!$E$6,'nelson siegel ASK'!$E$7)","v":106.3635671203716}]
["912828FD7","4/30/2011",4.875,1.2493150684931507,"4/30/2010",105.453125,105.515625,1.2199344317468481,1.2199409984734475,0.48287629999999998,0.50695069999999998,0.4588121,105.515625,106.71417472375691,0.06,91,89,107.92604166666666,2.4104166666666669,{"$f":"NSbondPrice(prices!$P$2,prices!B29,prices!C29/100,'nelson siegel ASK'!$E$4,'nelson siegel ASK'!$E$5,'nelson siegel ASK'!$E$6,'nelson siegel ASK'!$E$7)","v":106.41463425205527}]
["912828FH8","5/31/2011",4.875,1.3342465753424657,"5/31/2010",105.765625,105.828125,1.3036929050677073,1.3036990573338154,0.52094410000000002,0.54349619999999998,0.49840119999999999,105.828125,106.61830357142857,0.06,121,59,107.42604166666666,1.5979166666666667,{"$f":"NSbondPrice(prices!$P$2,prices!B30,prices!C30/100,'nelson siegel ASK'!$E$4,'nelson siegel ASK'!$E$5,'nelson siegel ASK'!$E$6,'nelson siegel ASK'!$E$7)","v":106.282544680485}]
["912828FK1","6/30/2011",5.125,1.4164383561643836,"6/30/2010",106.421875,106.484375,1.3867916095677872,1.3867976434377816,0.56406590000000001,0.58521900000000004,0.54292130000000005,106.484375,106.880783839779,0.06,151,29,107.31006944444445,0.82569444444444451,{"$f":"NSbondPrice(prices!$P$2,prices!B31,prices!C31/100,'nelson siegel ASK'!$E$4,'nelson siegel ASK'!$E$5,'nelson siegel ASK'!$E$6,'nelson siegel ASK'!$E$7)","v":106.5101657361116}]
["912828FN5","7/31/2011",4.875,1.5013698630136987,"1/31/2010",106.359375,106.421875,1.4410596485550828,1.4410743662459797,0.61152770000000001,0.63152600000000003,0.59153730000000004,106.421875,108.81963315217391,0.06,1,179,111.26979166666666,4.8479166666666664,{"$f":"NSbondPrice(prices!$P$2,prices!B32,prices!C32/100,'nelson siegel ASK'!$E$4,'nelson siegel ASK'!$E$5,'nelson siegel ASK'!$E$6,'nelson siegel ASK'!$E$7)","v":108.40994776748001}]
["9128277B2","8/15/2011",5,1.5424657534246575,"2/15/2010",106.78125,106.84375,1.4802847299757935,1.4802993270005071,0.57558750000000003,0.59500240000000004,0.55618009999999996,106.84375,109.0991847826087,0.06,16,164,111.39930555555556,4.5555555555555554,{"$f":"NSbondPrice(prices!$P$2,prices!B33,prices!C33/100,'nelson siegel ASK'!$E$4,'nelson siegel ASK'!$E$5,'nelson siegel ASK'!$E$6,'nelson siegel ASK'!$E$7)","v":108.5836388046329}]
["912828FS4","8/31/2011",4.625,1.5863013698630137,"2/28/2010",106.21875,106.28125,1.5216602596876831,1.5216736652676719,0.65602380000000005,0.67507589999999995,0.63697910000000002,106.28125,108.19768646408839,0.06,31,149,110.10972222222222,3.8284722222222221,{"$f":"NSbondPrice(prices!$P$2,prices!B34,prices!C34/100,'nelson siegel ASK'!$E$4,'nelson siegel ASK'!$E$5,'nelson siegel ASK'!$E$6,'nelson siegel ASK'!$E$7)","v":107.76083796695903}]
["912828FU9","9/30/2011",4.5,1.6684931506849314,"3/31/2010",106.28125,106.34375,1.6079162216934846,1.6079286592268749,0.69186740000000002,0.70996269999999995,0.67377920000000002,106.34375,107.82726648351648,0.06,61,119,109.31874999999999,2.9750000000000001,{"$f":"NSbondPrice(prices!$P$2,prices!B35,prices!C35/100,'nelson siegel ASK'!$E$4,'nelson siegel ASK'!$E$5,'nelson siegel ASK'!$E$6,'nelson siegel ASK'!$E$7)","v":107.33024856421412}]
["912828FW5","10/31/2011",4.625,1.7534246575342465,"4/30/2010",106.734375,106.796875,1.6901139608801887,1.6901260708429964,0.73543270000000005,0.75263449999999998,0.71823740000000003,106.796875,107.93396063535911,0.06,91,89,109.08368055555556,2.2868055555555555,{"$f":"NSbondPrice(prices!$P$2,prices!B36,prices!C36/100,'nelson siegel ASK'!$E$4,'nelson siegel ASK'!$E$5,'nelson siegel ASK'!$E$6,'nelson siegel ASK'!$E$7)","v":107.39278162999253}]
["912828GA2","11/30/2011",4.5,1.8356164383561644,"5/31/2010",106.71875,106.78125,1.7754304276750132,1.7754417380918255,0.79272589999999998,0.80917039999999996,0.77628770000000002,106.78125,107.51064560439561,0.06,121,59,108.25624999999999,1.4750000000000001,{"$f":"NSbondPrice(prices!$P$2,prices!B37,prices!C37/100,'nelson siegel ASK'!$E$4,'nelson siegel ASK'!$E$5,'nelson siegel ASK'!$E$6,'nelson siegel ASK'!$E$7)","v":106.95683991662831}]
["912828GC8","12/31/2011",4.625,1.9205479452054794,"6/30/2010",107.15625,107.21875,1.8585441211943916,1.8585551846750439,0.84786669999999997,0.86357039999999996,0.83216889999999999,107.21875,107.57648480662984,0.06,151,29,107.96388888888889,0.74513888888888891,{"$f":"NSbondPrice(prices!$P$2,prices!B38,prices!C38/100,'nelson siegel ASK'!$E$4,'nelson siegel ASK'!$E$5,'nelson siegel ASK'!$E$6,'nelson siegel ASK'!$E$7)","v":107.00852333032879}]
["912828GF1","1/31/2012",4.75,2.0054794520547947,"1/31/2010",107.671875,107.734375,1.9006889837930541,1.9007113792208539,0.87199199999999999,0.88700120000000005,0.85698850000000004,107.734375,110.07065217391305,0.06,1,179,112.45798611111111,4.7236111111111114,{"$f":"NSbondPrice(prices!$P$2,prices!B39,prices!C39/100,'nelson siegel ASK'!$E$4,'nelson siegel ASK'!$E$5,'nelson siegel ASK'!$E$6,'nelson siegel ASK'!$E$7)","v":109.41279760716473}]
["9128277L0","2/15/2012",4.875,2.0465753424657533,"2/15/2010",107.953125,108.015625,1.9388412668102804,1.9388636854138255,0.93149680000000001,0.94619569999999997,0.91680329999999999,108.015625,110.21467391304348,0.06,16,164,112.45729166666666,4.4416666666666664,{"$f":"NSbondPrice(prices!$P$2,prices!B40,prices!C40/100,'nelson siegel ASK'!$E$4,'nelson siegel ASK'!$E$5,'nelson siegel ASK'!$E$6,'nelson siegel ASK'!$E$7)","v":109.61741306472781}]
["912828GK0","2/29/2012",4.625,2.0849315068493151,"2/28/2010",107.578125,107.640625,1.9806177480716081,1.9806388883679231,0.93208820000000003,0.9465635,0.91761820000000005,107.640625,109.55706146408839,0.06,31,149,111.46909722222222,3.8284722222222221,{"$f":"NSbondPrice(prices!$P$2,prices!B41,prices!C41/100,'nelson siegel ASK'!$E$4,'nelson siegel ASK'!$E$5,'nelson siegel ASK'!$E$6,'nelson siegel ASK'!$E$7)","v":108.905203601149}]
["912828GM6","3/31/2012",4.5,2.1698630136986301,"3/31/2010",107.46875,107.53125,2.0677681644963344,2.0677880758764333,0.99756239999999996,1.0115011,0.98362870000000002,107.53125,109.01476648351648,0.06,61,119,110.50624999999999,2.9750000000000001,{"$f":"NSbondPrice(prices!$P$2,prices!B42,prices!C42/100,'nelson siegel ASK'!$E$4,'nelson siegel ASK'!$E$5,'nelson siegel ASK'!$E$6,'nelson siegel ASK'!$E$7)","v":108.34742096669318}]
["912828GQ7","4/30/2012",4.5,2.2520547945205478,"4/30/2010",107.671875,107.734375,2.1515318791085414,2.1515510558301303,1.0332598,1.0466796,1.0198448,107.734375,108.84072859116021,0.06,91,89,109.95937499999999,2.2250000000000001,{"$f":"NSbondPrice(prices!$P$2,prices!B43,prices!C43/100,'nelson siegel ASK'!$E$4,'nelson siegel ASK'!$E$5,'nelson siegel ASK'!$E$6,'nelson siegel ASK'!$E$7)","v":108.1341556353681}]
["912828GU8","5/31/2012",4.75,2.3369863013698629,"5/31/2010",108.4375,108.5,2.2301536631396877,2.2301729456649748,1.0717713,1.0846696,1.0588776,108.5,109.26991758241758,0.06,121,59,110.05694444444444,1.5569444444444445,{"$f":"NSbondPrice(prices!$P$2,prices!B44,prices!C44/100,'nelson siegel ASK'!$E$4,'nelson siegel ASK'!$E$5,'nelson siegel ASK'!$E$6,'nelson siegel ASK'!$E$7)","v":108.50881819142387}]
["912828GW4","6/30/2012",4.875,2.419178082191781,"6/30/2010",108.921875,108.984375,2.3122982600199773,2.3123172558132197,1.1184229000000001,1.1308555,1.1059947000000001,108.984375,109.36144682320442,0.06,151,29,109.76979166666666,0.78541666666666676,{"$f":"NSbondPrice(prices!$P$2,prices!B45,prices!C45/100,'nelson siegel ASK'!$E$4,'nelson siegel ASK'!$E$5,'nelson siegel ASK'!$E$6,'nelson siegel ASK'!$E$7)","v":108.55806445106103}]
["912828GZ7","7/31/2012",4.625,2.504109589041096,"1/31/2010",108.5,108.5625,2.3528142168966517,2.3528455465470723,1.163778,1.1758364000000001,1.1517238999999999,108.5625,110.83729619565217,0.06,1,179,113.16180555555556,4.5993055555555555,{"$f":"NSbondPrice(prices!$P$2,prices!B46,prices!C46/100,'nelson siegel ASK'!$E$4,'nelson siegel ASK'!$E$5,'nelson siegel ASK'!$E$6,'nelson siegel ASK'!$E$7)","v":110.01173080361426}]
["912828AJ9","8/15/2012",4.375,2.5452054794520547,"2/15/2010",108.078125,108.140625,2.401049580236192,2.4010791243258316,1.1378765,1.1497687999999999,1.1259884,108.140625,110.11413043478261,0.06,16,164,112.12673611111111,3.9861111111111112,{"$f":"NSbondPrice(prices!$P$2,prices!B47,prices!C47/100,'nelson siegel ASK'!$E$4,'nelson siegel ASK'!$E$5,'nelson siegel ASK'!$E$6,'nelson siegel ASK'!$E$7)","v":109.14481777263713}]
["912828HC7","8/31/2012",4.125,2.5890410958904111,"2/28/2010",107.46875,107.53125,2.4451996897193684,2.4452275875401499,1.1713879,1.1831608,1.1596191,107.53125,109.2405041436464,0.06,31,149,110.94583333333334,3.4145833333333333,{"$f":"NSbondPrice(prices!$P$2,prices!B48,prices!C48/100,'nelson siegel ASK'!$E$4,'nelson siegel ASK'!$E$5,'nelson siegel ASK'!$E$6,'nelson siegel ASK'!$E$7)","v":108.29396935568926}]
["912828HE3","9/30/2012",4.25,2.6712328767123288,"3/31/2010",107.859375,107.921875,2.5259691108119742,2.5259967906195211,1.2363436999999999,1.2477353,1.2249562000000001,107.921875,109.32297390109891,0.06,61,119,110.73159722222222,2.8097222222222222,{"$f":"NSbondPrice(prices!$P$2,prices!B49,prices!C49/100,'nelson siegel ASK'!$E$4,'nelson siegel ASK'!$E$5,'nelson siegel ASK'!$E$6,'nelson siegel ASK'!$E$7)","v":108.36703802003942}]
["912828HG8","10/31/2012",3.875,2.7561643835616438,"4/30/2010",106.96875,107.03125,2.6210786381638154,2.6211036998034469,1.2796312000000001,1.290748,1.2685183,107.03125,107.98394337016575,0.06,91,89,108.94722222222222,1.9159722222222224,{"$f":"NSbondPrice(prices!$P$2,prices!B50,prices!C50/100,'nelson siegel ASK'!$E$4,'nelson siegel ASK'!$E$5,'nelson siegel ASK'!$E$6,'nelson siegel ASK'!$E$7)","v":107.0005900126493}]
["912828AP5","11/15/2012",4,2.7972602739726029,"5/15/2010",107.4375,107.5,2.6587083687137638,2.6587336470729732,1.2715634,1.2824886,1.260642,107.5,108.31767955801105,0.06,106,74,109.14444444444445,1.6444444444444444,{"$f":"NSbondPrice(prices!$P$2,prices!B51,prices!C51/100,'nelson siegel ASK'!$E$4,'nelson siegel ASK'!$E$5,'nelson siegel ASK'!$E$6,'nelson siegel ASK'!$E$7)","v":107.22400630209111}]
["912828HK9","11/30/2012",3.375,2.8383561643835615,"5/31/2010",105.625,105.6875,2.7203005259966191,2.7203224200463607,1.3367572000000001,1.347648,1.3258702,105.6875,106.2345467032967,0.06,121,59,106.79375,1.10625,{"$f":"NSbondPrice(prices!$P$2,prices!B52,prices!C52/100,'nelson siegel ASK'!$E$4,'nelson siegel ASK'!$E$5,'nelson siegel ASK'!$E$6,'nelson siegel ASK'!$E$7)","v":105.24564798791944}]
["912828HM5","12/31/2012",3.625,2.9232876712328766,"6/30/2010",106.421875,106.484375,2.7971366566684974,2.7971591650054997,1.3648925000000001,1.3754330000000001,1.3543556999999999,106.484375,106.76476174033149,0.06,151,29,107.06840277777778,0.58402777777777781,{"$f":"NSbondPrice(prices!$P$2,prices!B53,prices!C53/100,'nelson siegel ASK'!$E$4,'nelson siegel ASK'!$E$5,'nelson siegel ASK'!$E$6,'nelson siegel ASK'!$E$7)","v":105.69285989580537}]
["912828HQ6","1/31/2013",2.875,3.0082191780821916,"1/31/2010",104.265625,104.328125,2.867011086081106,2.8670406785073204,1.4110013000000001,1.4213867,1.4006194999999999,104.328125,105.7421875,0.06,1,179,107.18715277777778,2.8590277777777779,{"$f":"NSbondPrice(prices!$P$2,prices!B54,prices!C54/100,'nelson siegel ASK'!$E$4,'nelson siegel ASK'!$E$5,'nelson siegel ASK'!$E$6,'nelson siegel ASK'!$E$7)","v":104.63434052597353}]
["912828AU4","2/15/2013",3.875,3.0493150684931507,"2/15/2010",107.265625,107.328125,2.8646188484750335,2.8646555442322681,1.4208235,1.4309003,1.4107502000000001,107.328125,109.07608695652173,0.06,16,164,110.85868055555555,3.5305555555555554,{"$f":"NSbondPrice(prices!$P$2,prices!B55,prices!C55/100,'nelson siegel ASK'!$E$4,'nelson siegel ASK'!$E$5,'nelson siegel ASK'!$E$6,'nelson siegel ASK'!$E$7)","v":107.92285568674049}]
["912828HT0","2/28/2013",2.75,3.0849315068493151,"2/28/2010",103.890625,103.953125,2.9499870956678556,2.9500149853278494,1.4456102,1.4557677,1.4354563,103.953125,105.09262776243094,0.06,31,149,106.22951388888889,2.2763888888888886,{"$f":"NSbondPrice(prices!$P$2,prices!B56,prices!C56/100,'nelson siegel ASK'!$E$4,'nelson siegel ASK'!$E$5,'nelson siegel ASK'!$E$6,'nelson siegel ASK'!$E$7)","v":103.93710893169852}]
["912828HV5","3/31/2013",2.5,3.1698630136986301,"3/31/2010",103.015625,103.078125,3.0458337667342934,3.0458589837698518,1.5117562,1.5217101,1.5018058000000001,103.078125,103.90230082417582,0.06,61,119,104.73090277777777,1.6527777777777777,{"$f":"NSbondPrice(prices!$P$2,prices!B57,prices!C57/100,'nelson siegel ASK'!$E$4,'nelson siegel ASK'!$E$5,'nelson siegel ASK'!$E$6,'nelson siegel ASK'!$E$7)","v":102.76849481917519}]
["912828HY9","4/30/2013",3.125,3.2520547945205478,"4/30/2010",104.984375,105.046875,3.1015756220419637,3.101605015310144,1.5384016,1.5480011,1.5288055,105.046875,105.81517610497238,0.06,91,89,106.59201388888889,1.5451388888888888,{"$f":"NSbondPrice(prices!$P$2,prices!B58,prices!C58/100,'nelson siegel ASK'!$E$4,'nelson siegel ASK'!$E$5,'nelson siegel ASK'!$E$6,'nelson siegel ASK'!$E$7)","v":104.6172551469628}]
["912828BA7","5/15/2013",3.625,3.2931506849315069,"5/15/2010",106.65625,106.71875,3.1214169562873875,3.1214494355812854,1.5356822999999999,1.5450746,1.5262932,106.71875,107.45977209944752,0.06,106,74,108.20902777777778,1.4902777777777778,{"$f":"NSbondPrice(prices!$P$2,prices!B59,prices!C59/100,'nelson siegel ASK'!$E$4,'nelson siegel ASK'!$E$5,'nelson siegel ASK'!$E$6,'nelson siegel ASK'!$E$7)","v":106.17244888673318}]
["912828JB7","5/31/2013",3.5,{"$f":"(B60-$C$2)/365","v":3.3369863013698629},"5/31/2010",106.15625,106.21875,3.168906850250806,3.1689381763790472,1.5888856,1.598198,1.5795764000000001,106.21875,106.78605769230769,0.06,{"$f":"COUPDAYSNC($P$2,B60,IF(C60>0,2,1))","v":121},59,107.36597222222223,{"$f":"IF(C60>0,Q60/(P60+Q60)*C60,0)","v":1.1472222222222221},{"$f":"NSbondPrice(prices!$P$2,prices!B60,prices!C60/100,'nelson siegel ASK'!$E$4,'nelson siegel ASK'!$E$5,'nelson siegel ASK'!$E$6,'nelson siegel ASK'!$E$7)","v":105.58072508094533}]
["912828JD3","6/30/2013",3.375,3.419178082191781,"6/30/2010",105.71875,105.78125,3.2588638751284473,3.2588936848368224,1.6402678000000002,1.649389,1.6311496999999999,105.78125,106.04229972375691,0.06,151,29,106.325,0.54375000000000007,{"$f":"NSbondPrice(prices!$P$2,prices!B61,prices!C61/100,'nelson siegel ASK'!$E$4,'nelson siegel ASK'!$E$5,'nelson siegel ASK'!$E$6,'nelson siegel ASK'!$E$7)","v":104.83064372676164}]
["912828BH2","8/15/2013",4.25,3.5452054794520547,"2/15/2010",108.796875,108.859375,3.2848648394203472,3.2849158427497942,1.6770423999999999,1.6857061,1.6683816999999999,108.859375,110.77649456521739,0.06,16,164,112.73159722222222,3.8722222222222222,{"$f":"NSbondPrice(prices!$P$2,prices!B62,prices!C62/100,'nelson siegel ASK'!$E$4,'nelson siegel ASK'!$E$5,'nelson siegel ASK'!$E$6,'nelson siegel ASK'!$E$7)","v":109.44704365400922}]
["912828BR0","11/15/2013",4.25,3.7972602739726029,"5/15/2010",109,109.0625,3.5309389482632416,3.5309868730698928,1.7782073999999999,1.7863334,1.7700841999999999,109.0625,109.93128453038673,0.06,106,74,110.80972222222222,1.7472222222222222,{"$f":"NSbondPrice(prices!$P$2,prices!B63,prices!C63/100,'nelson siegel ASK'!$E$4,'nelson siegel ASK'!$E$5,'nelson siegel ASK'!$E$6,'nelson siegel ASK'!$E$7)","v":108.41343642334026}]
["912828CA6","2/15/2014",4,4.0493150684931507,"2/15/2010",108,108.0625,3.7285888429999976,3.728650725578246,1.9282439,1.9359492999999999,1.9205410999999999,108.0625,109.86684782608695,0.06,16,164,111.70694444444445,3.6444444444444444,{"$f":"NSbondPrice(prices!$P$2,prices!B64,prices!C64/100,'nelson siegel ASK'!$E$4,'nelson siegel ASK'!$E$5,'nelson siegel ASK'!$E$6,'nelson siegel ASK'!$E$7)","v":108.34722272562621}]
["912828CJ7","5/15/2014",4.75,4.2931506849315069,"5/15/2010",111.078125,111.140625,3.9251469241717611,3.9252122513852612,2.0352302,2.0424069999999999,2.0280559,111.140625,112.11161947513813,0.06,106,74,113.09340277777778,1.9527777777777777,{"$f":"NSbondPrice(prices!$P$2,prices!B65,prices!C65/100,'nelson siegel ASK'!$E$4,'nelson siegel ASK'!$E$5,'nelson siegel ASK'!$E$6,'nelson siegel ASK'!$E$7)","v":110.53036137547079}]
["912828CT5","8/15/2014",4.25,4.5452054794520551,"2/15/2010",109.078125,109.140625,4.1305511371096504,4.1306302274588083,2.137616,2.1445040999999998,2.1307303000000002,109.140625,111.05774456521739,0.06,16,164,113.01284722222222,3.8722222222222222,{"$f":"NSbondPrice(prices!$P$2,prices!B66,prices!C66/100,'nelson siegel ASK'!$E$4,'nelson siegel ASK'!$E$5,'nelson siegel ASK'!$E$6,'nelson siegel ASK'!$E$7)","v":109.32893277954214}]
["912828DC1","11/15/2014",4.25,4.7972602739726025,"5/15/2010",108.921875,108.984375,4.3757171034274256,4.3757928547033114,2.2684585999999998,2.2750363999999998,2.2618830999999999,108.984375,109.85315953038673,0.06,106,74,110.73159722222222,1.7472222222222222,{"$f":"NSbondPrice(prices!$P$2,prices!B67,prices!C67/100,'nelson siegel ASK'!$E$4,'nelson siegel ASK'!$E$5,'nelson siegel ASK'!$E$6,'nelson siegel ASK'!$E$7)","v":108.10703528001397}]
["912828DM9","2/15/2015",4,5.0493150684931507,"2/15/2010",107.59375,107.65625,4.564152295399178,4.564244827188789,2.3877060000000001,2.3940385000000002,2.3813756000000001,107.65625,109.46059782608695,0.06,16,164,111.30069444444445,3.6444444444444444,{"$f":"NSbondPrice(prices!$P$2,prices!B68,prices!C68/100,'nelson siegel ASK'!$E$4,'nelson siegel ASK'!$E$5,'nelson siegel ASK'!$E$6,'nelson siegel ASK'!$E$7)","v":107.70168308795832}]
["912828DV9","5/15/2015",4.125,5.2931506849315069,"5/15/2010",107.984375,108.046875,4.7969539626989572,4.7970446303691183,2.4989439999999998,2.505004,2.4928859000000001,108.046875,108.8901070441989,0.06,106,{"$f":"COUPDAYBS($P$2,B69,IF(C69>0,2,1))","v":74},109.74270833333334,1.6958333333333333,{"$f":"NSbondPrice(prices!$P$2,prices!B69,prices!C69/100,'nelson siegel ASK'!$E$4,'nelson siegel ASK'!$E$5,'nelson siegel ASK'!$E$6,'nelson siegel ASK'!$E$7)","v":107.1459967680878}]
["912828EE6","8/15/2015",4.25,5.5452054794520551,"2/15/2010",108.453125,108.515625,4.9407690231688681,4.9408830069282201,2.5979966999999999,2.6038009999999998,2.5921943999999999,108.515625,110.43274456521739,0.06,16,164,112.38784722222222,3.8722222222222222,{"$f":"NSbondPrice(prices!$P$2,prices!B70,prices!C70/100,'nelson siegel ASK'!$E$4,'nelson siegel ASK'!$E$5,'nelson siegel ASK'!$E$6,'nelson siegel ASK'!$E$7)","v":108.6019752125865}]
["912828EN6","11/15/2015",4.5,5.7972602739726025,"5/15/2010",109.78125,109.84375,5.1584287196015728,5.1585417871746229,2.661095,2.6666395000000001,2.6555523999999999,109.84375,110.76363950276243,0.06,106,74,111.69374999999999,1.8499999999999999,{"$f":"NSbondPrice(prices!$P$2,prices!B71,prices!C71/100,'nelson siegel ASK'!$E$4,'nelson siegel ASK'!$E$5,'nelson siegel ASK'!$E$6,'nelson siegel ASK'!$E$7)","v":108.70143342696409}]
["912828EW6","2/15/2016",4.5,6.0493150684931507,"2/15/2010",109.46875,109.53125,5.3012622170070784,5.3013996425022061,2.7824740000000001,2.7878337000000002,2.7771159999999999,109.53125,111.56114130434783,0.06,16,164,113.63124999999999,4.0999999999999996,{"$f":"NSbondPrice(prices!$P$2,prices!B72,prices!C72/100,'nelson siegel ASK'!$E$4,'nelson siegel ASK'!$E$5,'nelson siegel ASK'!$E$6,'nelson siegel ASK'!$E$7)","v":109.61041893213228}]
["912828FF2","5/15/2016",5.125,6.2958904109589042,"5/15/2010",112.90625,112.96875,5.4694724560860326,5.4696132837846552,2.8637662000000002,2.8688511999999999,2.8586828,112.96875,114.01640193370166,0.06,106,74,115.07569444444445,2.1069444444444443,{"$f":"NSbondPrice(prices!$P$2,prices!B73,prices!C73/100,'nelson siegel ASK'!$E$4,'nelson siegel ASK'!$E$5,'nelson siegel ASK'!$E$6,'nelson siegel ASK'!$E$7)","v":112.01239346536917}]
["912828FQ8","8/15/2016",4.875,6.5479452054794525,"2/15/2010",111.453125,111.515625,5.628736686491755,5.6289007993358346,2.9344165000000002,2.9393725000000002,2.9294622000000001,111.515625,113.71467391304348,0.06,16,164,115.95729166666666,4.4416666666666664,{"$f":"NSbondPrice(prices!$P$2,prices!B74,prices!C74/100,'nelson siegel ASK'!$E$4,'nelson siegel ASK'!$E$5,'nelson siegel ASK'!$E$6,'nelson siegel ASK'!$E$7)","v":111.54565034960035}]
["912828FY1","11/15/2016",4.625,6.8,"5/15/2010",109.78125,109.84375,5.9075491844485528,5.9077055225975315,3.0164881000000001,3.0213369000000001,3.011641,109.84375,110.78919198895028,0.06,106,74,111.74513888888889,1.9013888888888888,{"$f":"NSbondPrice(prices!$P$2,prices!B75,prices!C75/100,'nelson siegel ASK'!$E$4,'nelson siegel ASK'!$E$5,'nelson siegel ASK'!$E$6,'nelson siegel ASK'!$E$7)","v":108.51643460765992}]
["912828GH7","2/15/2017",4.625,7.0520547945205481,"2/15/2010",109.59375,109.65625,6.0320542543946205,6.0322383613739232,3.0944658,3.0991757,3.0897573999999999,109.65625,111.74252717391305,0.06,16,164,113.87013888888889,4.2138888888888886,{"$f":"NSbondPrice(prices!$P$2,prices!B76,prices!C76/100,'nelson siegel ASK'!$E$4,'nelson siegel ASK'!$E$5,'nelson siegel ASK'!$E$6,'nelson siegel ASK'!$E$7)","v":109.39651547672439}]
["912828GS3","5/15/2017",4.5,7.2958904109589042,"5/15/2010",108.546875,108.609375,6.2956616176646492,6.2958394538415199,3.1729444,3.1775501999999998,3.1683401999999998,108.609375,109.52926450276243,0.06,106,74,110.45937499999999,1.8499999999999999,{"$f":"NSbondPrice(prices!$P$2,prices!B77,prices!C77/100,'nelson siegel ASK'!$E$4,'nelson siegel ASK'!$E$5,'nelson siegel ASK'!$E$6,'nelson siegel ASK'!$E$7)","v":107.14451343278819}]
["912828HA1","8/15/2017",4.75,7.5479452054794525,"2/15/2010",110.09375,110.15625,6.3706615306261494,6.370872232378427,3.2277206999999999,3.2321610999999999,3.2232818000000001,110.15625,112.29891304347827,0.06,16,164,114.48402777777778,4.3277777777777775,{"$f":"NSbondPrice(prices!$P$2,prices!B78,prices!C78/100,'nelson siegel ASK'!$E$4,'nelson siegel ASK'!$E$5,'nelson siegel ASK'!$E$6,'nelson siegel ASK'!$E$7)","v":109.75257241415372}]
["912828HH6","11/15/2017",4.25,7.8,"5/15/2010",106.40625,106.46875,6.7034073748211407,6.7036057710745762,3.3058534000000002,3.3102702000000002,3.3014380999999999,106.46875,107.33753453038673,0.06,106,74,108.21597222222222,1.7472222222222222,{"$f":"NSbondPrice(prices!$P$2,prices!B79,prices!C79/100,'nelson siegel ASK'!$E$4,'nelson siegel ASK'!$E$5,'nelson siegel ASK'!$E$6,'nelson siegel ASK'!$E$7)","v":104.69994588033414}]
["912828HR4","2/15/2018",3.5,8.0520547945205472,"2/15/2010",100.875,100.9375,6.9801709089202628,6.9803835504698712,3.3703205999999999,3.3747633000000001,3.3658795000000001,100.9375,102.51630434782609,0.06,16,164,104.12638888888888,3.1888888888888887,{"$f":"NSbondPrice(prices!$P$2,prices!B80,prices!C80/100,'nelson siegel ASK'!$E$4,'nelson siegel ASK'!$E$5,'nelson siegel ASK'!$E$6,'nelson siegel ASK'!$E$7)","v":99.679153973058447}]
["912828HZ6","5/15/2018",3.875,8.2958904109589042,"5/15/2010",103.25,103.3125,7.1413793705179414,7.1415963335836725,3.4168558,3.4211328000000001,3.4125801999999998,103.3125,104.1046270718232,0.06,106,74,104.90555555555555,1.5930555555555554,{"$f":"NSbondPrice(prices!$P$2,prices!B81,prices!C81/100,'nelson siegel ASK'!$E$4,'nelson siegel ASK'!$E$5,'nelson siegel ASK'!$E$6,'nelson siegel ASK'!$E$7)","v":101.14149970919399}]
["912810DP0","5/15/2016",11.25,6.2958904109589042,"2/15/2010",142.171875,142.234375,4.0352115062610414,4.0353458863082867,2.3386217999999999,2.3439421,2.3333029000000001,142.234375,147.30910326086956,0.06,106,74,146.859375,4.625,{"$f":"NSbondPrice(prices!$P$2,prices!B82,prices!C82/100,'nelson siegel ASK'!$E$4,'nelson siegel ASK'!$E$5,'nelson siegel ASK'!$E$6,'nelson siegel ASK'!$E$7)","v":148.8600928715351}]
["912810DS4","11/15/2016",10.625,6.8,"2/15/2010",141.609375,141.671875,4.4014929535536984,4.4016448917889974,2.5330553,2.5379657,2.5281462000000001,141.671875,146.46467391304347,0.06,106,74,146.03993055555554,4.3680555555555554,{"$f":"NSbondPrice(prices!$P$2,prices!B83,prices!C83/100,'nelson siegel ASK'!$E$4,'nelson siegel ASK'!$E$5,'nelson siegel ASK'!$E$6,'nelson siegel ASK'!$E$7)","v":146.97820475203503}]
["912810DT2","5/15/2017",9.875,7.2958904109589042,"5/15/2010",138.546875,138.609375,4.69417975645848,4.6943246924281512,2.6490985999999999,2.6538968000000001,2.6443018,138.609375,140.62802140883977,0.06,106,74,142.66909722222223,4.0597222222222218,{"$f":"NSbondPrice(prices!$P$2,prices!B84,prices!C84/100,'nelson siegel ASK'!$E$4,'nelson siegel ASK'!$E$5,'nelson siegel ASK'!$E$6,'nelson siegel ASK'!$E$7)","v":143.65780883899083}]
["912810DV7","8/15/2017",9.25,7.5479452054794525,"2/15/2010",135.96875,136.03125,4.8254245906779074,4.8255942326437182,2.7488099999999998,2.7534941000000002,2.7441271999999999,136.03125,140.20380434782609,0.06,16,164,144.45902777777778,8.4277777777777771,{"$f":"NSbondPrice(prices!$P$2,prices!B85,prices!C85/100,'nelson siegel ASK'!$E$4,'nelson siegel ASK'!$E$5,'nelson siegel ASK'!$E$6,'nelson siegel ASK'!$E$7)","v":142.28630873703338}]
["912810DW5","5/15/2018",7.25,8.2958904109589042,"5/15/2010",124.96875,125.03125,5.2427491194086233,5.2429066226482668,2.8787285000000002,2.8835094999999997,2.8739489000000003,125.03125,126.51329419889503,0.06,106,74,128.01180555555555,2.9805555555555556,{"$f":"NSbondPrice(prices!$P$2,prices!B86,prices!C86/100,'nelson siegel ASK'!$E$4,'nelson siegel ASK'!$E$5,'nelson siegel ASK'!$E$6,'nelson siegel ASK'!$E$7)","v":126.53618133502951}]
["912810DX3","11/15/2018",7.5,8.8000000000000007,"5/15/2010",127.1875,127.25,5.557351207196688,5.5575316333787024,3.0359346,3.0403688999999998,3.0315015999999999,127.25,128.78314917127071,0.06,106,74,130.33333333333334,3.083333333333333,{"$f":"NSbondPrice(prices!$P$2,prices!B87,prices!C87/100,'nelson siegel ASK'!$E$4,'nelson siegel ASK'!$E$5,'nelson siegel ASK'!$E$6,'nelson siegel ASK'!$E$7)","v":128.75822099586404}]
["912810DY1","2/15/2019",8.75,9.0520547945205472,"5/15/2010",136.453125,136.515625,5.7540207205418028,5.7542253781343335,3.1186604,3.1226498,3.1146720999999999,136.515625,138.30429903314916,0.06,16,164,144.48784722222223,7.9722222222222223,{"$f":"NSbondPrice(prices!$P$2,prices!B88,prices!C88/100,'nelson siegel ASK'!$E$4,'nelson siegel ASK'!$E$5,'nelson siegel ASK'!$E$6,'nelson siegel ASK'!$E$7)","v":141.14755171465725}]
["912810DZ8","8/15/2019",8.875,9.5479452054794525,"2/15/2010",137.734375,137.796875,5.8046622687664602,5.8048958145047695,3.2028477,3.2067063,3.1989901000000001,137.796875,141.80027173913044,0.06,16,164,145.88298611111111,8.0861111111111104,{"$f":"NSbondPrice(prices!$P$2,prices!B89,prices!C89/100,'nelson siegel ASK'!$E$4,'nelson siegel ASK'!$E$5,'nelson siegel ASK'!$E$6,'nelson siegel ASK'!$E$7)","v":142.95692037529028}]
["912810EA2","2/15/2020",9.125,10.052054794520547,"5/15/2010",141.796875,141.859375,6.3218841256978484,6.3221317902865799,3.3150588000000001,3.3185563,3.3115624000000001,141.859375,143.72470649171271,0.06,16,164,{"$f":"G90+S90","v":150.1732638888889},8.3138888888888882,{"$f":"NSbondPrice(prices!$P$2,prices!B90,prices!C90/100,'nelson siegel ASK'!$E$4,'nelson siegel ASK'!$E$5,'nelson siegel ASK'!$E$6,'nelson siegel ASK'!$E$7)","v":145.86060859825972}]
["912810EB0","5/15/2020",9,10.298630136986301,"5/15/2010",141.96875,142.03125,6.6260030056640753,6.626273651473567,3.4273134000000001,3.4306486999999999,3.4239788999999998,142.03125,143.87102900552486,0.06,106,74,145.73124999999999,3.6999999999999997,{"$f":"NSbondPrice(prices!$P$2,prices!B91,prices!C91/100,'nelson siegel ASK'!$E$4,'nelson siegel ASK'!$E$5,'nelson siegel ASK'!$E$6,'nelson siegel ASK'!$E$7)","v":142.89796408310534}]
["912810EC8","8/15/2020",8.875,10.550684931506849,"2/15/2010",141.328125,141.390625,6.6804417815780042,6.6807435190747606,3.5019621000000001,3.5052368,3.4986883,141.390625,145.39402173913044,0.06,16,164,149.47673611111111,8.0861111111111104,{"$f":"NSbondPrice(prices!$P$2,prices!B92,prices!C92/100,'nelson siegel ASK'!$E$4,'nelson siegel ASK'!$E$5,'nelson siegel ASK'!$E$6,'nelson siegel ASK'!$E$7)","v":144.3019788054998}]
["912810ED6","2/15/2021",8.125,11.054794520547945,"2/15/2010",136.265625,136.328125,7.0671593884810209,7.0674888074186191,3.5991477000000001,3.6023642000000002,3.5959322,136.328125,139.99320652173913,0.06,16,164,143.73090277777777,7.4027777777777777,{"$f":"NSbondPrice(prices!$P$2,prices!B93,prices!C93/100,'nelson siegel ASK'!$E$4,'nelson siegel ASK'!$E$5,'nelson siegel ASK'!$E$6,'nelson siegel ASK'!$E$7)","v":137.78174817616031}]
["912810EE4","5/15/2021",8.5,11.298630136986301,"2/15/2010",140.390625,140.453125,7.2850119009594634,7.2853632297850677,3.6566274999999999,3.6596557000000001,3.6536,140.453125,144.28736413043478,0.06,106,74,143.94756944444444,3.4944444444444445,{"$f":"NSbondPrice(prices!$P$2,prices!B94,prices!C94/100,'nelson siegel ASK'!$E$4,'nelson siegel ASK'!$E$5,'nelson siegel ASK'!$E$6,'nelson siegel ASK'!$E$7)","v":139.50807070307721}]
["912810EF1","8/15/2021",8.75,11.550684931506849,"5/15/2010",142.984375,143.046875,7.4893236133656691,7.4896660099407804,3.6892469000000001,3.6921819,3.6863128000000001,143.046875,144.83554903314916,0.06,16,164,151.01909722222223,7.9722222222222223,{"$f":"NSbondPrice(prices!$P$2,prices!B95,prices!C95/100,'nelson siegel ASK'!$E$4,'nelson siegel ASK'!$E$5,'nelson siegel ASK'!$E$6,'nelson siegel ASK'!$E$7)","v":144.34172627173839}]
["912810EG9","11/15/2021",8.75,11.802739726027397,"2/15/2010",143.40625,143.46875,7.5099415483091407,7.5103154522375055,3.7307733999999999,3.7336497,3.7278980000000002,143.46875,147.41576086956522,0.06,106,74,147.06597222222223,3.5972222222222219,{"$f":"NSbondPrice(prices!$P$2,prices!B96,prices!C96/100,'nelson siegel ASK'!$E$4,'nelson siegel ASK'!$E$5,'nelson siegel ASK'!$E$6,'nelson siegel ASK'!$E$7)","v":142.44896801500624}]
["912810EH7","8/15/2022",7.875,12.550684931506849,"2/15/2010",136.453125,136.515625,7.9212695534097479,7.921677387995711,3.8001367999999998,3.8030078,3.7972666999999998,136.515625,140.06793478260869,0.06,16,164,143.69062500000001,7.1749999999999998,{"$f":"NSbondPrice(prices!$P$2,prices!B97,prices!C97/100,'nelson siegel ASK'!$E$4,'nelson siegel ASK'!$E$5,'nelson siegel ASK'!$E$6,'nelson siegel ASK'!$E$7)","v":136.36398279608645}]
["912810EJ3","11/15/2022",8.125,12.802739726027397,"5/15/2010",138.9375,139,8.1163219744561186,8.1167205956248889,3.8395424999999999,3.8423332000000001,3.8367526000000001,139,140.66091160220995,0.06,106,74,142.34027777777777,3.3402777777777777,{"$f":"NSbondPrice(prices!$P$2,prices!B98,prices!C98/100,'nelson siegel ASK'!$E$4,'nelson siegel ASK'!$E$5,'nelson siegel ASK'!$E$6,'nelson siegel ASK'!$E$7)","v":137.12188102557832}]
["912810EK0","2/15/2023",8.125,13.054794520547945,"2/15/2010",139.296875,139.359375,8.1294883953096875,8.129920246778223,3.8695708,3.8723112999999998,3.8668309999999999,139.359375,143.02445652173913,0.06,16,164,146.76215277777777,7.4027777777777777,{"$f":"NSbondPrice(prices!$P$2,prices!B99,prices!C99/100,'nelson siegel ASK'!$E$4,'nelson siegel ASK'!$E$5,'nelson siegel ASK'!$E$6,'nelson siegel ASK'!$E$7)","v":139.3252227847496}]
["912810EL8","8/15/2023",8,13.550684931506849,"5/15/2010",138.375,138.4375,8.3944639129429586,8.3948905393316036,3.904703,3.9074134000000003,3.9019933,138.4375,140.0728591160221,0.06,16,164,145.72638888888889,7.2888888888888888,{"$f":"NSbondPrice(prices!$P$2,prices!B100,prices!C100/100,'nelson siegel ASK'!$E$4,'nelson siegel ASK'!$E$5,'nelson siegel ASK'!$E$6,'nelson siegel ASK'!$E$7)","v":138.34889843608011}]
["912810EM6","11/15/2024",7.25,14.805479452054794,"2/15/2010",131.875,131.9375,8.8096274275702324,8.8101282941662404,3.9924632999999998,3.9951400000000001,3.9897873000000001,131.9375,135.2078804347826,0.06,106,74,134.91805555555555,2.9805555555555556,{"$f":"NSbondPrice(prices!$P$2,prices!B101,prices!C101/100,'nelson siegel ASK'!$E$4,'nelson siegel ASK'!$E$5,'nelson siegel ASK'!$E$6,'nelson siegel ASK'!$E$7)","v":128.75789647618191}]
["912810EN4","2/15/2025",7.625,15.057534246575342,"5/15/2010",135.8125,135.875,8.9674405488788711,8.9679277061358356,4.0145809999999997,4.0171684000000001,4.0119943999999998,135.875,137.43370165745856,0.06,16,164,142.82222222222222,6.947222222222222,{"$f":"NSbondPrice(prices!$P$2,prices!B102,prices!C102/100,'nelson siegel ASK'!$E$4,'nelson siegel ASK'!$E$5,'nelson siegel ASK'!$E$6,'nelson siegel ASK'!$E$7)","v":134.99564015365553}]
["912810EP9","8/15/2025",7.125,15.553424657534247,"2/15/2010",130.609375,130.671875,9.0772859928198262,9.0778212308101551,4.0740574000000001,4.0766819999999999,4.0714337,130.671875,133.8858695652174,0.06,16,164,137.16354166666667,6.4916666666666663,{"$f":"NSbondPrice(prices!$P$2,prices!B103,prices!C103/100,'nelson siegel ASK'!$E$4,'nelson siegel ASK'!$E$5,'nelson siegel ASK'!$E$6,'nelson siegel ASK'!$E$7)","v":129.37133009475741}]
["912810EQ7","2/15/2026",6.25,16.057534246575344,"2/15/2010",121.71875,121.78125,9.5517376941214973,9.5523237104658296,4.1366436999999996,4.1393247000000004,4.1339636000000004,121.78125,124.60054347826087,0.06,16,164,127.47569444444444,5.6944444444444446,{"$f":"NSbondPrice(prices!$P$2,prices!B104,prices!C104/100,'nelson siegel ASK'!$E$4,'nelson siegel ASK'!$E$5,'nelson siegel ASK'!$E$6,'nelson siegel ASK'!$E$7)","v":118.96397093294379}]
["912810ES3","8/15/2026",7.5,16.553424657534247,"5/15/2010",136.234375,136.265625,9.9272554344931834,9.9275581683399459,4.1874669000000004,4.1886331999999999,4.1863007000000003,136.265625,137.79877417127071,0.06,16,164,143.09895833333334,6.833333333333333,{"$f":"NSbondPrice(prices!$P$2,prices!B105,prices!C105/100,'nelson siegel ASK'!$E$4,'nelson siegel ASK'!$E$5,'nelson siegel ASK'!$E$6,'nelson siegel ASK'!$E$7)","v":134.34006371448021}]
["912810ET1","11/15/2026",7.625,16.805479452054794,"2/15/2010",137.765625,137.828125,9.8711934304569819,9.871832061534537,4.2087949,4.2110837999999999,4.2065067999999997,137.828125,141.26766304347825,0.06,106,74,140.96284722222222,3.134722222222222,{"$f":"NSbondPrice(prices!$P$2,prices!B106,prices!C106/100,'nelson siegel ASK'!$E$4,'nelson siegel ASK'!$E$5,'nelson siegel ASK'!$E$6,'nelson siegel ASK'!$E$7)","v":134.13653515003725}]
["912810EV6","2/15/2027",6.875,17.057534246575344,"2/15/2010",129.578125,129.640625,10.292333497221875,10.293030519917846,4.2525272000000003,4.2548639000000001,4.2501911999999997,129.640625,132.74184782608697,0.06,16,164,135.90451388888889,6.2638888888888884,{"$f":"NSbondPrice(prices!$P$2,prices!B107,prices!C107/100,'nelson siegel ASK'!$E$4,'nelson siegel ASK'!$E$5,'nelson siegel ASK'!$E$6,'nelson siegel ASK'!$E$7)","v":126.82191296664163}]
["912810EW4","8/15/2027",6,17.553424657534247,"2/15/2010",119.5625,119.625,10.793373211936377,10.794140980941698,4.2972954999999997,4.2997139999999998,4.2948778000000001,119.625,122.33152173913044,0.06,16,164,125.09166666666667,5.4666666666666668,{"$f":"NSbondPrice(prices!$P$2,prices!B108,prices!C108/100,'nelson siegel ASK'!$E$4,'nelson siegel ASK'!$E$5,'nelson siegel ASK'!$E$6,'nelson siegel ASK'!$E$7)","v":115.89510571535203}]
["912810EX2","11/15/2027",6.75,17.805479452054794,"2/15/2010",128.828125,128.890625,10.760412939969809,10.761178505869893,4.2953250000000001,4.2975741999999997,4.2930764999999997,128.890625,131.93546195652175,0.06,106,74,131.66562500000001,2.7749999999999999,{"$f":"NSbondPrice(prices!$P$2,prices!B109,prices!C109/100,'nelson siegel ASK'!$E$4,'nelson siegel ASK'!$E$5,'nelson siegel ASK'!$E$6,'nelson siegel ASK'!$E$7)","v":123.81963563906737}]
["912810EY0","8/15/2028",6.5,18.556164383561644,"5/15/2010",125.828125,125.890625,11.081533107059997,11.082303983079848,4.3184940000000003,4.3207592999999997,4.3162295000000004,125.890625,127.21935428176796,0.06,16,164,131.81284722222222,5.9222222222222225,{"$f":"NSbondPrice(prices!$P$2,prices!B110,prices!C110/100,'nelson siegel ASK'!$E$4,'nelson siegel ASK'!$E$5,'nelson siegel ASK'!$E$6,'nelson siegel ASK'!$E$7)","v":122.50062289079128}]
["912810EZ7","11/15/2028",6.625,18.80821917808219,"2/15/2010",127.421875,127.484375,11.004098423391783,11.004904627842466,4.3308856000000002,4.3331099999999996,4.3286617999999999,127.484375,130.47282608695653,0.06,106,74,130.2079861111111,2.723611111111111,{"$f":"NSbondPrice(prices!$P$2,prices!B111,prices!C111/100,'nelson siegel ASK'!$E$4,'nelson siegel ASK'!$E$5,'nelson siegel ASK'!$E$6,'nelson siegel ASK'!$E$7)","v":122.57098982996639}]
["912810FA1","2/15/2029",6.375,19.06027397260274,"2/15/2010",124.5625,124.625,11.29356253988858,11.294416792169011,4.3556319999999999,4.3578501999999997,4.3534145000000004,124.625,127.50067934782609,0.06,16,164,130.43333333333334,5.8083333333333336,{"$f":"NSbondPrice(prices!$P$2,prices!B112,prices!C112/100,'nelson siegel ASK'!$E$4,'nelson siegel ASK'!$E$5,'nelson siegel ASK'!$E$6,'nelson siegel ASK'!$E$7)","v":120.99245311138031}]
["912810FB9","8/15/2029",6.125,19.556164383561644,"5/15/2010",121.546875,121.609375,11.628249969680761,11.629111033191528,4.3675826999999998,4.3698186999999997,4.3653475999999998,121.609375,122.86144682320442,0.06,16,164,127.18993055555555,5.5805555555555557,{"$f":"NSbondPrice(prices!$P$2,prices!B113,prices!C113/100,'nelson siegel ASK'!$E$4,'nelson siegel ASK'!$E$5,'nelson siegel ASK'!$E$6,'nelson siegel ASK'!$E$7)","v":117.79544663693851}]
["912810FE3","5/15/2030",5.5,20.304109589041097,"2/15/2010",113.640625,113.703125,12.041735834426852,12.042723814781503,4.4127010000000002,4.4149846999999998,4.4104179999999999,113.703125,116.18410326086956,0.06,106,74,115.96423611111111,2.2611111111111111,{"$f":"NSbondPrice(prices!$P$2,prices!B114,prices!C114/100,'nelson siegel ASK'!$E$4,'nelson siegel ASK'!$E$5,'nelson siegel ASK'!$E$6,'nelson siegel ASK'!$E$7)","v":108.07384198331614}]
["912810FF0","2/15/2031",5.25,21.06027397260274,"5/15/2010",110.484375,110.546875,12.40183712413986,12.402834857316272,4.4199535000000001,4.4222618000000002,4.4176462000000001,110.546875,111.62007941988951,0.06,16,164,115.33020833333333,4.7833333333333332,{"$f":"NSbondPrice(prices!$P$2,prices!B115,prices!C115/100,'nelson siegel ASK'!$E$4,'nelson siegel ASK'!$E$5,'nelson siegel ASK'!$E$6,'nelson siegel ASK'!$E$7)","v":106.02197666604454}]
["912810FG8","2/15/2036",5.25,26.063013698630137,"2/15/2010",110.453125,110.515625,12.358583686794214,12.359631666395522,4.4292227999999998,4.4315132999999998,4.4269331999999997,110.515625,112.88383152173913,0.06,16,164,115.29895833333333,4.7833333333333332,{"$f":"NSbondPrice(prices!$P$2,prices!B116,prices!C116/100,'nelson siegel ASK'!$E$4,'nelson siegel ASK'!$E$5,'nelson siegel ASK'!$E$6,'nelson siegel ASK'!$E$7)","v":107.28112198497344}]
["912810FJ2","2/15/2037",6.125,27.065753424657533,"2/15/2010",122.25,122.28125,12.173815557899809,12.174321251911049,4.41296,4.4140093,4.4119108999999996,122.28125,125.04415760869566,0.06,16,164,127.86180555555555,5.5805555555555557,{"$f":"NSbondPrice(prices!$P$2,prices!B117,prices!C117/100,'nelson siegel ASK'!$E$4,'nelson siegel ASK'!$E$5,'nelson siegel ASK'!$E$6,'nelson siegel ASK'!$E$7)","v":121.41342148277101}]
["912810FM5","5/15/2037",6.25,27.30958904109589,"5/15/2010",124.28125,124.34375,12.556157557882633,12.557184276789156,4.4221813000000001,4.424207,4.4201562000000001,124.34375,125.62137430939227,0.06,106,74,126.91319444444444,2.5694444444444442,{"$f":"NSbondPrice(prices!$P$2,prices!B118,prices!C118/100,'nelson siegel ASK'!$E$4,'nelson siegel ASK'!$E$5,'nelson siegel ASK'!$E$6,'nelson siegel ASK'!$E$7)","v":122.00698016211585}]
["912810FP8","2/15/2031",5.375,21.06027397260274,"2/15/2010",112.375,112.4375,13.063541013496764,13.064741063017763,4.4599905,4.4621202999999996,4.4578613999999996,112.4375,114.86209239130434,0.06,{"$f":"COUPDAYSNC($P$2,B119,IF(C119>0,2,1))","v":16},164,117.33472222222223,{"$f":"IF(C119>0,Q119/(P119+Q119)*C119,0)","v":4.8972222222222221},{"$f":"NSbondPrice(prices!$P$2,prices!B119,prices!C119/100,'nelson siegel ASK'!$E$4,'nelson siegel ASK'!$E$5,'nelson siegel ASK'!$E$6,'nelson siegel ASK'!$E$7)","v":107.76434055422627}]
["912810FT0","2/15/2036",4.5,{"$f":"(B120-$C$2)/365","v":26.063013698630137},"2/15/2010",99.796875,99.859375,15.272557665884053,15.274352019277908,4.5111375999999996,4.5131920000000001,4.5090842000000002,99.859375,101.88926630434783,0.06,16,164,103.95937499999999,4.0999999999999996,{"$f":"NSbondPrice(prices!$P$2,prices!B120,prices!C120/100,'nelson siegel ASK'!$E$4,'nelson siegel ASK'!$E$5,'nelson siegel ASK'!$E$6,'nelson siegel ASK'!$E$7)","v":95.73699157469953}]
["912810PT9","2/15/2037",4.75,27.065753424657533,"2/15/2010",103.609375,103.671875,15.391795154475346,15.393627918922638,4.5153901000000003,4.517353,4.5134281999999999,103.671875,105.81453804347827,0.06,16,164,107.99965277777778,4.3277777777777775,{"$f":"NSbondPrice(prices!$P$2,prices!B121,prices!C121/100,'nelson siegel ASK'!$E$4,'nelson siegel ASK'!$E$5,'nelson siegel ASK'!$E$6,'nelson siegel ASK'!$E$7)","v":99.894688067661903}]
["912810PU6","5/15/2037",5,27.30958904109589,"5/15/2010",107.671875,107.734375,15.479982889976833,15.48174455250996,4.5062803999999996,4.5081791999999998,4.5043825000000002,107.734375,108.75647444751381,0.06,106,74,109.78993055555556,2.0555555555555554,{"$f":"NSbondPrice(prices!$P$2,prices!B122,prices!C122/100,'nelson siegel ASK'!$E$4,'nelson siegel ASK'!$E$5,'nelson siegel ASK'!$E$6,'nelson siegel ASK'!$E$7)","v":102.67615494439923}]

{"sheet":"nelson siegel ASK","index":2,"n_rows":118,"n_cols":7,"rows_kept":118,"cut":false,"hidden":false,"merged":[]}
["Mkt Price","Th. Price","Pricing Errors","abs(diff)","parameters","sq. er w/o bills","sq err w bills"]
[]
[]
[{"$f":"prices!N4","v":101.07642663043478},{"$f":"NSbondPrice(prices!$P$2,prices!$B4,prices!$C4/100,'nelson siegel ASK'!$E$4,'nelson siegel ASK'!$E$5,'nelson siegel ASK'!$E$6,'nelson siegel ASK'!$E$7)","v":101.06374532626688},{"$f":"A4-B4","v":1.2681304167898588E-2},{"$f":"ABS(A4-B4)","v":1.2681304167898588E-2},-0.03,{"$f":"SUM(D25:D118)","v":209.87107892883844},{"$f":"SUM(D4:D118)","v":210.36737957001142}]
[{"$f":"prices!N5","v":101.76630434782609},{"$f":"NSbondPrice(prices!$P$2,prices!$B5,prices!$C5/100,'nelson siegel ASK'!$E$4,'nelson siegel ASK'!$E$5,'nelson siegel ASK'!$E$6,'nelson siegel ASK'!$E$7)","v":101.7591225438409},{"$f":"A5-B5","v":7.1818039851905269E-3},{"$f":"ABS(A5-B5)","v":7.1818039851905269E-3},2.770788695853731E-2]
[{"$f":"prices!N6","v":102.39266304347827},{"$f":"NSbondPrice(prices!$P$2,prices!$B6,prices!$C6/100,'nelson siegel ASK'!$E$4,'nelson siegel ASK'!$E$5,'nelson siegel ASK'!$E$6,'nelson siegel ASK'!$E$7)","v":102.38417857912248},8.4844643557886457E-3,{"$f":"ABS(A6-B6)","v":8.4844643557886457E-3},0.23263729599565744]
[{"$f":"prices!N7","v":103.2601902173913},{"$f":"NSbondPrice(prices!$P$2,prices!$B7,prices!$C7/100,'nelson siegel ASK'!$E$4,'nelson siegel ASK'!$E$5,'nelson siegel ASK'!$E$6,'nelson siegel ASK'!$E$7)","v":103.25925702851669},9.3318887461180111E-4,9.3318887461180111E-4,7.7145317316797912E-2]
[{"$f":"prices!N8","v":101.01622928176796},{"$f":"NSbondPrice(prices!$P$2,prices!$B8,prices!$C8/100,'nelson siegel ASK'!$E$4,'nelson siegel ASK'!$E$5,'nelson siegel ASK'!$E$6,'nelson siegel ASK'!$E$7)","v":101.01365949024778},2.5697915201874366E-3,2.5697915201874366E-3]
[{"$f":"prices!N9","v":102.00733770718232},{"$f":"NSbondPrice(prices!$P$2,prices!$B9,prices!$C9/100,'nelson siegel ASK'!$E$4,'nelson siegel ASK'!$E$5,'nelson siegel ASK'!$E$6,'nelson siegel ASK'!$E$7)","v":102.01665284218466},-9.3151350023390478E-3,9.3151350023390478E-3]
[{"$f":"prices!N10","v":100.88942307692308},{"$f":"NSbondPrice(prices!$P$2,prices!$B10,prices!$C10/100,'nelson siegel ASK'!$E$4,'nelson siegel ASK'!$E$5,'nelson siegel ASK'!$E$6,'nelson siegel ASK'!$E$7)","v":100.8915753665519},-2.1522896288246329E-3,2.1522896288246329E-3]
[{"$f":"prices!N11","v":101.99759615384616},{"$f":"NSbondPrice(prices!$P$2,prices!$B11,prices!$C11/100,'nelson siegel ASK'!$E$4,'nelson siegel ASK'!$E$5,'nelson siegel ASK'!$E$6,'nelson siegel ASK'!$E$7)","v":102.01412258579531},-1.6526431949145604E-2,1.6526431949145604E-2]
[{"$f":"prices!N12","v":101.06931975138122},{"$f":"NSbondPrice(prices!$P$2,prices!$B12,prices!$C12/100,'nelson siegel ASK'!$E$4,'nelson siegel ASK'!$E$5,'nelson siegel ASK'!$E$6,'nelson siegel ASK'!$E$7)","v":101.07127224344953},-1.9524920683124947E-3,1.9524920683124947E-3]
[{"$f":"prices!N13","v":101.9327520718232},{"$f":"NSbondPrice(prices!$P$2,prices!$B13,prices!$C13/100,'nelson siegel ASK'!$E$4,'nelson siegel ASK'!$E$5,'nelson siegel ASK'!$E$6,'nelson siegel ASK'!$E$7)","v":101.93847107617771},-5.7190043545034541E-3,5.7190043545034541E-3]
[{"$f":"prices!N14","v":102.23238950276243},{"$f":"NSbondPrice(prices!$P$2,prices!$B14,prices!$C14/100,'nelson siegel ASK'!$E$4,'nelson siegel ASK'!$E$5,'nelson siegel ASK'!$E$6,'nelson siegel ASK'!$E$7)","v":102.25097405311266},-1.8584550350226436E-2,1.8584550350226436E-2]
[{"$f":"prices!N15","v":101.30048076923077},{"$f":"NSbondPrice(prices!$P$2,prices!$B15,prices!$C15/100,'nelson siegel ASK'!$E$4,'nelson siegel ASK'!$E$5,'nelson siegel ASK'!$E$6,'nelson siegel ASK'!$E$7)","v":101.30227436861402},-1.793599383248079E-3,1.793599383248079E-3]
[{"$f":"prices!N16","v":101.78193681318682},{"$f":"NSbondPrice(prices!$P$2,prices!$B16,prices!$C16/100,'nelson siegel ASK'!$E$4,'nelson siegel ASK'!$E$5,'nelson siegel ASK'!$E$6,'nelson siegel ASK'!$E$7)","v":101.78902472113256},-7.0879079457455418E-3,7.0879079457455418E-3]
[{"$f":"prices!N17","v":101.39425069060773},{"$f":"NSbondPrice(prices!$P$2,prices!$B17,prices!$C17/100,'nelson siegel ASK'!$E$4,'nelson siegel ASK'!$E$5,'nelson siegel ASK'!$E$6,'nelson siegel ASK'!$E$7)","v":101.39841867435501},-4.1679837472798908E-3,4.1679837472798908E-3]
[{"$f":"prices!N18","v":101.88915745856353},{"$f":"NSbondPrice(prices!$P$2,prices!$B18,prices!$C18/100,'nelson siegel ASK'!$E$4,'nelson siegel ASK'!$E$5,'nelson siegel ASK'!$E$6,'nelson siegel ASK'!$E$7)","v":101.87992045526765},9.237003295879731E-3,9.237003295879731E-3]
[{"$f":"prices!N19","v":104.03260869565217},{"$f":"NSbondPrice(prices!$P$2,prices!$B19,prices!$C19/100,'nelson siegel ASK'!$E$4,'nelson siegel ASK'!$E$5,'nelson siegel ASK'!$E$6,'nelson siegel ASK'!$E$7)","v":104.02003665691858},1.2572038733594582E-2,1.2572038733594582E-2]
[{"$f":"prices!N20","v":105.65625},{"$f":"NSbondPrice(prices!$P$2,prices!$B20,prices!$C20/100,'nelson siegel ASK'!$E$4,'nelson siegel ASK'!$E$5,'nelson siegel ASK'!$E$6,'nelson siegel ASK'!$E$7)","v":105.64427243764462},1.1977562355383498E-2,1.1977562355383498E-2]
[{"$f":"prices!N21","v":103.75759668508287},{"$f":"NSbondPrice(prices!$P$2,prices!$B21,prices!$C21/100,'nelson siegel ASK'!$E$4,'nelson siegel ASK'!$E$5,'nelson siegel ASK'!$E$6,'nelson siegel ASK'!$E$7)","v":103.71558281834049},4.2013866742379946E-2,4.2013866742379946E-2]
[{"$f":"prices!N22","v":104.10096153846153},{"$f":"NSbondPrice(prices!$P$2,prices!$B22,prices!$C22/100,'nelson siegel ASK'!$E$4,'nelson siegel ASK'!$E$5,'nelson siegel ASK'!$E$6,'nelson siegel ASK'!$E$7)","v":104.02568207701935},7.5279461442178786E-2,7.5279461442178786E-2]
[{"$f":"prices!N23","v":104.31051450276243},{"$f":"NSbondPrice(prices!$P$2,prices!$B23,prices!$C23/100,'nelson siegel ASK'!$E$4,'nelson siegel ASK'!$E$5,'nelson siegel ASK'!$E$6,'nelson siegel ASK'!$E$7)","v":104.19820279053988},0.11231171222254943,0.11231171222254943]
[{"$f":"prices!N24","v":104.12259615384616},{"$f":"NSbondPrice(prices!$P$2,prices!$B24,prices!$C24/100,'nelson siegel ASK'!$E$4,'nelson siegel ASK'!$E$5,'nelson siegel ASK'!$E$6,'nelson siegel ASK'!$E$7)","v":103.98883710479845},0.13375904904771119,0.13375904904771119]
[{"$f":"prices!N25","v":103.93387430939227},{"$f":"NSbondPrice(prices!$P$2,prices!$B25,prices!$C25/100,'nelson siegel ASK'!$E$4,'nelson siegel ASK'!$E$5,'nelson siegel ASK'!$E$6,'nelson siegel ASK'!$E$7)","v":103.76027346005199},0.17360084934027498,0.17360084934027498]
[{"$f":"prices!N26","v":107.1304347826087},{"$f":"NSbondPrice(prices!$P$2,prices!$B26,prices!$C26/100,'nelson siegel ASK'!$E$4,'nelson siegel ASK'!$E$5,'nelson siegel ASK'!$E$6,'nelson siegel ASK'!$E$7)","v":106.90723418121783},0.22320060139087161,0.22320060139087161]
[{"$f":"prices!N27","v":106.3333908839779},{"$f":"NSbondPrice(prices!$P$2,prices!$B27,prices!$C27/100,'nelson siegel ASK'!$E$4,'nelson siegel ASK'!$E$5,'nelson siegel ASK'!$E$6,'nelson siegel ASK'!$E$7)","v":106.11098147246545},0.22240941151244442,0.22240941151244442]
[{"$f":"prices!N28","v":106.62843406593407},{"$f":"NSbondPrice(prices!$P$2,prices!$B28,prices!$C28/100,'nelson siegel ASK'!$E$4,'nelson siegel ASK'!$E$5,'nelson siegel ASK'!$E$6,'nelson siegel ASK'!$E$7)","v":106.3635671203716},0.26486694556247414,0.26486694556247414]
[{"$f":"prices!N29","v":106.71417472375691},{"$f":"NSbondPrice(prices!$P$2,prices!$B29,prices!$C29/100,'nelson siegel ASK'!$E$4,'nelson siegel ASK'!$E$5,'nelson siegel ASK'!$E$6,'nelson siegel ASK'!$E$7)","v":106.41463425205527},0.29954047170164699,0.29954047170164699]
[{"$f":"prices!N30","v":106.61830357142857},{"$f":"NSbondPrice(prices!$P$2,prices!$B30,prices!$C30/100,'nelson siegel ASK'!$E$4,'nelson siegel ASK'!$E$5,'nelson siegel ASK'!$E$6,'nelson siegel ASK'!$E$7)","v":106.282544680485},0.33575889094356626,0.33575889094356626]
[{"$f":"prices!N31","v":106.880783839779},{"$f":"NSbondPrice(prices!$P$2,prices!$B31,prices!$C31/100,'nelson siegel ASK'!$E$4,'nelson siegel ASK'!$E$5,'nelson siegel ASK'!$E$6,'nelson siegel ASK'!$E$7)","v":106.5101657361116},0.37061810366739678,0.37061810366739678]
[{"$f":"prices!N32","v":108.81963315217391},{"$f":"NSbondPrice(prices!$P$2,prices!$B32,prices!$C32/100,'nelson siegel ASK'!$E$4,'nelson siegel ASK'!$E$5,'nelson siegel ASK'!$E$6,'nelson siegel ASK'!$E$7)","v":108.40994776748001},0.40968538469390126,0.40968538469390126]
[{"$f":"prices!N33","v":109.0991847826087},{"$f":"NSbondPrice(prices!$P$2,prices!$B33,prices!$C33/100,'nelson siegel ASK'!$E$4,'nelson siegel ASK'!$E$5,'nelson siegel ASK'!$E$6,'nelson siegel ASK'!$E$7)","v":108.5836388046329},0.5155459779758047,0.5155459779758047]
[{"$f":"prices!N34","v":108.19768646408839},{"$f":"NSbondPrice(prices!$P$2,prices!$B34,prices!$C34/100,'nelson siegel ASK'!$E$4,'nelson siegel ASK'!$E$5,'nelson siegel ASK'!$E$6,'nelson siegel ASK'!$E$7)","v":107.76083796695903},0.43684849712936114,0.43684849712936114]
[{"$f":"prices!N35","v":107.82726648351648},{"$f":"NSbondPrice(prices!$P$2,prices!$B35,prices!$C35/100,'nelson siegel ASK'!$E$4,'nelson siegel ASK'!$E$5,'nelson siegel ASK'!$E$6,'nelson siegel ASK'!$E$7)","v":107.33024856421412},0.49701791930236539,0.49701791930236539]
[{"$f":"prices!N36","v":107.93396063535911},{"$f":"NSbondPrice(prices!$P$2,prices!$B36,prices!$C36/100,'nelson siegel ASK'!$E$4,'nelson siegel ASK'!$E$5,'nelson siegel ASK'!$E$6,'nelson siegel ASK'!$E$7)","v":107.39278162999253},0.54117900536658681,0.54117900536658681]
[{"$f":"prices!N37","v":107.51064560439561},{"$f":"NSbondPrice(prices!$P$2,prices!$B37,prices!$C37/100,'nelson siegel ASK'!$E$4,'nelson siegel ASK'!$E$5,'nelson siegel ASK'!$E$6,'nelson siegel ASK'!$E$7)","v":106.95683991662831},0.55380568776729433,0.55380568776729433]
[{"$f":"prices!N38","v":107.57648480662984},{"$f":"NSbondPrice(prices!$P$2,prices!$B38,prices!$C38/100,'nelson siegel ASK'!$E$4,'nelson siegel ASK'!$E$5,'nelson siegel ASK'!$E$6,'nelson siegel ASK'!$E$7)","v":107.00852333032879},0.56796147630105054,0.56796147630105054]
[{"$f":"prices!N39","v":110.07065217391305},{"$f":"NSbondPrice(prices!$P$2,prices!$B39,prices!$C39/100,'nelson siegel ASK'!$E$4,'nelson siegel ASK'!$E$5,'nelson siegel ASK'!$E$6,'nelson siegel ASK'!$E$7)","v":109.41279760716473},0.65785456674831266,0.65785456674831266]
[{"$f":"prices!N40","v":110.21467391304348},{"$f":"NSbondPrice(prices!$P$2,prices!$B40,prices!$C40/100,'nelson siegel ASK'!$E$4,'nelson siegel ASK'!$E$5,'nelson siegel ASK'!$E$6,'nelson siegel ASK'!$E$7)","v":109.61741306472781},0.5972608483156705,0.5972608483156705]
[{"$f":"prices!N41","v":109.55706146408839},{"$f":"NSbondPrice(prices!$P$2,prices!$B41,prices!$C41/100,'nelson siegel ASK'!$E$4,'nelson siegel ASK'!$E$5,'nelson siegel ASK'!$E$6,'nelson siegel ASK'!$E$7)","v":108.905203601149},0.65185786293939429,0.65185786293939429]
[{"$f":"prices!N42","v":109.01476648351648},{"$f":"NSbondPrice(prices!$P$2,prices!$B42,prices!$C42/100,'nelson siegel ASK'!$E$4,'nelson siegel ASK'!$E$5,'nelson siegel ASK'!$E$6,'nelson siegel ASK'!$E$7)","v":108.34742096669318},0.66734551682330334,0.66734551682330334]
[{"$f":"prices!N43","v":108.84072859116021},{"$f":"NSbondPrice(prices!$P$2,prices!$B43,prices!$C43/100,'nelson siegel ASK'!$E$4,'nelson siegel ASK'!$E$5,'nelson siegel ASK'!$E$6,'nelson siegel ASK'!$E$7)","v":108.1341556353681},0.70657295579211166,0.70657295579211166]
[{"$f":"prices!N44","v":109.26991758241758},{"$f":"NSbondPrice(prices!$P$2,prices!$B44,prices!$C44/100,'nelson siegel ASK'!$E$4,'nelson siegel ASK'!$E$5,'nelson siegel ASK'!$E$6,'nelson siegel ASK'!$E$7)","v":108.50881819142387},0.76109939099370649,0.76109939099370649]
[{"$f":"prices!N45","v":109.36144682320442},{"$f":"NSbondPrice(prices!$P$2,prices!$B45,prices!$C45/100,'nelson siegel ASK'!$E$4,'nelson siegel ASK'!$E$5,'nelson siegel ASK'!$E$6,'nelson siegel ASK'!$E$7)","v":108.55806445106103},0.80338237214338903,0.80338237214338903]
[{"$f":"prices!N46","v":110.83729619565217},{"$f":"NSbondPrice(prices!$P$2,prices!$B46,prices!$C46/100,'nelson siegel ASK'!$E$4,'nelson siegel ASK'!$E$5,'nelson siegel ASK'!$E$6,'nelson siegel ASK'!$E$7)","v":110.01173080361426},0.82556539203791601,0.82556539203791601]
[{"$f":"prices!N47","v":110.11413043478261},{"$f":"NSbondPrice(prices!$P$2,prices!$B47,prices!$C47/100,'nelson siegel ASK'!$E$4,'nelson siegel ASK'!$E$5,'nelson siegel ASK'!$E$6,'nelson siegel ASK'!$E$7)","v":109.14481777263713},0.96931266214548373,0.96931266214548373]
[{"$f":"prices!N48","v":109.2405041436464},{"$f":"NSbondPrice(prices!$P$2,prices!$B48,prices!$C48/100,'nelson siegel ASK'!$E$4,'nelson siegel ASK'!$E$5,'nelson siegel ASK'!$E$6,'nelson siegel ASK'!$E$7)","v":108.29396935568926},0.94653478795714818,0.94653478795714818]
[{"$f":"prices!N49","v":109.32297390109891},{"$f":"NSbondPrice(prices!$P$2,prices!$B49,prices!$C49/100,'nelson siegel ASK'!$E$4,'nelson siegel ASK'!$E$5,'nelson siegel ASK'!$E$6,'nelson siegel ASK'!$E$7)","v":108.36703802003942},0.95593588105948868,0.95593588105948868]
[{"$f":"prices!N50","v":107.98394337016575},{"$f":"NSbondPrice(prices!$P$2,prices!$B50,prices!$C50/100,'nelson siegel ASK'!$E$4,'nelson siegel ASK'!$E$5,'nelson siegel ASK'!$E$6,'nelson siegel ASK'!$E$7)","v":107.0005900126493},0.98335335751644948,0.98335335751644948]
[{"$f":"prices!N51","v":108.31767955801105},{"$f":"NSbondPrice(prices!$P$2,prices!$B51,prices!$C51/100,'nelson siegel ASK'!$E$4,'nelson siegel ASK'!$E$5,'nelson siegel ASK'!$E$6,'nelson siegel ASK'!$E$7)","v":107.22400630209111},1.0936732559199385,1.0936732559199385]
[{"$f":"prices!N52","v":106.2345467032967},{"$f":"NSbondPrice(prices!$P$2,prices!$B52,prices!$C52/100,'nelson siegel ASK'!$E$4,'nelson siegel ASK'!$E$5,'nelson siegel ASK'!$E$6,'nelson siegel ASK'!$E$7)","v":105.24564798791944},0.98889871537726037,0.98889871537726037]
[{"$f":"prices!N53","v":106.76476174033149},{"$f":"NSbondPrice(prices!$P$2,prices!$B53,prices!$C53/100,'nelson siegel ASK'!$E$4,'nelson siegel ASK'!$E$5,'nelson siegel ASK'!$E$6,'nelson siegel ASK'!$E$7)","v":105.69285989580537},1.0719018445261241,1.0719018445261241]
[{"$f":"prices!N54","v":105.7421875},{"$f":"NSbondPrice(prices!$P$2,prices!$B54,prices!$C54/100,'nelson siegel ASK'!$E$4,'nelson siegel ASK'!$E$5,'nelson siegel ASK'!$E$6,'nelson siegel ASK'!$E$7)","v":104.63434052597353},1.1078469740264723,1.1078469740264723]
[{"$f":"prices!N55","v":109.07608695652173},{"$f":"NSbondPrice(prices!$P$2,prices!$B55,prices!$C55/100,'nelson siegel ASK'!$E$4,'nelson siegel ASK'!$E$5,'nelson siegel ASK'!$E$6,'nelson siegel ASK'!$E$7)","v":107.92285568674049},1.1532312697812444,1.1532312697812444]
[{"$f":"prices!N56","v":105.09262776243094},{"$f":"NSbondPrice(prices!$P$2,prices!$B56,prices!$C56/100,'nelson siegel ASK'!$E$4,'nelson siegel ASK'!$E$5,'nelson siegel ASK'!$E$6,'nelson siegel ASK'!$E$7)","v":103.93710893169852},1.1555188307324187,1.1555188307324187]
[{"$f":"prices!N57","v":103.90230082417582},{"$f":"NSbondPrice(prices!$P$2,prices!$B57,prices!$C57/100,'nelson siegel ASK'!$E$4,'nelson siegel ASK'!$E$5,'nelson siegel ASK'!$E$6,'nelson siegel ASK'!$E$7)","v":102.76849481917519},1.1338060050006362,1.1338060050006362]
[{"$f":"prices!N58","v":105.81517610497238},{"$f":"NSbondPrice(prices!$P$2,prices!$B58,prices!$C58/100,'nelson siegel ASK'!$E$4,'nelson siegel ASK'!$E$5,'nelson siegel ASK'!$E$6,'nelson siegel ASK'!$E$7)","v":104.6172551469628},1.1979209580095755,1.1979209580095755]
[{"$f":"prices!N59","v":107.45977209944752},{"$f":"NSbondPrice(prices!$P$2,prices!$B59,prices!$C59/100,'nelson siegel ASK'!$E$4,'nelson siegel ASK'!$E$5,'nelson siegel ASK'!$E$6,'nelson siegel ASK'!$E$7)","v":106.17244888673318},1.287323212714341,1.287323212714341]
[{"$f":"prices!N60","v":106.78605769230769},{"$f":"NSbondPrice(prices!$P$2,prices!$B60,prices!$C60/100,'nelson siegel ASK'!$E$4,'nelson siegel ASK'!$E$5,'nelson siegel ASK'!$E$6,'nelson siegel ASK'!$E$7)","v":105.58072508094533},1.2053326113623655,1.2053326113623655]
[{"$f":"prices!N61","v":106.04229972375691},{"$f":"NSbondPrice(prices!$P$2,prices!$B61,prices!$C61/100,'nelson siegel ASK'!$E$4,'nelson siegel ASK'!$E$5,'nelson siegel ASK'!$E$6,'nelson siegel ASK'!$E$7)","v":104.83064372676164},1.211655996995276,1.211655996995276]
[{"$f":"prices!N62","v":110.77649456521739},{"$f":"NSbondPrice(prices!$P$2,prices!$B62,prices!$C62/100,'nelson siegel ASK'!$E$4,'nelson siegel ASK'!$E$5,'nelson siegel ASK'!$E$6,'nelson siegel ASK'!$E$7)","v":109.44704365400922},1.3294509112081698,1.3294509112081698]
[{"$f":"prices!N63","v":109.93128453038673},{"$f":"NSbondPrice(prices!$P$2,prices!$B63,prices!$C63/100,'nelson siegel ASK'!$E$4,'nelson siegel ASK'!$E$5,'nelson siegel ASK'!$E$6,'nelson siegel ASK'!$E$7)","v":108.41343642334026},1.5178481070464755,1.5178481070464755]
[{"$f":"prices!N64","v":109.86684782608695},{"$f":"NSbondPrice(prices!$P$2,prices!$B64,prices!$C64/100,'nelson siegel ASK'!$E$4,'nelson siegel ASK'!$E$5,'nelson siegel ASK'!$E$6,'nelson siegel ASK'!$E$7)","v":108.34722272562621},1.5196251004607433,1.5196251004607433]
[{"$f":"prices!N65","v":112.11161947513813},{"$f":"NSbondPrice(prices!$P$2,prices!$B65,prices!$C65/100,'nelson siegel ASK'!$E$4,'nelson siegel ASK'!$E$5,'nelson siegel ASK'!$E$6,'nelson siegel ASK'!$E$7)","v":110.53036137547079},1.5812580996673375,1.5812580996673375]
[{"$f":"prices!N66","v":111.05774456521739},{"$f":"NSbondPrice(prices!$P$2,prices!$B66,prices!$C66/100,'nelson siegel ASK'!$E$4,'nelson siegel ASK'!$E$5,'nelson siegel ASK'!$E$6,'nelson siegel ASK'!$E$7)","v":109.32893277954214},1.7288117856752478,1.7288117856752478]
[{"$f":"prices!N67","v":109.85315953038673},{"$f":"NSbondPrice(prices!$P$2,prices!$B67,prices!$C67/100,'nelson siegel ASK'!$E$4,'nelson siegel ASK'!$E$5,'nelson siegel ASK'!$E$6,'nelson siegel ASK'!$E$7)","v":108.10703528001397},1.746124250372759,1.746124250372759]
[{"$f":"prices!N68","v":109.46059782608695},{"$f":"NSbondPrice(prices!$P$2,prices!$B68,prices!$C68/100,'nelson siegel ASK'!$E$4,'nelson siegel ASK'!$E$5,'nelson siegel ASK'!$E$6,'nelson siegel ASK'!$E$7)","v":107.70168308795832},1.7589147381286381,1.7589147381286381]
[{"$f":"prices!N69","v":108.8901070441989},{"$f":"NSbondPrice(prices!$P$2,prices!$B69,prices!$C69/100,'nelson siegel ASK'!$E$4,'nelson siegel ASK'!$E$5,'nelson siegel ASK'!$E$6,'nelson siegel ASK'!$E$7)","v":107.1459967680878},{"$f":"A69-B69","v":1.7441102761111011},1.7441102761111011]
[{"$f":"prices!N70","v":110.43274456521739},{"$f":"NSbondPrice(prices!$P$2,prices!$B70,prices!$C70/100,'nelson siegel ASK'!$E$4,'nelson siegel ASK'!$E$5,'nelson siegel ASK'!$E$6,'nelson siegel ASK'!$E$7)","v":108.6019752125865},1.8307693526308952,{"$f":"ABS(A70-B70)","v":1.8307693526308952}]
[{"$f":"prices!N71","v":110.76363950276243},{"$f":"NSbondPrice(prices!$P$2,prices!$B71,prices!$C71/100,'nelson siegel ASK'!$E$4,'nelson siegel ASK'!$E$5,'nelson siegel ASK'!$E$6,'nelson siegel ASK'!$E$7)","v":108.70143342696409},2.0622060757983434,2.0622060757983434]
[{"$f":"prices!N72","v":111.56114130434783},{"$f":"NSbondPrice(prices!$P$2,prices!$B72,prices!$C72/100,'nelson siegel ASK'!$E$4,'nelson siegel ASK'!$E$5,'nelson siegel ASK'!$E$6,'nelson siegel ASK'!$E$7)","v":109.61041893213228},1.9507223722155516,1.9507223722155516]
[{"$f":"prices!N73","v":114.01640193370166},{"$f":"NSbondPrice(prices!$P$2,prices!$B73,prices!$C73/100,'nelson siegel ASK'!$E$4,'nelson siegel ASK'!$E$5,'nelson siegel ASK'!$E$6,'nelson siegel ASK'!$E$7)","v":112.01239346536917},2.0040084683324864,2.0040084683324864]
[{"$f":"prices!N74","v":113.71467391304348},{"$f":"NSbondPrice(prices!$P$2,prices!$B74,prices!$C74/100,'nelson siegel ASK'!$E$4,'nelson siegel ASK'!$E$5,'nelson siegel ASK'!$E$6,'nelson siegel ASK'!$E$7)","v":111.54565034960035},2.1690235634431332,2.1690235634431332]
[{"$f":"prices!N75","v":110.78919198895028},{"$f":"NSbondPrice(prices!$P$2,prices!$B75,prices!$C75/100,'nelson siegel ASK'!$E$4,'nelson siegel ASK'!$E$5,'nelson siegel ASK'!$E$6,'nelson siegel ASK'!$E$7)","v":108.51643460765992},2.2727573812903614,2.2727573812903614]
[{"$f":"prices!N76","v":111.74252717391305},{"$f":"NSbondPrice(prices!$P$2,prices!$B76,prices!$C76/100,'nelson siegel ASK'!$E$4,'nelson siegel ASK'!$E$5,'nelson siegel ASK'!$E$6,'nelson siegel ASK'!$E$7)","v":109.39651547672439},2.3460116971886578,2.3460116971886578]
[{"$f":"prices!N77","v":109.52926450276243},{"$f":"NSbondPrice(prices!$P$2,prices!$B77,prices!$C77/100,'nelson siegel ASK'!$E$4,'nelson siegel ASK'!$E$5,'nelson siegel ASK'!$E$6,'nelson siegel ASK'!$E$7)","v":107.14451343278819},2.3847510699742429,2.3847510699742429]
[{"$f":"prices!N78","v":112.29891304347827},{"$f":"NSbondPrice(prices!$P$2,prices!$B78,prices!$C78/100,'nelson siegel ASK'!$E$4,'nelson siegel ASK'!$E$5,'nelson siegel ASK'!$E$6,'nelson siegel ASK'!$E$7)","v":109.75257241415372},2.546340629324547,2.546340629324547]
[{"$f":"prices!N79","v":107.33753453038673},{"$f":"NSbondPrice(prices!$P$2,prices!$B79,prices!$C79/100,'nelson siegel ASK'!$E$4,'nelson siegel ASK'!$E$5,'nelson siegel ASK'!$E$6,'nelson siegel ASK'!$E$7)","v":104.69994588033414},2.6375886500525922,2.6375886500525922]
[{"$f":"prices!N80","v":102.51630434782609},{"$f":"NSbondPrice(prices!$P$2,prices!$B80,prices!$C80/100,'nelson siegel ASK'!$E$4,'nelson siegel ASK'!$E$5,'nelson siegel ASK'!$E$6,'nelson siegel ASK'!$E$7)","v":99.679153973058447},2.8371503747676456,2.8371503747676456]
[{"$f":"prices!N81","v":104.1046270718232},{"$f":"NSbondPrice(prices!$P$2,prices!$B81,prices!$C81/100,'nelson siegel ASK'!$E$4,'nelson siegel ASK'!$E$5,'nelson siegel ASK'!$E$6,'nelson siegel ASK'!$E$7)","v":101.14149970919399},2.9631273626292085,2.9631273626292085]
[{"$f":"prices!N82","v":147.30910326086956},{"$f":"NSbondPrice(prices!$P$2,prices!$B82,prices!$C82/100,'nelson siegel ASK'!$E$4,'nelson siegel ASK'!$E$5,'nelson siegel ASK'!$E$6,'nelson siegel ASK'!$E$7)","v":148.8600928715351},{"$f":"A82-B82","v":-1.550989610665539},{"$f":"ABS(A82-B82)","v":1.550989610665539}]
[{"$f":"prices!N83","v":146.46467391304347},{"$f":"NSbondPrice(prices!$P$2,prices!$B83,prices!$C83/100,'nelson siegel ASK'!$E$4,'nelson siegel ASK'!$E$5,'nelson siegel ASK'!$E$6,'nelson siegel ASK'!$E$7)","v":146.97820475203503},-0.51353083899155649,0.51353083899155649]
[{"$f":"prices!N84","v":140.62802140883977},{"$f":"NSbondPrice(prices!$P$2,prices!$B84,prices!$C84/100,'nelson siegel ASK'!$E$4,'nelson siegel ASK'!$E$5,'nelson siegel ASK'!$E$6,'nelson siegel ASK'!$E$7)","v":143.65780883899083},-3.0297874301510603,3.0297874301510603]
[{"$f":"prices!N85","v":140.20380434782609},{"$f":"NSbondPrice(prices!$P$2,prices!$B85,prices!$C85/100,'nelson siegel ASK'!$E$4,'nelson siegel ASK'!$E$5,'nelson siegel ASK'!$E$6,'nelson siegel ASK'!$E$7)","v":142.28630873703338},-2.082504389207287,2.082504389207287]
[{"$f":"prices!N86","v":126.51329419889503},{"$f":"NSbondPrice(prices!$P$2,prices!$B86,prices!$C86/100,'nelson siegel ASK'!$E$4,'nelson siegel ASK'!$E$5,'nelson siegel ASK'!$E$6,'nelson siegel ASK'!$E$7)","v":126.53618133502951},-2.2887136134485786E-2,2.2887136134485786E-2]
[{"$f":"prices!N87","v":128.78314917127071},{"$f":"NSbondPrice(prices!$P$2,prices!$B87,prices!$C87/100,'nelson siegel ASK'!$E$4,'nelson siegel ASK'!$E$5,'nelson siegel ASK'!$E$6,'nelson siegel ASK'!$E$7)","v":128.75822099586404},2.4928175406671471E-2,2.4928175406671471E-2]
[{"$f":"prices!N88","v":138.30429903314916},{"$f":"NSbondPrice(prices!$P$2,prices!$B88,prices!$C88/100,'nelson siegel ASK'!$E$4,'nelson siegel ASK'!$E$5,'nelson siegel ASK'!$E$6,'nelson siegel ASK'!$E$7)","v":141.14755171465725},-2.8432526815080905,2.8432526815080905]
[{"$f":"prices!N89","v":141.80027173913044},{"$f":"NSbondPrice(prices!$P$2,prices!$B89,prices!$C89/100,'nelson siegel ASK'!$E$4,'nelson siegel ASK'!$E$5,'nelson siegel ASK'!$E$6,'nelson siegel ASK'!$E$7)","v":142.95692037529028},-1.1566486361598436,1.1566486361598436]
[{"$f":"prices!N90","v":143.72470649171271},{"$f":"NSbondPrice(prices!$P$2,prices!$B90,prices!$C90/100,'nelson siegel ASK'!$E$4,'nelson siegel ASK'!$E$5,'nelson siegel ASK'!$E$6,'nelson siegel ASK'!$E$7)","v":145.86060859825972},-2.1359021065470074,2.1359021065470074]
[{"$f":"prices!N91","v":143.87102900552486},{"$f":"NSbondPrice(prices!$P$2,prices!$B91,prices!$C91/100,'nelson siegel ASK'!$E$4,'nelson siegel ASK'!$E$5,'nelson siegel ASK'!$E$6,'nelson siegel ASK'!$E$7)","v":142.89796408310534},0.97306492241952469,0.97306492241952469]
[{"$f":"prices!N92","v":145.39402173913044},{"$f":"NSbondPrice(prices!$P$2,prices!$B92,prices!$C92/100,'nelson siegel ASK'!$E$4,'nelson siegel ASK'!$E$5,'nelson siegel ASK'!$E$6,'nelson siegel ASK'!$E$7)","v":144.3019788054998},1.092042933630637,1.092042933630637]
[{"$f":"prices!N93","v":139.99320652173913},{"$f":"NSbondPrice(prices!$P$2,prices!$B93,prices!$C93/100,'nelson siegel ASK'!$E$4,'nelson siegel ASK'!$E$5,'nelson siegel ASK'!$E$6,'nelson siegel ASK'!$E$7)","v":137.78174817616031},2.2114583455788193,2.2114583455788193]
[{"$f":"prices!N94","v":144.28736413043478},{"$f":"NSbondPrice(prices!$P$2,prices!$B94,prices!$C94/100,'nelson siegel ASK'!$E$4,'nelson siegel ASK'!$E$5,'nelson siegel ASK'!$E$6,'nelson siegel ASK'!$E$7)","v":139.50807070307721},4.7792934273575725,4.7792934273575725]
[{"$f":"prices!N95","v":144.83554903314916},{"$f":"NSbondPrice(prices!$P$2,prices!$B95,prices!$C95/100,'nelson siegel ASK'!$E$4,'nelson siegel ASK'!$E$5,'nelson siegel ASK'!$E$6,'nelson siegel ASK'!$E$7)","v":144.34172627173839},0.49382276141076886,0.49382276141076886]
[{"$f":"prices!N96","v":147.41576086956522},{"$f":"NSbondPrice(prices!$P$2,prices!$B96,prices!$C96/100,'nelson siegel ASK'!$E$4,'nelson siegel ASK'!$E$5,'nelson siegel ASK'!$E$6,'nelson siegel ASK'!$E$7)","v":142.44896801500624},4.9667928545589746,4.9667928545589746]
[{"$f":"prices!N97","v":140.06793478260869},{"$f":"NSbondPrice(prices!$P$2,prices!$B97,prices!$C97/100,'nelson siegel ASK'!$E$4,'nelson siegel ASK'!$E$5,'nelson siegel ASK'!$E$6,'nelson siegel ASK'!$E$7)","v":136.36398279608645},3.7039519865222417,3.7039519865222417]
[{"$f":"prices!N98","v":140.66091160220995},{"$f":"NSbondPrice(prices!$P$2,prices!$B98,prices!$C98/100,'nelson siegel ASK'!$E$4,'nelson siegel ASK'!$E$5,'nelson siegel ASK'!$E$6,'nelson siegel ASK'!$E$7)","v":137.12188102557832},3.5390305766316317,3.5390305766316317]
[{"$f":"prices!N99","v":143.02445652173913},{"$f":"NSbondPrice(prices!$P$2,prices!$B99,prices!$C99/100,'nelson siegel ASK'!$E$4,'nelson siegel ASK'!$E$5,'nelson siegel ASK'!$E$6,'nelson siegel ASK'!$E$7)","v":139.3252227847496},3.6992337369895267,3.6992337369895267]
[{"$f":"prices!N100","v":140.0728591160221},{"$f":"NSbondPrice(prices!$P$2,prices!$B100,prices!$C100/100,'nelson siegel ASK'!$E$4,'nelson siegel ASK'!$E$5,'nelson siegel ASK'!$E$6,'nelson siegel ASK'!$E$7)","v":138.34889843608011},1.723960679941996,1.723960679941996]
[{"$f":"prices!N101","v":135.2078804347826},{"$f":"NSbondPrice(prices!$P$2,prices!$B101,prices!$C101/100,'nelson siegel ASK'!$E$4,'nelson siegel ASK'!$E$5,'nelson siegel ASK'!$E$6,'nelson siegel ASK'!$E$7)","v":128.75789647618191},6.4499839586006829,6.4499839586006829]
[{"$f":"prices!N102","v":137.43370165745856},{"$f":"NSbondPrice(prices!$P$2,prices!$B102,prices!$C102/100,'nelson siegel ASK'!$E$4,'nelson siegel ASK'!$E$5,'nelson siegel ASK'!$E$6,'nelson siegel ASK'!$E$7)","v":134.99564015365553},2.4380615038030271,2.4380615038030271]
[{"$f":"prices!N103","v":133.8858695652174},{"$f":"NSbondPrice(prices!$P$2,prices!$B103,prices!$C103/100,'nelson siegel ASK'!$E$4,'nelson siegel ASK'!$E$5,'nelson siegel ASK'!$E$6,'nelson siegel ASK'!$E$7)","v":129.37133009475741},4.5145394704599937,4.5145394704599937]
[{"$f":"prices!N104","v":124.60054347826087},{"$f":"NSbondPrice(prices!$P$2,prices!$B104,prices!$C104/100,'nelson siegel ASK'!$E$4,'nelson siegel ASK'!$E$5,'nelson siegel ASK'!$E$6,'nelson siegel ASK'!$E$7)","v":118.96397093294379},5.6365725453170796,5.6365725453170796]
[{"$f":"prices!N105","v":137.79877417127071},{"$f":"NSbondPrice(prices!$P$2,prices!$B105,prices!$C105/100,'nelson siegel ASK'!$E$4,'nelson siegel ASK'!$E$5,'nelson siegel ASK'!$E$6,'nelson siegel ASK'!$E$7)","v":134.34006371448021},3.4587104567904987,3.4587104567904987]
[{"$f":"prices!N106","v":141.26766304347825},{"$f":"NSbondPrice(prices!$P$2,prices!$B106,prices!$C106/100,'nelson siegel ASK'!$E$4,'nelson siegel ASK'!$E$5,'nelson siegel ASK'!$E$6,'nelson siegel ASK'!$E$7)","v":134.13653515003725},7.1311278934410041,7.1311278934410041]
[{"$f":"prices!N107","v":132.74184782608697},{"$f":"NSbondPrice(prices!$P$2,prices!$B107,prices!$C107/100,'nelson siegel ASK'!$E$4,'nelson siegel ASK'!$E$5,'nelson siegel ASK'!$E$6,'nelson siegel ASK'!$E$7)","v":126.82191296664163},5.919934859445334,5.919934859445334]
[{"$f":"prices!N108","v":122.33152173913044},{"$f":"NSbondPrice(prices!$P$2,prices!$B108,prices!$C108/100,'nelson siegel ASK'!$E$4,'nelson siegel ASK'!$E$5,'nelson siegel ASK'!$E$6,'nelson siegel ASK'!$E$7)","v":115.89510571535203},6.4364160237784063,6.4364160237784063]
[{"$f":"prices!N109","v":131.93546195652175},{"$f":"NSbondPrice(prices!$P$2,prices!$B109,prices!$C109/100,'nelson siegel ASK'!$E$4,'nelson siegel ASK'!$E$5,'nelson siegel ASK'!$E$6,'nelson siegel ASK'!$E$7)","v":123.81963563906737},8.1158263174543777,8.1158263174543777]
[{"$f":"prices!N110","v":127.21935428176796},{"$f":"NSbondPrice(prices!$P$2,prices!$B110,prices!$C110/100,'nelson siegel ASK'!$E$4,'nelson siegel ASK'!$E$5,'nelson siegel ASK'!$E$6,'nelson siegel ASK'!$E$7)","v":122.50062289079128},4.7187313909766857,4.7187313909766857]
[{"$f":"prices!N111","v":130.47282608695653},{"$f":"NSbondPrice(prices!$P$2,prices!$B111,prices!$C111/100,'nelson siegel ASK'!$E$4,'nelson siegel ASK'!$E$5,'nelson siegel ASK'!$E$6,'nelson siegel ASK'!$E$7)","v":122.57098982996639},7.901836256990137,7.901836256990137]
[{"$f":"prices!N112","v":127.50067934782609},{"$f":"NSbondPrice(prices!$P$2,prices!$B112,prices!$C112/100,'nelson siegel ASK'!$E$4,'nelson siegel ASK'!$E$5,'nelson siegel ASK'!$E$6,'nelson siegel ASK'!$E$7)","v":120.99245311138031},6.508226236445779,6.508226236445779]
[{"$f":"prices!N113","v":122.86144682320442},{"$f":"NSbondPrice(prices!$P$2,prices!$B113,prices!$C113/100,'nelson siegel ASK'!$E$4,'nelson siegel ASK'!$E$5,'nelson siegel ASK'!$E$6,'nelson siegel ASK'!$E$7)","v":117.79544663693851},5.0660001862659101,5.0660001862659101]
[{"$f":"prices!N114","v":116.18410326086956},{"$f":"NSbondPrice(prices!$P$2,prices!$B114,prices!$C114/100,'nelson siegel ASK'!$E$4,'nelson siegel ASK'!$E$5,'nelson siegel ASK'!$E$6,'nelson siegel ASK'!$E$7)","v":108.07384198331614},8.1102612775534197,8.1102612775534197]
[{"$f":"prices!N115","v":111.62007941988951},{"$f":"NSbondPrice(prices!$P$2,prices!$B115,prices!$C115/100,'nelson siegel ASK'!$E$4,'nelson siegel ASK'!$E$5,'nelson siegel ASK'!$E$6,'nelson siegel ASK'!$E$7)","v":106.02197666604454},5.5981027538449695,5.5981027538449695]
[{"$f":"prices!N116","v":112.88383152173913},{"$f":"NSbondPrice(prices!$P$2,prices!$B116,prices!$C116/100,'nelson siegel ASK'!$E$4,'nelson siegel ASK'!$E$5,'nelson siegel ASK'!$E$6,'nelson siegel ASK'!$E$7)","v":107.28112198497344},5.6027095367656869,5.6027095367656869]
[{"$f":"prices!N117","v":125.04415760869566},{"$f":"NSbondPrice(prices!$P$2,prices!$B117,prices!$C117/100,'nelson siegel ASK'!$E$4,'nelson siegel ASK'!$E$5,'nelson siegel ASK'!$E$6,'nelson siegel ASK'!$E$7)","v":121.41342148277101},3.630736125924642,3.630736125924642]
[{"$f":"prices!N118","v":125.62137430939227},{"$f":"NSbondPrice(prices!$P$2,prices!$B118,prices!$C118/100,'nelson siegel ASK'!$E$4,'nelson siegel ASK'!$E$5,'nelson siegel ASK'!$E$6,'nelson siegel ASK'!$E$7)","v":122.00698016211585},3.6143941472764141,3.6143941472764141]

{"sheet":"Plot Discount","index":3,"n_rows":138,"n_cols":6,"rows_kept":138,"cut":false,"hidden":false,"merged":[]}
["maturity","Nelson Siegel","Cubic Spline"]
[0.01,{"$f":"NelsonSiegel(A2, 'nelson siegel ASK'!$E$4, 'nelson siegel ASK'!$E$5, 'nelson siegel ASK'!$E$6, 'nelson siegel ASK'!$E$7)*100","v":-0.22131097094527519},{"$f":"100*cubicSpline(A2,'cubic spline'!$F$4,'cubic spline'!$F$5,'cubic spline'!$F$6,'cubic spline'!$F$7,'cubic spline'!$F$8,'cubic spline'!$F$9,'cubic spline'!$F$10,'cubic spline'!$F$11,'cubic spline'!$F$12,'cubic spline'!$F$13)","v":-0.18910699245764059}]
[0.5,{"$f":"NelsonSiegel(A3, 'nelson siegel ASK'!$E$4, 'nelson siegel ASK'!$E$5, 'nelson siegel ASK'!$E$6, 'nelson siegel ASK'!$E$7)*100","v":0.15533035402377926},{"$f":"100*cubicSpline(A3,'cubic spline'!$F$4,'cubic spline'!$F$5,'cubic spline'!$F$6,'cubic spline'!$F$7,'cubic spline'!$F$8,'cubic spline'!$F$9,'cubic spline'!$F$10,'cubic spline'!$F$11,'cubic spline'!$F$12,'cubic spline'!$F$13)","v":8.1032685960194098E-2}]
[1,{"$f":"NelsonSiegel(A4, 'nelson siegel ASK'!$E$4, 'nelson siegel ASK'!$E$5, 'nelson siegel ASK'!$E$6, 'nelson siegel ASK'!$E$7)*100","v":0.51910955353598365},{"$f":"100*cubicSpline(A4,'cubic spline'!$F$4,'cubic spline'!$F$5,'cubic spline'!$F$6,'cubic spline'!$F$7,'cubic spline'!$F$8,'cubic spline'!$F$9,'cubic spline'!$F$10,'cubic spline'!$F$11,'cubic spline'!$F$12,'cubic spline'!$F$13)","v":0.35501157718873538}]
[1.5,{"$f":"NelsonSiegel(A5, 'nelson siegel ASK'!$E$4, 'nelson siegel ASK'!$E$5, 'nelson siegel ASK'!$E$6, 'nelson siegel ASK'!$E$7)*100","v":0.8630298891256416},{"$f":"100*cubicSpline(A5,'cubic spline'!$F$4,'cubic spline'!$F$5,'cubic spline'!$F$6,'cubic spline'!$F$7,'cubic spline'!$F$8,'cubic spline'!$F$9,'cubic spline'!$F$10,'cubic spline'!$F$11,'cubic spline'!$F$12,'cubic spline'!$F$13)","v":0.62661797276551712}]
[2,{"$f":"NelsonSiegel(A6, 'nelson siegel ASK'!$E$4, 'nelson siegel ASK'!$E$5, 'nelson siegel ASK'!$E$6, 'nelson siegel ASK'!$E$7)*100","v":1.1879580797213958},{"$f":"100*cubicSpline(A6,'cubic spline'!$F$4,'cubic spline'!$F$5,'cubic spline'!$F$6,'cubic spline'!$F$7,'cubic spline'!$F$8,'cubic spline'!$F$9,'cubic spline'!$F$10,'cubic spline'!$F$11,'cubic spline'!$F$12,'cubic spline'!$F$13)","v":0.8951655509045312}]
[2.5,{"$f":"NelsonSiegel(A7, 'nelson siegel ASK'!$E$4, 'nelson siegel ASK'!$E$5, 'nelson siegel ASK'!$E$6, 'nelson siegel ASK'!$E$7)*100","v":1.4947254316251632},{"$f":"100*cubicSpline(A7,'cubic spline'!$F$4,'cubic spline'!$F$5,'cubic spline'!$F$6,'cubic spline'!$F$7,'cubic spline'!$F$8,'cubic spline'!$F$9,'cubic spline'!$F$10,'cubic spline'!$F$11,'cubic spline'!$F$12,'cubic spline'!$F$13)","v":1.1599679898197697}]
[3,{"$f":"NelsonSiegel(A8, 'nelson siegel ASK'!$E$4, 'nelson siegel ASK'!$E$5, 'nelson siegel ASK'!$E$6, 'nelson siegel ASK'!$E$7)*100","v":1.7841292444909187},{"$f":"100*cubicSpline(A8,'cubic spline'!$F$4,'cubic spline'!$F$5,'cubic spline'!$F$6,'cubic spline'!$F$7,'cubic spline'!$F$8,'cubic spline'!$F$9,'cubic spline'!$F$10,'cubic spline'!$F$11,'cubic spline'!$F$12,'cubic spline'!$F$13)","v":1.4203389677252254}]
[3.5,{"$f":"NelsonSiegel(A9, 'nelson siegel ASK'!$E$4, 'nelson siegel ASK'!$E$5, 'nelson siegel ASK'!$E$6, 'nelson siegel ASK'!$E$7)*100","v":2.0569341623193478},{"$f":"100*cubicSpline(A9,'cubic spline'!$F$4,'cubic spline'!$F$5,'cubic spline'!$F$6,'cubic spline'!$F$7,'cubic spline'!$F$8,'cubic spline'!$F$9,'cubic spline'!$F$10,'cubic spline'!$F$11,'cubic spline'!$F$12,'cubic spline'!$F$13)","v":1.6755921628348891}]
[4,{"$f":"NelsonSiegel(A10, 'nelson siegel ASK'!$E$4, 'nelson siegel ASK'!$E$5, 'nelson siegel ASK'!$E$6, 'nelson siegel ASK'!$E$7)*100","v":2.3138734715993259},{"$f":"100*cubicSpline(A10,'cubic spline'!$F$4,'cubic spline'!$F$5,'cubic spline'!$F$6,'cubic spline'!$F$7,'cubic spline'!$F$8,'cubic spline'!$F$9,'cubic spline'!$F$10,'cubic spline'!$F$11,'cubic spline'!$F$12,'cubic spline'!$F$13)","v":1.9250412533627539}]
[4.5,{"$f":"NelsonSiegel(A11, 'nelson siegel ASK'!$E$4, 'nelson siegel ASK'!$E$5, 'nelson siegel ASK'!$E$6, 'nelson siegel ASK'!$E$7)*100","v":2.55565034864517},{"$f":"100*cubicSpline(A11,'cubic spline'!$F$4,'cubic spline'!$F$5,'cubic spline'!$F$6,'cubic spline'!$F$7,'cubic spline'!$F$8,'cubic spline'!$F$9,'cubic spline'!$F$10,'cubic spline'!$F$11,'cubic spline'!$F$12,'cubic spline'!$F$13)","v":2.1679999175228115}]
[5,{"$f":"NelsonSiegel(A12, 'nelson siegel ASK'!$E$4, 'nelson siegel ASK'!$E$5, 'nelson siegel ASK'!$E$6, 'nelson siegel ASK'!$E$7)*100","v":2.7829390581000255},{"$f":"100*cubicSpline(A12,'cubic spline'!$F$4,'cubic spline'!$F$5,'cubic spline'!$F$6,'cubic spline'!$F$7,'cubic spline'!$F$8,'cubic spline'!$F$9,'cubic spline'!$F$10,'cubic spline'!$F$11,'cubic spline'!$F$12,'cubic spline'!$F$13)","v":2.4037818335290542}]
[5.5,{"$f":"NelsonSiegel(A13, 'nelson siegel ASK'!$E$4, 'nelson siegel ASK'!$E$5, 'nelson siegel ASK'!$E$6, 'nelson siegel ASK'!$E$7)*100","v":2.9963861044990301},{"$f":"100*cubicSpline(A13,'cubic spline'!$F$4,'cubic spline'!$F$5,'cubic spline'!$F$6,'cubic spline'!$F$7,'cubic spline'!$F$8,'cubic spline'!$F$9,'cubic spline'!$F$10,'cubic spline'!$F$11,'cubic spline'!$F$12,'cubic spline'!$F$13)","v":2.6317006795954745}]
[6,{"$f":"NelsonSiegel(A14, 'nelson siegel ASK'!$E$4, 'nelson siegel ASK'!$E$5, 'nelson siegel ASK'!$E$6, 'nelson siegel ASK'!$E$7)*100","v":3.1966113387137987},{"$f":"100*cubicSpline(A14,'cubic spline'!$F$4,'cubic spline'!$F$5,'cubic spline'!$F$6,'cubic spline'!$F$7,'cubic spline'!$F$8,'cubic spline'!$F$9,'cubic spline'!$F$10,'cubic spline'!$F$11,'cubic spline'!$F$12,'cubic spline'!$F$13)","v":2.8510701339360636}]
[6.5,{"$f":"NelsonSiegel(A15, 'nelson siegel ASK'!$E$4, 'nelson siegel ASK'!$E$5, 'nelson siegel ASK'!$E$6, 'nelson siegel ASK'!$E$7)*100","v":3.3842090210286511},{"$f":"100*cubicSpline(A15,'cubic spline'!$F$4,'cubic spline'!$F$5,'cubic spline'!$F$6,'cubic spline'!$F$7,'cubic spline'!$F$8,'cubic spline'!$F$9,'cubic spline'!$F$10,'cubic spline'!$F$11,'cubic spline'!$F$12,'cubic spline'!$F$13)","v":3.0612038747648134}]
[7,{"$f":"NelsonSiegel(A16, 'nelson siegel ASK'!$E$4, 'nelson siegel ASK'!$E$5, 'nelson siegel ASK'!$E$6, 'nelson siegel ASK'!$E$7)*100","v":3.5597488425322732},{"$f":"100*cubicSpline(A16,'cubic spline'!$F$4,'cubic spline'!$F$5,'cubic spline'!$F$6,'cubic spline'!$F$7,'cubic spline'!$F$8,'cubic spline'!$F$9,'cubic spline'!$F$10,'cubic spline'!$F$11,'cubic spline'!$F$12,'cubic spline'!$F$13)","v":3.2614155802957177}]
[7.5,{"$f":"NelsonSiegel(A17, 'nelson siegel ASK'!$E$4, 'nelson siegel ASK'!$E$5, 'nelson siegel ASK'!$E$6, 'nelson siegel ASK'!$E$7)*100","v":3.7237769064429065},{"$f":"100*cubicSpline(A17,'cubic spline'!$F$4,'cubic spline'!$F$5,'cubic spline'!$F$6,'cubic spline'!$F$7,'cubic spline'!$F$8,'cubic spline'!$F$9,'cubic spline'!$F$10,'cubic spline'!$F$11,'cubic spline'!$F$12,'cubic spline'!$F$13)","v":3.4510189287427662}]
[8,{"$f":"NelsonSiegel(A18, 'nelson siegel ASK'!$E$4, 'nelson siegel ASK'!$E$5, 'nelson siegel ASK'!$E$6, 'nelson siegel ASK'!$E$7)*100","v":3.8768166709231804},{"$f":"100*cubicSpline(A18,'cubic spline'!$F$4,'cubic spline'!$F$5,'cubic spline'!$F$6,'cubic spline'!$F$7,'cubic spline'!$F$8,'cubic spline'!$F$9,'cubic spline'!$F$10,'cubic spline'!$F$11,'cubic spline'!$F$12,'cubic spline'!$F$13)","v":3.6293275983199527}]
[8.5,{"$f":"NelsonSiegel(A19, 'nelson siegel ASK'!$E$4, 'nelson siegel ASK'!$E$5, 'nelson siegel ASK'!$E$6, 'nelson siegel ASK'!$E$7)*100","v":4.0193698548804804},{"$f":"100*cubicSpline(A19,'cubic spline'!$F$4,'cubic spline'!$F$5,'cubic spline'!$F$6,'cubic spline'!$F$7,'cubic spline'!$F$8,'cubic spline'!$F$9,'cubic spline'!$F$10,'cubic spline'!$F$11,'cubic spline'!$F$12,'cubic spline'!$F$13)","v":3.79565526724127}]
[9,{"$f":"NelsonSiegel(A20, 'nelson siegel ASK'!$E$4, 'nelson siegel ASK'!$E$5, 'nelson siegel ASK'!$E$6, 'nelson siegel ASK'!$E$7)*100","v":4.1519173081909235},{"$f":"100*cubicSpline(A20,'cubic spline'!$F$4,'cubic spline'!$F$5,'cubic spline'!$F$6,'cubic spline'!$F$7,'cubic spline'!$F$8,'cubic spline'!$F$9,'cubic spline'!$F$10,'cubic spline'!$F$11,'cubic spline'!$F$12,'cubic spline'!$F$13)","v":3.9493156137207066}]
[9.5,{"$f":"NelsonSiegel(A21, 'nelson siegel ASK'!$E$4, 'nelson siegel ASK'!$E$5, 'nelson siegel ASK'!$E$6, 'nelson siegel ASK'!$E$7)*100","v":4.2749198477296897},{"$f":"100*cubicSpline(A21,'cubic spline'!$F$4,'cubic spline'!$F$5,'cubic spline'!$F$6,'cubic spline'!$F$7,'cubic spline'!$F$8,'cubic spline'!$F$9,'cubic spline'!$F$10,'cubic spline'!$F$11,'cubic spline'!$F$12,'cubic spline'!$F$13)","v":4.0896223159722593}]
[10,{"$f":"NelsonSiegel(A22, 'nelson siegel ASK'!$E$4, 'nelson siegel ASK'!$E$5, 'nelson siegel ASK'!$E$6, 'nelson siegel ASK'!$E$7)*100","v":4.3888190605370383},{"$f":"100*cubicSpline(A22,'cubic spline'!$F$4,'cubic spline'!$F$5,'cubic spline'!$F$6,'cubic spline'!$F$7,'cubic spline'!$F$8,'cubic spline'!$F$9,'cubic spline'!$F$10,'cubic spline'!$F$11,'cubic spline'!$F$12,'cubic spline'!$F$13)","v":4.2158890522099162}]
[10.5,{"$f":"NelsonSiegel(A23, 'nelson siegel ASK'!$E$4, 'nelson siegel ASK'!$E$5, 'nelson siegel ASK'!$E$6, 'nelson siegel ASK'!$E$7)*100","v":4.4940380753977678},{"$f":"100*cubicSpline(A23,'cubic spline'!$F$4,'cubic spline'!$F$5,'cubic spline'!$F$6,'cubic spline'!$F$7,'cubic spline'!$F$8,'cubic spline'!$F$9,'cubic spline'!$F$10,'cubic spline'!$F$11,'cubic spline'!$F$12,'cubic spline'!$F$13)","v":4.327659133602058}]
[11,{"$f":"NelsonSiegel(A24, 'nelson siegel ASK'!$E$4, 'nelson siegel ASK'!$E$5, 'nelson siegel ASK'!$E$6, 'nelson siegel ASK'!$E$7)*100","v":4.5909823040628863},{"$f":"100*cubicSpline(A24,'cubic spline'!$F$4,'cubic spline'!$F$5,'cubic spline'!$F$6,'cubic spline'!$F$7,'cubic spline'!$F$8,'cubic spline'!$F$9,'cubic spline'!$F$10,'cubic spline'!$F$11,'cubic spline'!$F$12,'cubic spline'!$F$13)","v":4.4253944031346073}]
[11.5,{"$f":"NelsonSiegel(A25, 'nelson siegel ASK'!$E$4, 'nelson siegel ASK'!$E$5, 'nelson siegel ASK'!$E$6, 'nelson siegel ASK'!$E$7)*100","v":4.6800401532945877},{"$f":"100*cubicSpline(A25,'cubic spline'!$F$4,'cubic spline'!$F$5,'cubic spline'!$F$6,'cubic spline'!$F$7,'cubic spline'!$F$8,'cubic spline'!$F$9,'cubic spline'!$F$10,'cubic spline'!$F$11,'cubic spline'!$F$12,'cubic spline'!$F$13)","v":4.5097863367478741}]
[12,{"$f":"NelsonSiegel(A26, 'nelson siegel ASK'!$E$4, 'nelson siegel ASK'!$E$5, 'nelson siegel ASK'!$E$6, 'nelson siegel ASK'!$E$7)*100","v":{"$error":"#VALUE!"}},{"$f":"100*cubicSpline(A26,'cubic spline'!$F$4,'cubic spline'!$F$5,'cubic spline'!$F$6,'cubic spline'!$F$7,'cubic spline'!$F$8,'cubic spline'!$F$9,'cubic spline'!$F$10,'cubic spline'!$F$11,'cubic spline'!$F$12,'cubic spline'!$F$13)","v":4.5815264103821685}]
[12.5,{"$f":"NelsonSiegel(A27, 'nelson siegel ASK'!$E$4, 'nelson siegel ASK'!$E$5, 'nelson siegel ASK'!$E$6, 'nelson siegel ASK'!$E$7)*100","v":4.8359693926350245},{"$f":"100*cubicSpline(A27,'cubic spline'!$F$4,'cubic spline'!$F$5,'cubic spline'!$F$6,'cubic spline'!$F$7,'cubic spline'!$F$8,'cubic spline'!$F$9,'cubic spline'!$F$10,'cubic spline'!$F$11,'cubic spline'!$F$12,'cubic spline'!$F$13)","v":4.6413060999777978},null,null,{"$f":"xsq(2)","v":{"$error":"#NAME?"}}]
[13,{"$f":"NelsonSiegel(A28, 'nelson siegel ASK'!$E$4, 'nelson siegel ASK'!$E$5, 'nelson siegel ASK'!$E$6, 'nelson siegel ASK'!$E$7)*100","v":4.9035385936588707},{"$f":"100*cubicSpline(A28,'cubic spline'!$F$4,'cubic spline'!$F$5,'cubic spline'!$F$6,'cubic spline'!$F$7,'cubic spline'!$F$8,'cubic spline'!$F$9,'cubic spline'!$F$10,'cubic spline'!$F$11,'cubic spline'!$F$12,'cubic spline'!$F$13)","v":4.6898168814750738}]
[13.5,{"$f":"NelsonSiegel(A29, 'nelson siegel ASK'!$E$4, 'nelson siegel ASK'!$E$5, 'nelson siegel ASK'!$E$6, 'nelson siegel ASK'!$E$7)*100","v":4.9646182744960878},{"$f":"100*cubicSpline(A29,'cubic spline'!$F$4,'cubic spline'!$F$5,'cubic spline'!$F$6,'cubic spline'!$F$7,'cubic spline'!$F$8,'cubic spline'!$F$9,'cubic spline'!$F$10,'cubic spline'!$F$11,'cubic spline'!$F$12,'cubic spline'!$F$13)","v":4.7277502308143049}]
[14,{"$f":"NelsonSiegel(A30, 'nelson siegel ASK'!$E$4, 'nelson siegel ASK'!$E$5, 'nelson siegel ASK'!$E$6, 'nelson siegel ASK'!$E$7)*100","v":5.0195215535280333},{"$f":"100*cubicSpline(A30,'cubic spline'!$F$4,'cubic spline'!$F$5,'cubic spline'!$F$6,'cubic spline'!$F$7,'cubic spline'!$F$8,'cubic spline'!$F$9,'cubic spline'!$F$10,'cubic spline'!$F$11,'cubic spline'!$F$12,'cubic spline'!$F$13)","v":4.7557976239358011}]
[14.5,{"$f":"NelsonSiegel(A31, 'nelson siegel ASK'!$E$4, 'nelson siegel ASK'!$E$5, 'nelson siegel ASK'!$E$6, 'nelson siegel ASK'!$E$7)*100","v":5.0685482643148401},{"$f":"100*cubicSpline(A31,'cubic spline'!$F$4,'cubic spline'!$F$5,'cubic spline'!$F$6,'cubic spline'!$F$7,'cubic spline'!$F$8,'cubic spline'!$F$9,'cubic spline'!$F$10,'cubic spline'!$F$11,'cubic spline'!$F$12,'cubic spline'!$F$13)","v":4.7746505367798733}]
[15,{"$f":"NelsonSiegel(A32, 'nelson siegel ASK'!$E$4, 'nelson siegel ASK'!$E$5, 'nelson siegel ASK'!$E$6, 'nelson siegel ASK'!$E$7)*100","v":5.1119854928546262},{"$f":"100*cubicSpline(A32,'cubic spline'!$F$4,'cubic spline'!$F$5,'cubic spline'!$F$6,'cubic spline'!$F$7,'cubic spline'!$F$8,'cubic spline'!$F$9,'cubic spline'!$F$10,'cubic spline'!$F$11,'cubic spline'!$F$12,'cubic spline'!$F$13)","v":4.7850004452868289}]
[15.5,{"$f":"NelsonSiegel(A33, 'nelson siegel ASK'!$E$4, 'nelson siegel ASK'!$E$5, 'nelson siegel ASK'!$E$6, 'nelson siegel ASK'!$E$7)*100","v":5.1501080936114478},{"$f":"100*cubicSpline(A33,'cubic spline'!$F$4,'cubic spline'!$F$5,'cubic spline'!$F$6,'cubic spline'!$F$7,'cubic spline'!$F$8,'cubic spline'!$F$9,'cubic spline'!$F$10,'cubic spline'!$F$11,'cubic spline'!$F$12,'cubic spline'!$F$13)","v":4.7875388253969779}]
[16,{"$f":"NelsonSiegel(A34, 'nelson siegel ASK'!$E$4, 'nelson siegel ASK'!$E$5, 'nelson siegel ASK'!$E$6, 'nelson siegel ASK'!$E$7)*100","v":5.1831791851402924},{"$f":"100*cubicSpline(A34,'cubic spline'!$F$4,'cubic spline'!$F$5,'cubic spline'!$F$6,'cubic spline'!$F$7,'cubic spline'!$F$8,'cubic spline'!$F$9,'cubic spline'!$F$10,'cubic spline'!$F$11,'cubic spline'!$F$12,'cubic spline'!$F$13)","v":4.7829571530506305}]
[16.5,{"$f":"NelsonSiegel(A35, 'nelson siegel ASK'!$E$4, 'nelson siegel ASK'!$E$5, 'nelson siegel ASK'!$E$6, 'nelson siegel ASK'!$E$7)*100","v":5.2114506261053144},{"$f":"100*cubicSpline(A35,'cubic spline'!$F$4,'cubic spline'!$F$5,'cubic spline'!$F$6,'cubic spline'!$F$7,'cubic spline'!$F$8,'cubic spline'!$F$9,'cubic spline'!$F$10,'cubic spline'!$F$11,'cubic spline'!$F$12,'cubic spline'!$F$13)","v":4.7719469041880966}]
[17,{"$f":"NelsonSiegel(A36, 'nelson siegel ASK'!$E$4, 'nelson siegel ASK'!$E$5, 'nelson siegel ASK'!$E$6, 'nelson siegel ASK'!$E$7)*100","v":5.235163472456664},{"$f":"100*cubicSpline(A36,'cubic spline'!$F$4,'cubic spline'!$F$5,'cubic spline'!$F$6,'cubic spline'!$F$7,'cubic spline'!$F$8,'cubic spline'!$F$9,'cubic spline'!$F$10,'cubic spline'!$F$11,'cubic spline'!$F$12,'cubic spline'!$F$13)","v":4.7551995547496855}]
[17.5,{"$f":"NelsonSiegel(A37, 'nelson siegel ASK'!$E$4, 'nelson siegel ASK'!$E$5, 'nelson siegel ASK'!$E$6, 'nelson siegel ASK'!$E$7)*100","v":5.2545484165017031},{"$f":"100*cubicSpline(A37,'cubic spline'!$F$4,'cubic spline'!$F$5,'cubic spline'!$F$6,'cubic spline'!$F$7,'cubic spline'!$F$8,'cubic spline'!$F$9,'cubic spline'!$F$10,'cubic spline'!$F$11,'cubic spline'!$F$12,'cubic spline'!$F$13)","v":4.7334065806757062}]
[18,{"$f":"NelsonSiegel(A38, 'nelson siegel ASK'!$E$4, 'nelson siegel ASK'!$E$5, 'nelson siegel ASK'!$E$6, 'nelson siegel ASK'!$E$7)*100","v":5.2698262085778387},{"$f":"100*cubicSpline(A38,'cubic spline'!$F$4,'cubic spline'!$F$5,'cubic spline'!$F$6,'cubic spline'!$F$7,'cubic spline'!$F$8,'cubic spline'!$F$9,'cubic spline'!$F$10,'cubic spline'!$F$11,'cubic spline'!$F$12,'cubic spline'!$F$13)","v":4.7072594579064697}]
[18.5,{"$f":"NelsonSiegel(A39, 'nelson siegel ASK'!$E$4, 'nelson siegel ASK'!$E$5, 'nelson siegel ASK'!$E$6, 'nelson siegel ASK'!$E$7)*100","v":5.281208062006824},{"$f":"100*cubicSpline(A39,'cubic spline'!$F$4,'cubic spline'!$F$5,'cubic spline'!$F$6,'cubic spline'!$F$7,'cubic spline'!$F$8,'cubic spline'!$F$9,'cubic spline'!$F$10,'cubic spline'!$F$11,'cubic spline'!$F$12,'cubic spline'!$F$13)","v":4.6774496623822843}]
[19,{"$f":"NelsonSiegel(A40, 'nelson siegel ASK'!$E$4, 'nelson siegel ASK'!$E$5, 'nelson siegel ASK'!$E$6, 'nelson siegel ASK'!$E$7)*100","v":5.2888960419840592},{"$f":"100*cubicSpline(A40,'cubic spline'!$F$4,'cubic spline'!$F$5,'cubic spline'!$F$6,'cubic spline'!$F$7,'cubic spline'!$F$8,'cubic spline'!$F$9,'cubic spline'!$F$10,'cubic spline'!$F$11,'cubic spline'!$F$12,'cubic spline'!$F$13)","v":4.6446686700434583}]
[19.5,{"$f":"NelsonSiegel(A41, 'nelson siegel ASK'!$E$4, 'nelson siegel ASK'!$E$5, 'nelson siegel ASK'!$E$6, 'nelson siegel ASK'!$E$7)*100","v":5.2930834390310739},{"$f":"100*cubicSpline(A41,'cubic spline'!$F$4,'cubic spline'!$F$5,'cubic spline'!$F$6,'cubic spline'!$F$7,'cubic spline'!$F$8,'cubic spline'!$F$9,'cubic spline'!$F$10,'cubic spline'!$F$11,'cubic spline'!$F$12,'cubic spline'!$F$13)","v":4.6096079568303052}]
[20,{"$f":"NelsonSiegel(A42, 'nelson siegel ASK'!$E$4, 'nelson siegel ASK'!$E$5, 'nelson siegel ASK'!$E$6, 'nelson siegel ASK'!$E$7)*100","v":5.293955127615015},{"$f":"100*cubicSpline(A42,'cubic spline'!$F$4,'cubic spline'!$F$5,'cubic spline'!$F$6,'cubic spline'!$F$7,'cubic spline'!$F$8,'cubic spline'!$F$9,'cubic spline'!$F$10,'cubic spline'!$F$11,'cubic spline'!$F$12,'cubic spline'!$F$13)","v":4.5729589986831316}]
[20.5,{"$f":"NelsonSiegel(A43, 'nelson siegel ASK'!$E$4, 'nelson siegel ASK'!$E$5, 'nelson siegel ASK'!$E$6, 'nelson siegel ASK'!$E$7)*100","v":5.2916879105155985},{"$f":"100*cubicSpline(A43,'cubic spline'!$F$4,'cubic spline'!$F$5,'cubic spline'!$F$6,'cubic spline'!$F$7,'cubic spline'!$F$8,'cubic spline'!$F$9,'cubic spline'!$F$10,'cubic spline'!$F$11,'cubic spline'!$F$12,'cubic spline'!$F$13)","v":4.5340820774679411}]
[21,{"$f":"NelsonSiegel(A44, 'nelson siegel ASK'!$E$4, 'nelson siegel ASK'!$E$5, 'nelson siegel ASK'!$E$6, 'nelson siegel ASK'!$E$7)*100","v":5.2864508494974007},{"$f":"100*cubicSpline(A44,'cubic spline'!$F$4,'cubic spline'!$F$5,'cubic spline'!$F$6,'cubic spline'!$F$7,'cubic spline'!$F$8,'cubic spline'!$F$9,'cubic spline'!$F$10,'cubic spline'!$F$11,'cubic spline'!$F$12,'cubic spline'!$F$13)","v":4.4984762558294094}]
[21.5,{"$f":"NelsonSiegel(A45, 'nelson siegel ASK'!$E$4, 'nelson siegel ASK'!$E$5, 'nelson siegel ASK'!$E$6, 'nelson siegel ASK'!$E$7)*100","v":5.278405582823793},{"$f":"100*cubicSpline(A45,'cubic spline'!$F$4,'cubic spline'!$F$5,'cubic spline'!$F$6,'cubic spline'!$F$7,'cubic spline'!$F$8,'cubic spline'!$F$9,'cubic spline'!$F$10,'cubic spline'!$F$11,'cubic spline'!$F$12,'cubic spline'!$F$13)","v":4.4670341003162211}]
[22,{"$f":"NelsonSiegel(A46, 'nelson siegel ASK'!$E$4, 'nelson siegel ASK'!$E$5, 'nelson siegel ASK'!$E$6, 'nelson siegel ASK'!$E$7)*100","v":5.2677066301280062},{"$f":"100*cubicSpline(A46,'cubic spline'!$F$4,'cubic spline'!$F$5,'cubic spline'!$F$6,'cubic spline'!$F$7,'cubic spline'!$F$8,'cubic spline'!$F$9,'cubic spline'!$F$10,'cubic spline'!$F$11,'cubic spline'!$F$12,'cubic spline'!$F$13)","v":4.4422858284879014}]
[22.5,{"$f":"NelsonSiegel(A47, 'nelson siegel ASK'!$E$4, 'nelson siegel ASK'!$E$5, 'nelson siegel ASK'!$E$6, 'nelson siegel ASK'!$E$7)*100","v":5.2545016851367174},{"$f":"100*cubicSpline(A47,'cubic spline'!$F$4,'cubic spline'!$F$5,'cubic spline'!$F$6,'cubic spline'!$F$7,'cubic spline'!$F$8,'cubic spline'!$F$9,'cubic spline'!$F$10,'cubic spline'!$F$11,'cubic spline'!$F$12,'cubic spline'!$F$13)","v":4.4267616579039775}]
[23,{"$f":"NelsonSiegel(A48, 'nelson siegel ASK'!$E$4, 'nelson siegel ASK'!$E$5, 'nelson siegel ASK'!$E$6, 'nelson siegel ASK'!$E$7)*100","v":5.2389318967224696},{"$f":"100*cubicSpline(A48,'cubic spline'!$F$4,'cubic spline'!$F$5,'cubic spline'!$F$6,'cubic spline'!$F$7,'cubic spline'!$F$8,'cubic spline'!$F$9,'cubic spline'!$F$10,'cubic spline'!$F$11,'cubic spline'!$F$12,'cubic spline'!$F$13)","v":4.4229918061239744}]
[23.5,{"$f":"NelsonSiegel(A49, 'nelson siegel ASK'!$E$4, 'nelson siegel ASK'!$E$5, 'nelson siegel ASK'!$E$6, 'nelson siegel ASK'!$E$7)*100","v":5.2211321387426244},{"$f":"100*cubicSpline(A49,'cubic spline'!$F$4,'cubic spline'!$F$5,'cubic spline'!$F$6,'cubic spline'!$F$7,'cubic spline'!$F$8,'cubic spline'!$F$9,'cubic spline'!$F$10,'cubic spline'!$F$11,'cubic spline'!$F$12,'cubic spline'!$F$13)","v":4.4335064907074191}]
[24,{"$f":"NelsonSiegel(A50, 'nelson siegel ASK'!$E$4, 'nelson siegel ASK'!$E$5, 'nelson siegel ASK'!$E$6, 'nelson siegel ASK'!$E$7)*100","v":5.2012312691048068},{"$f":"100*cubicSpline(A50,'cubic spline'!$F$4,'cubic spline'!$F$5,'cubic spline'!$F$6,'cubic spline'!$F$7,'cubic spline'!$F$8,'cubic spline'!$F$9,'cubic spline'!$F$10,'cubic spline'!$F$11,'cubic spline'!$F$12,'cubic spline'!$F$13)","v":4.4608359292138395}]
[24.5,{"$f":"NelsonSiegel(A51, 'nelson siegel ASK'!$E$4, 'nelson siegel ASK'!$E$5, 'nelson siegel ASK'!$E$6, 'nelson siegel ASK'!$E$7)*100","v":5.1793523784817372},{"$f":"100*cubicSpline(A51,'cubic spline'!$F$4,'cubic spline'!$F$5,'cubic spline'!$F$6,'cubic spline'!$F$7,'cubic spline'!$F$8,'cubic spline'!$F$9,'cubic spline'!$F$10,'cubic spline'!$F$11,'cubic spline'!$F$12,'cubic spline'!$F$13)","v":4.5075103392027609}]
[25,{"$f":"NelsonSiegel(A52, 'nelson siegel ASK'!$E$4, 'nelson siegel ASK'!$E$5, 'nelson siegel ASK'!$E$6, 'nelson siegel ASK'!$E$7)*100","v":5.1556130290818674},{"$f":"100*cubicSpline(A52,'cubic spline'!$F$4,'cubic spline'!$F$5,'cubic spline'!$F$6,'cubic spline'!$F$7,'cubic spline'!$F$8,'cubic spline'!$F$9,'cubic spline'!$F$10,'cubic spline'!$F$11,'cubic spline'!$F$12,'cubic spline'!$F$13)","v":4.5760599382337084}]
[25.5,{"$f":"NelsonSiegel(A53, 'nelson siegel ASK'!$E$4, 'nelson siegel ASK'!$E$5, 'nelson siegel ASK'!$E$6, 'nelson siegel ASK'!$E$7)*100","v":5.1301254838664736},{"$f":"100*cubicSpline(A53,'cubic spline'!$F$4,'cubic spline'!$F$5,'cubic spline'!$F$6,'cubic spline'!$F$7,'cubic spline'!$F$8,'cubic spline'!$F$9,'cubic spline'!$F$10,'cubic spline'!$F$11,'cubic spline'!$F$12,'cubic spline'!$F$13)","v":4.6690149438662099}]
[26,{"$f":"NelsonSiegel(A54, 'nelson siegel ASK'!$E$4, 'nelson siegel ASK'!$E$5, 'nelson siegel ASK'!$E$6, 'nelson siegel ASK'!$E$7)*100","v":5.1029969265886725},{"$f":"100*cubicSpline(A54,'cubic spline'!$F$4,'cubic spline'!$F$5,'cubic spline'!$F$6,'cubic spline'!$F$7,'cubic spline'!$F$8,'cubic spline'!$F$9,'cubic spline'!$F$10,'cubic spline'!$F$11,'cubic spline'!$F$12,'cubic spline'!$F$13)","v":4.7889055736597914}]
[26.5,{"$f":"NelsonSiegel(A55, 'nelson siegel ASK'!$E$4, 'nelson siegel ASK'!$E$5, 'nelson siegel ASK'!$E$6, 'nelson siegel ASK'!$E$7)*100","v":5.074329673015189},{"$f":"100*cubicSpline(A55,'cubic spline'!$F$4,'cubic spline'!$F$5,'cubic spline'!$F$6,'cubic spline'!$F$7,'cubic spline'!$F$8,'cubic spline'!$F$9,'cubic spline'!$F$10,'cubic spline'!$F$11,'cubic spline'!$F$12,'cubic spline'!$F$13)","v":4.93826204517398}]
[27,{"$f":"NelsonSiegel(A56, 'nelson siegel ASK'!$E$4, 'nelson siegel ASK'!$E$5, 'nelson siegel ASK'!$E$6, 'nelson siegel ASK'!$E$7)*100","v":5.0442213736777255},{"$f":"100*cubicSpline(A56,'cubic spline'!$F$4,'cubic spline'!$F$5,'cubic spline'!$F$6,'cubic spline'!$F$7,'cubic spline'!$F$8,'cubic spline'!$F$9,'cubic spline'!$F$10,'cubic spline'!$F$11,'cubic spline'!$F$12,'cubic spline'!$F$13)","v":5.1196145759683001}]
[27.5,{"$f":"NelsonSiegel(A57, 'nelson siegel ASK'!$E$4, 'nelson siegel ASK'!$E$5, 'nelson siegel ASK'!$E$6, 'nelson siegel ASK'!$E$7)*100","v":5.0127652084872301},{"$f":"100*cubicSpline(A57,'cubic spline'!$F$4,'cubic spline'!$F$5,'cubic spline'!$F$6,'cubic spline'!$F$7,'cubic spline'!$F$8,'cubic spline'!$F$9,'cubic spline'!$F$10,'cubic spline'!$F$11,'cubic spline'!$F$12,'cubic spline'!$F$13)","v":5.3354933836022811}]
[28,{"$f":"NelsonSiegel(A58, 'nelson siegel ASK'!$E$4, 'nelson siegel ASK'!$E$5, 'nelson siegel ASK'!$E$6, 'nelson siegel ASK'!$E$7)*100","v":4.9800500735314337},{"$f":"100*cubicSpline(A58,'cubic spline'!$F$4,'cubic spline'!$F$5,'cubic spline'!$F$6,'cubic spline'!$F$7,'cubic spline'!$F$8,'cubic spline'!$F$9,'cubic spline'!$F$10,'cubic spline'!$F$11,'cubic spline'!$F$12,'cubic spline'!$F$13)","v":5.5884286856354466}]
[28.5,{"$f":"NelsonSiegel(A59, 'nelson siegel ASK'!$E$4, 'nelson siegel ASK'!$E$5, 'nelson siegel ASK'!$E$6, 'nelson siegel ASK'!$E$7)*100","v":4.9461607603635311},{"$f":"100*cubicSpline(A59,'cubic spline'!$F$4,'cubic spline'!$F$5,'cubic spline'!$F$6,'cubic spline'!$F$7,'cubic spline'!$F$8,'cubic spline'!$F$9,'cubic spline'!$F$10,'cubic spline'!$F$11,'cubic spline'!$F$12,'cubic spline'!$F$13)","v":5.8809506996273235}]
[29,{"$f":"NelsonSiegel(A60, 'nelson siegel ASK'!$E$4, 'nelson siegel ASK'!$E$5, 'nelson siegel ASK'!$E$6, 'nelson siegel ASK'!$E$7)*100","v":4.9111781280778741},{"$f":"100*cubicSpline(A60,'cubic spline'!$F$4,'cubic spline'!$F$5,'cubic spline'!$F$6,'cubic spline'!$F$7,'cubic spline'!$F$8,'cubic spline'!$F$9,'cubic spline'!$F$10,'cubic spline'!$F$11,'cubic spline'!$F$12,'cubic spline'!$F$13)","v":6.215589643137438}]
[29.5,{"$f":"NelsonSiegel(A61, 'nelson siegel ASK'!$E$4, 'nelson siegel ASK'!$E$5, 'nelson siegel ASK'!$E$6, 'nelson siegel ASK'!$E$7)*100","v":4.8751792684571003},{"$f":"100*cubicSpline(A61,'cubic spline'!$F$4,'cubic spline'!$F$5,'cubic spline'!$F$6,'cubic spline'!$F$7,'cubic spline'!$F$8,'cubic spline'!$F$9,'cubic spline'!$F$10,'cubic spline'!$F$11,'cubic spline'!$F$12,'cubic spline'!$F$13)","v":6.5948757337253197}]
[30,{"$f":"NelsonSiegel(A62, 'nelson siegel ASK'!$E$4, 'nelson siegel ASK'!$E$5, 'nelson siegel ASK'!$E$6, 'nelson siegel ASK'!$E$7)*100","v":4.8382376644639002},{"$f":"100*cubicSpline(A62,'cubic spline'!$F$4,'cubic spline'!$F$5,'cubic spline'!$F$6,'cubic spline'!$F$7,'cubic spline'!$F$8,'cubic spline'!$F$9,'cubic spline'!$F$10,'cubic spline'!$F$11,'cubic spline'!$F$12,'cubic spline'!$F$13)","v":7.0213391889504901}]
[31,{"$f":"NelsonSiegel(A63, 'nelson siegel ASK'!$E$4, 'nelson siegel ASK'!$E$5, 'nelson siegel ASK'!$E$6, 'nelson siegel ASK'!$E$7)*100","v":4.7618030175655894},{"$f":"100*cubicSpline(A63,'cubic spline'!$F$4,'cubic spline'!$F$5,'cubic spline'!$F$6,'cubic spline'!$F$7,'cubic spline'!$F$8,'cubic spline'!$F$9,'cubic spline'!$F$10,'cubic spline'!$F$11,'cubic spline'!$F$12,'cubic spline'!$F$13)","v":8.0259190635508109}]
[32,{"$f":"NelsonSiegel(A64, 'nelson siegel ASK'!$E$4, 'nelson siegel ASK'!$E$5, 'nelson siegel ASK'!$E$6, 'nelson siegel ASK'!$E$7)*100","v":4.6823955028751003},{"$f":"100*cubicSpline(A64,'cubic spline'!$F$4,'cubic spline'!$F$5,'cubic spline'!$F$6,'cubic spline'!$F$7,'cubic spline'!$F$8,'cubic spline'!$F$9,'cubic spline'!$F$10,'cubic spline'!$F$11,'cubic spline'!$F$12,'cubic spline'!$F$13)","v":9.2495710074146107}]
[33,{"$f":"NelsonSiegel(A65, 'nelson siegel ASK'!$E$4, 'nelson siegel ASK'!$E$5, 'nelson siegel ASK'!$E$6, 'nelson siegel ASK'!$E$7)*100","v":4.6004878114776364},{"$f":"100*cubicSpline(A65,'cubic spline'!$F$4,'cubic spline'!$F$5,'cubic spline'!$F$6,'cubic spline'!$F$7,'cubic spline'!$F$8,'cubic spline'!$F$9,'cubic spline'!$F$10,'cubic spline'!$F$11,'cubic spline'!$F$12,'cubic spline'!$F$13)","v":10.712536761018104}]
[34,{"$f":"NelsonSiegel(A66, 'nelson siegel ASK'!$E$4, 'nelson siegel ASK'!$E$5, 'nelson siegel ASK'!$E$6, 'nelson siegel ASK'!$E$7)*100","v":4.5165080564060984},{"$f":"100*cubicSpline(A66,'cubic spline'!$F$4,'cubic spline'!$F$5,'cubic spline'!$F$6,'cubic spline'!$F$7,'cubic spline'!$F$8,'cubic spline'!$F$9,'cubic spline'!$F$10,'cubic spline'!$F$11,'cubic spline'!$F$12,'cubic spline'!$F$13)","v":12.435058064837502}]
[35,{"$f":"NelsonSiegel(A67, 'nelson siegel ASK'!$E$4, 'nelson siegel ASK'!$E$5, 'nelson siegel ASK'!$E$6, 'nelson siegel ASK'!$E$7)*100","v":4.4308434974190902},{"$f":"100*cubicSpline(A67,'cubic spline'!$F$4,'cubic spline'!$F$5,'cubic spline'!$F$6,'cubic spline'!$F$7,'cubic spline'!$F$8,'cubic spline'!$F$9,'cubic spline'!$F$10,'cubic spline'!$F$11,'cubic spline'!$F$12,'cubic spline'!$F$13)","v":14.43737665934901}]
[36,{"$f":"NelsonSiegel(A68, 'nelson siegel ASK'!$E$4, 'nelson siegel ASK'!$E$5, 'nelson siegel ASK'!$E$6, 'nelson siegel ASK'!$E$7)*100","v":4.3438439691763229},{"$f":"100*cubicSpline(A68,'cubic spline'!$F$4,'cubic spline'!$F$5,'cubic spline'!$F$6,'cubic spline'!$F$7,'cubic spline'!$F$8,'cubic spline'!$F$9,'cubic spline'!$F$10,'cubic spline'!$F$11,'cubic spline'!$F$12,'cubic spline'!$F$13)","v":16.739734285028845}]
[37,{"$f":"NelsonSiegel(A69, 'nelson siegel ASK'!$E$4, 'nelson siegel ASK'!$E$5, 'nelson siegel ASK'!$E$6, 'nelson siegel ASK'!$E$7)*100","v":4.2558250358713012},{"$f":"100*cubicSpline(A69,'cubic spline'!$F$4,'cubic spline'!$F$5,'cubic spline'!$F$6,'cubic spline'!$F$7,'cubic spline'!$F$8,'cubic spline'!$F$9,'cubic spline'!$F$10,'cubic spline'!$F$11,'cubic spline'!$F$12,'cubic spline'!$F$13)","v":19.362372682353211}]
[38,{"$f":"NelsonSiegel(A70, 'nelson siegel ASK'!$E$4, 'nelson siegel ASK'!$E$5, 'nelson siegel ASK'!$E$6, 'nelson siegel ASK'!$E$7)*100","v":4.167070893612439},{"$f":"100*cubicSpline(A70,'cubic spline'!$F$4,'cubic spline'!$F$5,'cubic spline'!$F$6,'cubic spline'!$F$7,'cubic spline'!$F$8,'cubic spline'!$F$9,'cubic spline'!$F$10,'cubic spline'!$F$11,'cubic spline'!$F$12,'cubic spline'!$F$13)","v":22.325533591798333}]
[39,{"$f":"NelsonSiegel(A71, 'nelson siegel ASK'!$E$4, 'nelson siegel ASK'!$E$5, 'nelson siegel ASK'!$E$6, 'nelson siegel ASK'!$E$7)*100","v":4.0778370402096735},{"$f":"100*cubicSpline(A71,'cubic spline'!$F$4,'cubic spline'!$F$5,'cubic spline'!$F$6,'cubic spline'!$F$7,'cubic spline'!$F$8,'cubic spline'!$F$9,'cubic spline'!$F$10,'cubic spline'!$F$11,'cubic spline'!$F$12,'cubic spline'!$F$13)","v":25.64945875384041}]
[40,{"$f":"NelsonSiegel(A72, 'nelson siegel ASK'!$E$4, 'nelson siegel ASK'!$E$5, 'nelson siegel ASK'!$E$6, 'nelson siegel ASK'!$E$7)*100","v":3.9883527305138124},{"$f":"100*cubicSpline(A72,'cubic spline'!$F$4,'cubic spline'!$F$5,'cubic spline'!$F$6,'cubic spline'!$F$7,'cubic spline'!$F$8,'cubic spline'!$F$9,'cubic spline'!$F$10,'cubic spline'!$F$11,'cubic spline'!$F$12,'cubic spline'!$F$13)","v":29.354389908955653}]
[41,{"$f":"NelsonSiegel(A73, 'nelson siegel ASK'!$E$4, 'nelson siegel ASK'!$E$5, 'nelson siegel ASK'!$E$6, 'nelson siegel ASK'!$E$7)*100","v":3.8988232340609561},{"$f":"100*cubicSpline(A73,'cubic spline'!$F$4,'cubic spline'!$F$5,'cubic spline'!$F$6,'cubic spline'!$F$7,'cubic spline'!$F$8,'cubic spline'!$F$9,'cubic spline'!$F$10,'cubic spline'!$F$11,'cubic spline'!$F$12,'cubic spline'!$F$13)","v":33.460568797620276}]
[42,{"$f":"NelsonSiegel(A74, 'nelson siegel ASK'!$E$4, 'nelson siegel ASK'!$E$5, 'nelson siegel ASK'!$E$6, 'nelson siegel ASK'!$E$7)*100","v":3.8094319104857637},{"$f":"100*cubicSpline(A74,'cubic spline'!$F$4,'cubic spline'!$F$5,'cubic spline'!$F$6,'cubic spline'!$F$7,'cubic spline'!$F$8,'cubic spline'!$F$9,'cubic spline'!$F$10,'cubic spline'!$F$11,'cubic spline'!$F$12,'cubic spline'!$F$13)","v":37.988237160310483}]
[43,{"$f":"NelsonSiegel(A75, 'nelson siegel ASK'!$E$4, 'nelson siegel ASK'!$E$5, 'nelson siegel ASK'!$E$6, 'nelson siegel ASK'!$E$7)*100","v":3.7203421169768651},{"$f":"100*cubicSpline(A75,'cubic spline'!$F$4,'cubic spline'!$F$5,'cubic spline'!$F$6,'cubic spline'!$F$7,'cubic spline'!$F$8,'cubic spline'!$F$9,'cubic spline'!$F$10,'cubic spline'!$F$11,'cubic spline'!$F$12,'cubic spline'!$F$13)","v":42.957636737502504}]
[44,{"$f":"NelsonSiegel(A76, 'nelson siegel ASK'!$E$4, 'nelson siegel ASK'!$E$5, 'nelson siegel ASK'!$E$6, 'nelson siegel ASK'!$E$7)*100","v":3.631698960948055},{"$f":"100*cubicSpline(A76,'cubic spline'!$F$4,'cubic spline'!$F$5,'cubic spline'!$F$6,'cubic spline'!$F$7,'cubic spline'!$F$8,'cubic spline'!$F$9,'cubic spline'!$F$10,'cubic spline'!$F$11,'cubic spline'!$F$12,'cubic spline'!$F$13)","v":48.38900926967252}]
[45,{"$f":"NelsonSiegel(A77, 'nelson siegel ASK'!$E$4, 'nelson siegel ASK'!$E$5, 'nelson siegel ASK'!$E$6, 'nelson siegel ASK'!$E$7)*100","v":3.5436309100830954},{"$f":"100*cubicSpline(A77,'cubic spline'!$F$4,'cubic spline'!$F$5,'cubic spline'!$F$6,'cubic spline'!$F$7,'cubic spline'!$F$8,'cubic spline'!$F$9,'cubic spline'!$F$10,'cubic spline'!$F$11,'cubic spline'!$F$12,'cubic spline'!$F$13)","v":54.302596497296783}]
[46,{"$f":"NelsonSiegel(A78, 'nelson siegel ASK'!$E$4, 'nelson siegel ASK'!$E$5, 'nelson siegel ASK'!$E$6, 'nelson siegel ASK'!$E$7)*100","v":3.4562512709737589},{"$f":"100*cubicSpline(A78,'cubic spline'!$F$4,'cubic spline'!$F$5,'cubic spline'!$F$6,'cubic spline'!$F$7,'cubic spline'!$F$8,'cubic spline'!$F$9,'cubic spline'!$F$10,'cubic spline'!$F$11,'cubic spline'!$F$12,'cubic spline'!$F$13)","v":60.718640160851457}]
[47,{"$f":"NelsonSiegel(A79, 'nelson siegel ASK'!$E$4, 'nelson siegel ASK'!$E$5, 'nelson siegel ASK'!$E$6, 'nelson siegel ASK'!$E$7)*100","v":3.3696595467040082},{"$f":"100*cubicSpline(A79,'cubic spline'!$F$4,'cubic spline'!$F$5,'cubic spline'!$F$6,'cubic spline'!$F$7,'cubic spline'!$F$8,'cubic spline'!$F$9,'cubic spline'!$F$10,'cubic spline'!$F$11,'cubic spline'!$F$12,'cubic spline'!$F$13)","v":67.657382000812788}]
[48,{"$f":"NelsonSiegel(A80, 'nelson siegel ASK'!$E$4, 'nelson siegel ASK'!$E$5, 'nelson siegel ASK'!$E$6, 'nelson siegel ASK'!$E$7)*100","v":3.2839426829329317},{"$f":"100*cubicSpline(A80,'cubic spline'!$F$4,'cubic spline'!$F$5,'cubic spline'!$F$6,'cubic spline'!$F$7,'cubic spline'!$F$8,'cubic spline'!$F$9,'cubic spline'!$F$10,'cubic spline'!$F$11,'cubic spline'!$F$12,'cubic spline'!$F$13)","v":75.139063757656984}]
[49,{"$f":"NelsonSiegel(A81, 'nelson siegel ASK'!$E$4, 'nelson siegel ASK'!$E$5, 'nelson siegel ASK'!$E$6, 'nelson siegel ASK'!$E$7)*100","v":3.1991762112897364},{"$f":"100*cubicSpline(A81,'cubic spline'!$F$4,'cubic spline'!$F$5,'cubic spline'!$F$6,'cubic spline'!$F$7,'cubic spline'!$F$8,'cubic spline'!$F$9,'cubic spline'!$F$10,'cubic spline'!$F$11,'cubic spline'!$F$12,'cubic spline'!$F$13)","v":83.183927171860248}]
[50,{"$f":"NelsonSiegel(A82, 'nelson siegel ASK'!$E$4, 'nelson siegel ASK'!$E$5, 'nelson siegel ASK'!$E$6, 'nelson siegel ASK'!$E$7)*100","v":3.1154252982115036},{"$f":"100*cubicSpline(A82,'cubic spline'!$F$4,'cubic spline'!$F$5,'cubic spline'!$F$6,'cubic spline'!$F$7,'cubic spline'!$F$8,'cubic spline'!$F$9,'cubic spline'!$F$10,'cubic spline'!$F$11,'cubic spline'!$F$12,'cubic spline'!$F$13)","v":91.812213983898786}]
[51,{"$f":"NelsonSiegel(A83, 'nelson siegel ASK'!$E$4, 'nelson siegel ASK'!$E$5, 'nelson siegel ASK'!$E$6, 'nelson siegel ASK'!$E$7)*100","v":3.0327457067239485},{"$f":"100*cubicSpline(A83,'cubic spline'!$F$4,'cubic spline'!$F$5,'cubic spline'!$F$6,'cubic spline'!$F$7,'cubic spline'!$F$8,'cubic spline'!$F$9,'cubic spline'!$F$10,'cubic spline'!$F$11,'cubic spline'!$F$12,'cubic spline'!$F$13)","v":101.04416593424881}]
[52,{"$f":"NelsonSiegel(A84, 'nelson siegel ASK'!$E$4, 'nelson siegel ASK'!$E$5, 'nelson siegel ASK'!$E$6, 'nelson siegel ASK'!$E$7)*100","v":2.951184678083318},{"$f":"100*cubicSpline(A84,'cubic spline'!$F$4,'cubic spline'!$F$5,'cubic spline'!$F$6,'cubic spline'!$F$7,'cubic spline'!$F$8,'cubic spline'!$F$9,'cubic spline'!$F$10,'cubic spline'!$F$11,'cubic spline'!$F$12,'cubic spline'!$F$13)","v":110.90002476338654}]
[53,{"$f":"NelsonSiegel(A85, 'nelson siegel ASK'!$E$4, 'nelson siegel ASK'!$E$5, 'nelson siegel ASK'!$E$6, 'nelson siegel ASK'!$E$7)*100","v":2.8707817396600355},{"$f":"100*cubicSpline(A85,'cubic spline'!$F$4,'cubic spline'!$F$5,'cubic spline'!$F$6,'cubic spline'!$F$7,'cubic spline'!$F$8,'cubic spline'!$F$9,'cubic spline'!$F$10,'cubic spline'!$F$11,'cubic spline'!$F$12,'cubic spline'!$F$13)","v":121.40003221178817}]
[54,{"$f":"NelsonSiegel(A86, 'nelson siegel ASK'!$E$4, 'nelson siegel ASK'!$E$5, 'nelson siegel ASK'!$E$6, 'nelson siegel ASK'!$E$7)*100","v":2.7915694449483821},{"$f":"100*cubicSpline(A86,'cubic spline'!$F$4,'cubic spline'!$F$5,'cubic spline'!$F$6,'cubic spline'!$F$7,'cubic spline'!$F$8,'cubic spline'!$F$9,'cubic spline'!$F$10,'cubic spline'!$F$11,'cubic spline'!$F$12,'cubic spline'!$F$13)","v":132.56443001992992}]
[55,{"$f":"NelsonSiegel(A87, 'nelson siegel ASK'!$E$4, 'nelson siegel ASK'!$E$5, 'nelson siegel ASK'!$E$6, 'nelson siegel ASK'!$E$7)*100","v":2.7135740511283384},{"$f":"100*cubicSpline(A87,'cubic spline'!$F$4,'cubic spline'!$F$5,'cubic spline'!$F$6,'cubic spline'!$F$7,'cubic spline'!$F$8,'cubic spline'!$F$9,'cubic spline'!$F$10,'cubic spline'!$F$11,'cubic spline'!$F$12,'cubic spline'!$F$13)","v":144.41345992828803}]
[56,{"$f":"NelsonSiegel(A88, 'nelson siegel ASK'!$E$4, 'nelson siegel ASK'!$E$5, 'nelson siegel ASK'!$E$6, 'nelson siegel ASK'!$E$7)*100","v":2.6368161391826095},{"$f":"100*cubicSpline(A88,'cubic spline'!$F$4,'cubic spline'!$F$5,'cubic spline'!$F$6,'cubic spline'!$F$7,'cubic spline'!$F$8,'cubic spline'!$F$9,'cubic spline'!$F$10,'cubic spline'!$F$11,'cubic spline'!$F$12,'cubic spline'!$F$13)","v":156.96736367733868}]
[57,{"$f":"NelsonSiegel(A89, 'nelson siegel ASK'!$E$4, 'nelson siegel ASK'!$E$5, 'nelson siegel ASK'!$E$6, 'nelson siegel ASK'!$E$7)*100","v":2.5613111811814453},{"$f":"100*cubicSpline(A89,'cubic spline'!$F$4,'cubic spline'!$F$5,'cubic spline'!$F$6,'cubic spline'!$F$7,'cubic spline'!$F$8,'cubic spline'!$F$9,'cubic spline'!$F$10,'cubic spline'!$F$11,'cubic spline'!$F$12,'cubic spline'!$F$13)","v":170.24638300755805}]
[58,{"$f":"NelsonSiegel(A90, 'nelson siegel ASK'!$E$4, 'nelson siegel ASK'!$E$5, 'nelson siegel ASK'!$E$6, 'nelson siegel ASK'!$E$7)*100","v":2.4870700589872707},{"$f":"100*cubicSpline(A90,'cubic spline'!$F$4,'cubic spline'!$F$5,'cubic spline'!$F$6,'cubic spline'!$F$7,'cubic spline'!$F$8,'cubic spline'!$F$9,'cubic spline'!$F$10,'cubic spline'!$F$11,'cubic spline'!$F$12,'cubic spline'!$F$13)","v":184.27075965942245}]
[59,{"$f":"NelsonSiegel(A91, 'nelson siegel ASK'!$E$4, 'nelson siegel ASK'!$E$5, 'nelson siegel ASK'!$E$6, 'nelson siegel ASK'!$E$7)*100","v":2.4140995382984944},{"$f":"100*cubicSpline(A91,'cubic spline'!$F$4,'cubic spline'!$F$5,'cubic spline'!$F$6,'cubic spline'!$F$7,'cubic spline'!$F$8,'cubic spline'!$F$9,'cubic spline'!$F$10,'cubic spline'!$F$11,'cubic spline'!$F$12,'cubic spline'!$F$13)","v":199.06073537340797}]
[60,{"$f":"NelsonSiegel(A92, 'nelson siegel ASK'!$E$4, 'nelson siegel ASK'!$E$5, 'nelson siegel ASK'!$E$6, 'nelson siegel ASK'!$E$7)*100","v":2.34240270164472},{"$f":"100*cubicSpline(A92,'cubic spline'!$F$4,'cubic spline'!$F$5,'cubic spline'!$F$6,'cubic spline'!$F$7,'cubic spline'!$F$8,'cubic spline'!$F$9,'cubic spline'!$F$10,'cubic spline'!$F$11,'cubic spline'!$F$12,'cubic spline'!$F$13)","v":214.63655188999093}]
[61,{"$f":"NelsonSiegel(A93, 'nelson siegel ASK'!$E$4, 'nelson siegel ASK'!$E$5, 'nelson siegel ASK'!$E$6, 'nelson siegel ASK'!$E$7)*100","v":2.2719793436621276},{"$f":"100*cubicSpline(A93,'cubic spline'!$F$4,'cubic spline'!$F$5,'cubic spline'!$F$6,'cubic spline'!$F$7,'cubic spline'!$F$8,'cubic spline'!$F$9,'cubic spline'!$F$10,'cubic spline'!$F$11,'cubic spline'!$F$12,'cubic spline'!$F$13)","v":231.01845094964739}]
[62,{"$f":"NelsonSiegel(A94, 'nelson siegel ASK'!$E$4, 'nelson siegel ASK'!$E$5, 'nelson siegel ASK'!$E$6, 'nelson siegel ASK'!$E$7)*100","v":2.202826331716274},{"$f":"100*cubicSpline(A94,'cubic spline'!$F$4,'cubic spline'!$F$5,'cubic spline'!$F$6,'cubic spline'!$F$7,'cubic spline'!$F$8,'cubic spline'!$F$9,'cubic spline'!$F$10,'cubic spline'!$F$11,'cubic spline'!$F$12,'cubic spline'!$F$13)","v":248.2266742928538}]
[63,{"$f":"NelsonSiegel(A95, 'nelson siegel ASK'!$E$4, 'nelson siegel ASK'!$E$5, 'nelson siegel ASK'!$E$6, 'nelson siegel ASK'!$E$7)*100","v":2.134937934698157},{"$f":"100*cubicSpline(A95,'cubic spline'!$F$4,'cubic spline'!$F$5,'cubic spline'!$F$6,'cubic spline'!$F$7,'cubic spline'!$F$8,'cubic spline'!$F$9,'cubic spline'!$F$10,'cubic spline'!$F$11,'cubic spline'!$F$12,'cubic spline'!$F$13)","v":266.2814636600861}]
[64,{"$f":"NelsonSiegel(A96, 'nelson siegel ASK'!$E$4, 'nelson siegel ASK'!$E$5, 'nelson siegel ASK'!$E$6, 'nelson siegel ASK'!$E$7)*100","v":2.0683061225966832},{"$f":"100*cubicSpline(A96,'cubic spline'!$F$4,'cubic spline'!$F$5,'cubic spline'!$F$6,'cubic spline'!$F$7,'cubic spline'!$F$8,'cubic spline'!$F$9,'cubic spline'!$F$10,'cubic spline'!$F$11,'cubic spline'!$F$12,'cubic spline'!$F$13)","v":285.20306079182075}]
[65,{"$f":"NelsonSiegel(A97, 'nelson siegel ASK'!$E$4, 'nelson siegel ASK'!$E$5, 'nelson siegel ASK'!$E$6, 'nelson siegel ASK'!$E$7)*100","v":2.0029208392451947},{"$f":"100*cubicSpline(A97,'cubic spline'!$F$4,'cubic spline'!$F$5,'cubic spline'!$F$6,'cubic spline'!$F$7,'cubic spline'!$F$8,'cubic spline'!$F$9,'cubic spline'!$F$10,'cubic spline'!$F$11,'cubic spline'!$F$12,'cubic spline'!$F$13)","v":305.01170742853378}]
[66,{"$f":"NelsonSiegel(A98, 'nelson siegel ASK'!$E$4, 'nelson siegel ASK'!$E$5, 'nelson siegel ASK'!$E$6, 'nelson siegel ASK'!$E$7)*100","v":1.9387702504501387},{"$f":"100*cubicSpline(A98,'cubic spline'!$F$4,'cubic spline'!$F$5,'cubic spline'!$F$6,'cubic spline'!$F$7,'cubic spline'!$F$8,'cubic spline'!$F$9,'cubic spline'!$F$10,'cubic spline'!$F$11,'cubic spline'!$F$12,'cubic spline'!$F$13)","v":325.72764531070152}]
[67,{"$f":"NelsonSiegel(A99, 'nelson siegel ASK'!$E$4, 'nelson siegel ASK'!$E$5, 'nelson siegel ASK'!$E$6, 'nelson siegel ASK'!$E$7)*100","v":1.8758409695350593},{"$f":"100*cubicSpline(A99,'cubic spline'!$F$4,'cubic spline'!$F$5,'cubic spline'!$F$6,'cubic spline'!$F$7,'cubic spline'!$F$8,'cubic spline'!$F$9,'cubic spline'!$F$10,'cubic spline'!$F$11,'cubic spline'!$F$12,'cubic spline'!$F$13)","v":347.37111617880004}]
[68,{"$f":"NelsonSiegel(A100, 'nelson siegel ASK'!$E$4, 'nelson siegel ASK'!$E$5, 'nelson siegel ASK'!$E$6, 'nelson siegel ASK'!$E$7)*100","v":1.8141182621718175},{"$f":"100*cubicSpline(A100,'cubic spline'!$F$4,'cubic spline'!$F$5,'cubic spline'!$F$6,'cubic spline'!$F$7,'cubic spline'!$F$8,'cubic spline'!$F$9,'cubic spline'!$F$10,'cubic spline'!$F$11,'cubic spline'!$F$12,'cubic spline'!$F$13)","v":369.96236177330559}]
[69,{"$f":"NelsonSiegel(A101, 'nelson siegel ASK'!$E$4, 'nelson siegel ASK'!$E$5, 'nelson siegel ASK'!$E$6, 'nelson siegel ASK'!$E$7)*100","v":1.7535862322220979},{"$f":"100*cubicSpline(A101,'cubic spline'!$F$4,'cubic spline'!$F$5,'cubic spline'!$F$6,'cubic spline'!$F$7,'cubic spline'!$F$8,'cubic spline'!$F$9,'cubic spline'!$F$10,'cubic spline'!$F$11,'cubic spline'!$F$12,'cubic spline'!$F$13)","v":393.52162383469459}]
[70,{"$f":"NelsonSiegel(A102, 'nelson siegel ASK'!$E$4, 'nelson siegel ASK'!$E$5, 'nelson siegel ASK'!$E$6, 'nelson siegel ASK'!$E$7)*100","v":1.6942279901751127},{"$f":"100*cubicSpline(A102,'cubic spline'!$F$4,'cubic spline'!$F$5,'cubic spline'!$F$6,'cubic spline'!$F$7,'cubic spline'!$F$8,'cubic spline'!$F$9,'cubic spline'!$F$10,'cubic spline'!$F$11,'cubic spline'!$F$12,'cubic spline'!$F$13)","v":418.06914410344308}]
[71,{"$f":"NelsonSiegel(A103, 'nelson siegel ASK'!$E$4, 'nelson siegel ASK'!$E$5, 'nelson siegel ASK'!$E$6, 'nelson siegel ASK'!$E$7)*100","v":1.6360258056407939},{"$f":"100*cubicSpline(A103,'cubic spline'!$F$4,'cubic spline'!$F$5,'cubic spline'!$F$6,'cubic spline'!$F$7,'cubic spline'!$F$8,'cubic spline'!$F$9,'cubic spline'!$F$10,'cubic spline'!$F$11,'cubic spline'!$F$12,'cubic spline'!$F$13)","v":443.62516432002712}]
[72,{"$f":"NelsonSiegel(A104, 'nelson siegel ASK'!$E$4, 'nelson siegel ASK'!$E$5, 'nelson siegel ASK'!$E$6, 'nelson siegel ASK'!$E$7)*100","v":1.5789612452411561},{"$f":"100*cubicSpline(A104,'cubic spline'!$F$4,'cubic spline'!$F$5,'cubic spline'!$F$6,'cubic spline'!$F$7,'cubic spline'!$F$8,'cubic spline'!$F$9,'cubic spline'!$F$10,'cubic spline'!$F$11,'cubic spline'!$F$12,'cubic spline'!$F$13)","v":470.20992622492315}]
[73,{"$f":"NelsonSiegel(A105, 'nelson siegel ASK'!$E$4, 'nelson siegel ASK'!$E$5, 'nelson siegel ASK'!$E$6, 'nelson siegel ASK'!$E$7)*100","v":1.5230152971348856},{"$f":"100*cubicSpline(A105,'cubic spline'!$F$4,'cubic spline'!$F$5,'cubic spline'!$F$6,'cubic spline'!$F$7,'cubic spline'!$F$8,'cubic spline'!$F$9,'cubic spline'!$F$10,'cubic spline'!$F$11,'cubic spline'!$F$12,'cubic spline'!$F$13)","v":497.84367155860735}]
[74,{"$f":"NelsonSiegel(A106, 'nelson siegel ASK'!$E$4, 'nelson siegel ASK'!$E$5, 'nelson siegel ASK'!$E$6, 'nelson siegel ASK'!$E$7)*100","v":1.4681684833110455},{"$f":"100*cubicSpline(A106,'cubic spline'!$F$4,'cubic spline'!$F$5,'cubic spline'!$F$6,'cubic spline'!$F$7,'cubic spline'!$F$8,'cubic spline'!$F$9,'cubic spline'!$F$10,'cubic spline'!$F$11,'cubic spline'!$F$12,'cubic spline'!$F$13)","v":526.54664206155587}]
[75,{"$f":"NelsonSiegel(A107, 'nelson siegel ASK'!$E$4, 'nelson siegel ASK'!$E$5, 'nelson siegel ASK'!$E$6, 'nelson siegel ASK'!$E$7)*100","v":1.4144009606963719},{"$f":"100*cubicSpline(A107,'cubic spline'!$F$4,'cubic spline'!$F$5,'cubic spline'!$F$6,'cubic spline'!$F$7,'cubic spline'!$F$8,'cubic spline'!$F$9,'cubic spline'!$F$10,'cubic spline'!$F$11,'cubic spline'!$F$12,'cubic spline'!$F$13)","v":556.33907947424507}]
[76,{"$f":"NelsonSiegel(A108, 'nelson siegel ASK'!$E$4, 'nelson siegel ASK'!$E$5, 'nelson siegel ASK'!$E$6, 'nelson siegel ASK'!$E$7)*100","v":1.3616926120363793},{"$f":"100*cubicSpline(A108,'cubic spline'!$F$4,'cubic spline'!$F$5,'cubic spline'!$F$6,'cubic spline'!$F$7,'cubic spline'!$F$8,'cubic spline'!$F$9,'cubic spline'!$F$10,'cubic spline'!$F$11,'cubic spline'!$F$12,'cubic spline'!$F$13)","v":587.24122553715097}]
[77,{"$f":"NelsonSiegel(A109, 'nelson siegel ASK'!$E$4, 'nelson siegel ASK'!$E$5, 'nelson siegel ASK'!$E$6, 'nelson siegel ASK'!$E$7)*100","v":1.3100231274327991},{"$f":"100*cubicSpline(A109,'cubic spline'!$F$4,'cubic spline'!$F$5,'cubic spline'!$F$6,'cubic spline'!$F$7,'cubic spline'!$F$8,'cubic spline'!$F$9,'cubic spline'!$F$10,'cubic spline'!$F$11,'cubic spline'!$F$12,'cubic spline'!$F$13)","v":619.27332199074965}]
[78,{"$f":"NelsonSiegel(A110, 'nelson siegel ASK'!$E$4, 'nelson siegel ASK'!$E$5, 'nelson siegel ASK'!$E$6, 'nelson siegel ASK'!$E$7)*100","v":1.2593720773483732},{"$f":"100*cubicSpline(A110,'cubic spline'!$F$4,'cubic spline'!$F$5,'cubic spline'!$F$6,'cubic spline'!$F$7,'cubic spline'!$F$8,'cubic spline'!$F$9,'cubic spline'!$F$10,'cubic spline'!$F$11,'cubic spline'!$F$12,'cubic spline'!$F$13)","v":652.45561057551777}]
[79,{"$f":"NelsonSiegel(A111, 'nelson siegel ASK'!$E$4, 'nelson siegel ASK'!$E$5, 'nelson siegel ASK'!$E$6, 'nelson siegel ASK'!$E$7)*100","v":1.2097189778240245},{"$f":"100*cubicSpline(A111,'cubic spline'!$F$4,'cubic spline'!$F$5,'cubic spline'!$F$6,'cubic spline'!$F$7,'cubic spline'!$F$8,'cubic spline'!$F$9,'cubic spline'!$F$10,'cubic spline'!$F$11,'cubic spline'!$F$12,'cubic spline'!$F$13)","v":686.80833303193106}]
[80,{"$f":"NelsonSiegel(A112, 'nelson siegel ASK'!$E$4, 'nelson siegel ASK'!$E$5, 'nelson siegel ASK'!$E$6, 'nelson siegel ASK'!$E$7)*100","v":1.1610433485927429},{"$f":"100*cubicSpline(A112,'cubic spline'!$F$4,'cubic spline'!$F$5,'cubic spline'!$F$6,'cubic spline'!$F$7,'cubic spline'!$F$8,'cubic spline'!$F$9,'cubic spline'!$F$10,'cubic spline'!$F$11,'cubic spline'!$F$12,'cubic spline'!$F$13)","v":722.35173110046617}]
[81,{"$f":"NelsonSiegel(A113, 'nelson siegel ASK'!$E$4, 'nelson siegel ASK'!$E$5, 'nelson siegel ASK'!$E$6, 'nelson siegel ASK'!$E$7)*100","v":1.1133247647185409},{"$f":"100*cubicSpline(A113,'cubic spline'!$F$4,'cubic spline'!$F$5,'cubic spline'!$F$6,'cubic spline'!$F$7,'cubic spline'!$F$8,'cubic spline'!$F$9,'cubic spline'!$F$10,'cubic spline'!$F$11,'cubic spline'!$F$12,'cubic spline'!$F$13)","v":759.10604652159896}]
[82,{"$f":"NelsonSiegel(A114, 'nelson siegel ASK'!$E$4, 'nelson siegel ASK'!$E$5, 'nelson siegel ASK'!$E$6, 'nelson siegel ASK'!$E$7)*100","v":1.0665429023372812},{"$f":"100*cubicSpline(A114,'cubic spline'!$F$4,'cubic spline'!$F$5,'cubic spline'!$F$6,'cubic spline'!$F$7,'cubic spline'!$F$8,'cubic spline'!$F$9,'cubic spline'!$F$10,'cubic spline'!$F$11,'cubic spline'!$F$12,'cubic spline'!$F$13)","v":797.09152103580607}]
[83,{"$f":"NelsonSiegel(A115, 'nelson siegel ASK'!$E$4, 'nelson siegel ASK'!$E$5, 'nelson siegel ASK'!$E$6, 'nelson siegel ASK'!$E$7)*100","v":1.0206775790287921},{"$f":"100*cubicSpline(A115,'cubic spline'!$F$4,'cubic spline'!$F$5,'cubic spline'!$F$6,'cubic spline'!$F$7,'cubic spline'!$F$8,'cubic spline'!$F$9,'cubic spline'!$F$10,'cubic spline'!$F$11,'cubic spline'!$F$12,'cubic spline'!$F$13)","v":836.3283963835629}]
[84,{"$f":"NelsonSiegel(A116, 'nelson siegel ASK'!$E$4, 'nelson siegel ASK'!$E$5, 'nelson siegel ASK'!$E$6, 'nelson siegel ASK'!$E$7)*100","v":0.97570878930589233},{"$f":"100*cubicSpline(A116,'cubic spline'!$F$4,'cubic spline'!$F$5,'cubic spline'!$F$6,'cubic spline'!$F$7,'cubic spline'!$F$8,'cubic spline'!$F$9,'cubic spline'!$F$10,'cubic spline'!$F$11,'cubic spline'!$F$12,'cubic spline'!$F$13)","v":876.83691430534657}]
[85,{"$f":"NelsonSiegel(A117, 'nelson siegel ASK'!$E$4, 'nelson siegel ASK'!$E$5, 'nelson siegel ASK'!$E$6, 'nelson siegel ASK'!$E$7)*100","v":0.93161673566580572},{"$f":"100*cubicSpline(A117,'cubic spline'!$F$4,'cubic spline'!$F$5,'cubic spline'!$F$6,'cubic spline'!$F$7,'cubic spline'!$F$8,'cubic spline'!$F$9,'cubic spline'!$F$10,'cubic spline'!$F$11,'cubic spline'!$F$12,'cubic spline'!$F$13)","v":918.6373165416328}]
[86,{"$f":"NelsonSiegel(A118, 'nelson siegel ASK'!$E$4, 'nelson siegel ASK'!$E$5, 'nelson siegel ASK'!$E$6, 'nelson siegel ASK'!$E$7)*100","v":0.88838185561236971},{"$f":"100*cubicSpline(A118,'cubic spline'!$F$4,'cubic spline'!$F$5,'cubic spline'!$F$6,'cubic spline'!$F$7,'cubic spline'!$F$8,'cubic spline'!$F$9,'cubic spline'!$F$10,'cubic spline'!$F$11,'cubic spline'!$F$12,'cubic spline'!$F$13)","v":961.74984483289802}]
[87,{"$f":"NelsonSiegel(A119, 'nelson siegel ASK'!$E$4, 'nelson siegel ASK'!$E$5, 'nelson siegel ASK'!$E$6, 'nelson siegel ASK'!$E$7)*100","v":0.8459848450233759},{"$f":"100*cubicSpline(A119,'cubic spline'!$F$4,'cubic spline'!$F$5,'cubic spline'!$F$6,'cubic spline'!$F$7,'cubic spline'!$F$8,'cubic spline'!$F$9,'cubic spline'!$F$10,'cubic spline'!$F$11,'cubic spline'!$F$12,'cubic spline'!$F$13)","v":1006.194740919618}]
[88,{"$f":"NelsonSiegel(A120, 'nelson siegel ASK'!$E$4, 'nelson siegel ASK'!$E$5, 'nelson siegel ASK'!$E$6, 'nelson siegel ASK'!$E$7)*100","v":0.80440667820602796},{"$f":"100*cubicSpline(A120,'cubic spline'!$F$4,'cubic spline'!$F$5,'cubic spline'!$F$6,'cubic spline'!$F$7,'cubic spline'!$F$8,'cubic spline'!$F$9,'cubic spline'!$F$10,'cubic spline'!$F$11,'cubic spline'!$F$12,'cubic spline'!$F$13)","v":1051.9922465422696}]
[89,{"$f":"NelsonSiegel(A121, 'nelson siegel ASK'!$E$4, 'nelson siegel ASK'!$E$5, 'nelson siegel ASK'!$E$6, 'nelson siegel ASK'!$E$7)*100","v":0.76362862495463935},{"$f":"100*cubicSpline(A121,'cubic spline'!$F$4,'cubic spline'!$F$5,'cubic spline'!$F$6,'cubic spline'!$F$7,'cubic spline'!$F$8,'cubic spline'!$F$9,'cubic spline'!$F$10,'cubic spline'!$F$11,'cubic spline'!$F$12,'cubic spline'!$F$13)","v":1099.1626034413287}]
[90,{"$f":"NelsonSiegel(A122, 'nelson siegel ASK'!$E$4, 'nelson siegel ASK'!$E$5, 'nelson siegel ASK'!$E$6, 'nelson siegel ASK'!$E$7)*100","v":0.72363226489818089},{"$f":"100*cubicSpline(A122,'cubic spline'!$F$4,'cubic spline'!$F$5,'cubic spline'!$F$6,'cubic spline'!$F$7,'cubic spline'!$F$8,'cubic spline'!$F$9,'cubic spline'!$F$10,'cubic spline'!$F$11,'cubic spline'!$F$12,'cubic spline'!$F$13)","v":1147.7260533572714}]
[91,{"$f":"NelsonSiegel(A123, 'nelson siegel ASK'!$E$4, 'nelson siegel ASK'!$E$5, 'nelson siegel ASK'!$E$6, 'nelson siegel ASK'!$E$7)*100","v":0.68439949940084477},{"$f":"100*cubicSpline(A123,'cubic spline'!$F$4,'cubic spline'!$F$5,'cubic spline'!$F$6,'cubic spline'!$F$7,'cubic spline'!$F$8,'cubic spline'!$F$9,'cubic spline'!$F$10,'cubic spline'!$F$11,'cubic spline'!$F$12,'cubic spline'!$F$13)","v":1197.702838030574}]
[92,{"$f":"NelsonSiegel(A124, 'nelson siegel ASK'!$E$4, 'nelson siegel ASK'!$E$5, 'nelson siegel ASK'!$E$6, 'nelson siegel ASK'!$E$7)*100","v":0.64591256125640062},{"$f":"100*cubicSpline(A124,'cubic spline'!$F$4,'cubic spline'!$F$5,'cubic spline'!$F$6,'cubic spline'!$F$7,'cubic spline'!$F$8,'cubic spline'!$F$9,'cubic spline'!$F$10,'cubic spline'!$F$11,'cubic spline'!$F$12,'cubic spline'!$F$13)","v":1249.1131992017129}]
[93,{"$f":"NelsonSiegel(A125, 'nelson siegel ASK'!$E$4, 'nelson siegel ASK'!$E$5, 'nelson siegel ASK'!$E$6, 'nelson siegel ASK'!$E$7)*100","v":0.6081540223964399},{"$f":"100*cubicSpline(A125,'cubic spline'!$F$4,'cubic spline'!$F$5,'cubic spline'!$F$6,'cubic spline'!$F$7,'cubic spline'!$F$8,'cubic spline'!$F$9,'cubic spline'!$F$10,'cubic spline'!$F$11,'cubic spline'!$F$12,'cubic spline'!$F$13)","v":1301.9773786111639}]
[94,{"$f":"NelsonSiegel(A126, 'nelson siegel ASK'!$E$4, 'nelson siegel ASK'!$E$5, 'nelson siegel ASK'!$E$6, 'nelson siegel ASK'!$E$7)*100","v":0.57110679981368229},{"$f":"100*cubicSpline(A126,'cubic spline'!$F$4,'cubic spline'!$F$5,'cubic spline'!$F$6,'cubic spline'!$F$7,'cubic spline'!$F$8,'cubic spline'!$F$9,'cubic spline'!$F$10,'cubic spline'!$F$11,'cubic spline'!$F$12,'cubic spline'!$F$13)","v":1356.3156179994037}]
[95,{"$f":"NelsonSiegel(A127, 'nelson siegel ASK'!$E$4, 'nelson siegel ASK'!$E$5, 'nelson siegel ASK'!$E$6, 'nelson siegel ASK'!$E$7)*100","v":0.53475415988407415},{"$f":"100*cubicSpline(A127,'cubic spline'!$F$4,'cubic spline'!$F$5,'cubic spline'!$F$6,'cubic spline'!$F$7,'cubic spline'!$F$8,'cubic spline'!$F$9,'cubic spline'!$F$10,'cubic spline'!$F$11,'cubic spline'!$F$12,'cubic spline'!$F$13)","v":1412.148159106908}]
[96,{"$f":"NelsonSiegel(A128, 'nelson siegel ASK'!$E$4, 'nelson siegel ASK'!$E$5, 'nelson siegel ASK'!$E$6, 'nelson siegel ASK'!$E$7)*100","v":0.49907972125542122},{"$f":"100*cubicSpline(A128,'cubic spline'!$F$4,'cubic spline'!$F$5,'cubic spline'!$F$6,'cubic spline'!$F$7,'cubic spline'!$F$8,'cubic spline'!$F$9,'cubic spline'!$F$10,'cubic spline'!$F$11,'cubic spline'!$F$12,'cubic spline'!$F$13)","v":1469.4952436741537}]
[97,{"$f":"NelsonSiegel(A129, 'nelson siegel ASK'!$E$4, 'nelson siegel ASK'!$E$5, 'nelson siegel ASK'!$E$6, 'nelson siegel ASK'!$E$7)*100","v":0.46406745645556774},{"$f":"100*cubicSpline(A129,'cubic spline'!$F$4,'cubic spline'!$F$5,'cubic spline'!$F$6,'cubic spline'!$F$7,'cubic spline'!$F$8,'cubic spline'!$F$9,'cubic spline'!$F$10,'cubic spline'!$F$11,'cubic spline'!$F$12,'cubic spline'!$F$13)","v":1528.3771134416163}]
[98,{"$f":"NelsonSiegel(A130, 'nelson siegel ASK'!$E$4, 'nelson siegel ASK'!$E$5, 'nelson siegel ASK'!$E$6, 'nelson siegel ASK'!$E$7)*100","v":0.42970169235967798},{"$f":"100*cubicSpline(A130,'cubic spline'!$F$4,'cubic spline'!$F$5,'cubic spline'!$F$6,'cubic spline'!$F$7,'cubic spline'!$F$8,'cubic spline'!$F$9,'cubic spline'!$F$10,'cubic spline'!$F$11,'cubic spline'!$F$12,'cubic spline'!$F$13)","v":1588.8140101497722}]
[99,{"$f":"NelsonSiegel(A131, 'nelson siegel ASK'!$E$4, 'nelson siegel ASK'!$E$5, 'nelson siegel ASK'!$E$6, 'nelson siegel ASK'!$E$7)*100","v":0.39596710964374882},{"$f":"100*cubicSpline(A131,'cubic spline'!$F$4,'cubic spline'!$F$5,'cubic spline'!$F$6,'cubic spline'!$F$7,'cubic spline'!$F$8,'cubic spline'!$F$9,'cubic spline'!$F$10,'cubic spline'!$F$11,'cubic spline'!$F$12,'cubic spline'!$F$13)","v":1650.8261755390984}]
[100,{"$f":"NelsonSiegel(A132, 'nelson siegel ASK'!$E$4, 'nelson siegel ASK'!$E$5, 'nelson siegel ASK'!$E$6, 'nelson siegel ASK'!$E$7)*100","v":0.36284874134011569},{"$f":"100*cubicSpline(A132,'cubic spline'!$F$4,'cubic spline'!$F$5,'cubic spline'!$F$6,'cubic spline'!$F$7,'cubic spline'!$F$8,'cubic spline'!$F$9,'cubic spline'!$F$10,'cubic spline'!$F$11,'cubic spline'!$F$12,'cubic spline'!$F$13)","v":1714.43385135007}]
[101,{"$f":"NelsonSiegel(A133, 'nelson siegel ASK'!$E$4, 'nelson siegel ASK'!$E$5, 'nelson siegel ASK'!$E$6, 'nelson siegel ASK'!$E$7)*100","v":0.33033197060031333},{"$f":"100*cubicSpline(A133,'cubic spline'!$F$4,'cubic spline'!$F$5,'cubic spline'!$F$6,'cubic spline'!$F$7,'cubic spline'!$F$8,'cubic spline'!$F$9,'cubic spline'!$F$10,'cubic spline'!$F$11,'cubic spline'!$F$12,'cubic spline'!$F$13)","v":1779.6572793231633}]
[102,{"$f":"NelsonSiegel(A134, 'nelson siegel ASK'!$E$4, 'nelson siegel ASK'!$E$5, 'nelson siegel ASK'!$E$6, 'nelson siegel ASK'!$E$7)*100","v":0.29840252776103909},{"$f":"100*cubicSpline(A134,'cubic spline'!$F$4,'cubic spline'!$F$5,'cubic spline'!$F$6,'cubic spline'!$F$7,'cubic spline'!$F$8,'cubic spline'!$F$9,'cubic spline'!$F$10,'cubic spline'!$F$11,'cubic spline'!$F$12,'cubic spline'!$F$13)","v":1846.5167011988549}]
[103,{"$f":"NelsonSiegel(A135, 'nelson siegel ASK'!$E$4, 'nelson siegel ASK'!$E$5, 'nelson siegel ASK'!$E$6, 'nelson siegel ASK'!$E$7)*100","v":0.26704648680022058},{"$f":"100*cubicSpline(A135,'cubic spline'!$F$4,'cubic spline'!$F$5,'cubic spline'!$F$6,'cubic spline'!$F$7,'cubic spline'!$F$8,'cubic spline'!$F$9,'cubic spline'!$F$10,'cubic spline'!$F$11,'cubic spline'!$F$12,'cubic spline'!$F$13)","v":1915.0323587176213}]
[104,{"$f":"NelsonSiegel(A136, 'nelson siegel ASK'!$E$4, 'nelson siegel ASK'!$E$5, 'nelson siegel ASK'!$E$6, 'nelson siegel ASK'!$E$7)*100","v":0.23625026126214316},{"$f":"100*cubicSpline(A136,'cubic spline'!$F$4,'cubic spline'!$F$5,'cubic spline'!$F$6,'cubic spline'!$F$7,'cubic spline'!$F$8,'cubic spline'!$F$9,'cubic spline'!$F$10,'cubic spline'!$F$11,'cubic spline'!$F$12,'cubic spline'!$F$13)","v":1985.2244936199384}]
[105,{"$f":"NelsonSiegel(A137, 'nelson siegel ASK'!$E$4, 'nelson siegel ASK'!$E$5, 'nelson siegel ASK'!$E$6, 'nelson siegel ASK'!$E$7)*100","v":0.20600059972322865},{"$f":"100*cubicSpline(A137,'cubic spline'!$F$4,'cubic spline'!$F$5,'cubic spline'!$F$6,'cubic spline'!$F$7,'cubic spline'!$F$8,'cubic spline'!$F$9,'cubic spline'!$F$10,'cubic spline'!$F$11,'cubic spline'!$F$12,'cubic spline'!$F$13)","v":2057.1133476462815}]
[106,{"$f":"NelsonSiegel(A138, 'nelson siegel ASK'!$E$4, 'nelson siegel ASK'!$E$5, 'nelson siegel ASK'!$E$6, 'nelson siegel ASK'!$E$7)*100","v":0.17628458086327986},{"$f":"100*cubicSpline(A138,'cubic spline'!$F$4,'cubic spline'!$F$5,'cubic spline'!$F$6,'cubic spline'!$F$7,'cubic spline'!$F$8,'cubic spline'!$F$9,'cubic spline'!$F$10,'cubic spline'!$F$11,'cubic spline'!$F$12,'cubic spline'!$F$13)","v":2130.7191625371288}]

{"sheet":"cubic spline","index":4,"n_rows":122,"n_cols":8,"rows_kept":122,"cut":false,"hidden":false,"merged":[]}
["Mkt Price","Th. Price","Pricing Errors","abs(diff)",null,"parameters","sq. er w/o bills","sq err w bills"]
[]
[]
[{"$f":"prices!N4","v":101.07642663043478},{"$f":"CSbondPrice(prices!$P$2,prices!$B4,prices!$C4/100,$F$4,$F$5,$F$6,$F$7,$F$8,$F$9,$F$10,$F$11,$F$12,$F$13)","v":101.06356104951655},{"$f":"A4-B4","v":1.2865580918230535E-2},{"$f":"ABS(A4-B4)","v":1.2865580918230535E-2},"r0",-1.9463237913409893E-3,{"$f":"SUM(D25:D118)","v":77.106703623586682},{"$f":"SUM(D4:D122)","v":86.931466654004794}]
[{"$f":"prices!N5","v":101.76630434782609},{"$f":"CSbondPrice(prices!$P$2,prices!$B5,prices!$C5/100,$F$4,$F$5,$F$6,$F$7,$F$8,$F$9,$F$10,$F$11,$F$12,$F$13)","v":101.75800461194051},{"$f":"A5-B5","v":8.2997358855863013E-3},{"$f":"ABS(A5-B5)","v":8.2997358855863013E-3},"a1",5.5255875619699916E-3]
[{"$f":"prices!N6","v":102.39266304347827},{"$f":"CSbondPrice(prices!$P$2,prices!$B6,prices!$C6/100,$F$4,$F$5,$F$6,$F$7,$F$8,$F$9,$F$10,$F$11,$F$12,$F$13)","v":102.38305378031852},9.6092631597457512E-3,{"$f":"ABS(A6-B6)","v":9.6092631597457512E-3},"a2",2.3803595860408277E-3]
[{"$f":"prices!N7","v":103.2601902173913},{"$f":"CSbondPrice(prices!$P$2,prices!$B7,prices!$C7/100,$F$4,$F$5,$F$6,$F$7,$F$8,$F$9,$F$10,$F$11,$F$12,$F$13)","v":103.25812261604774},2.0676013435547702E-3,2.0676013435547702E-3,"a3",-7.4425177268160417E-4]
[{"$f":"prices!N8","v":101.01622928176796},{"$f":"CSbondPrice(prices!$P$2,prices!$B8,prices!$C8/100,$F$4,$F$5,$F$6,$F$7,$F$8,$F$9,$F$10,$F$11,$F$12,$F$13)","v":101.01238894449114},3.8403372768271993E-3,3.8403372768271993E-3,"b1",-1.9997041594876339E-5]
[{"$f":"prices!N9","v":102.00733770718232},{"$f":"CSbondPrice(prices!$P$2,prices!$B9,prices!$C9/100,$F$4,$F$5,$F$6,$F$7,$F$8,$F$9,$F$10,$F$11,$F$12,$F$13)","v":102.01591418117549},-8.5764739931732947E-3,8.5764739931732947E-3,"b2",-2.9452575599804023E-4]
[{"$f":"prices!N10","v":100.88942307692308},{"$f":"CSbondPrice(prices!$P$2,prices!$B10,prices!$C10/100,$F$4,$F$5,$F$6,$F$7,$F$8,$F$9,$F$10,$F$11,$F$12,$F$13)","v":100.89225571905754},-2.8326421344644359E-3,2.8326421344644359E-3,"b3",-1.793537987420302E-5]
[{"$f":"prices!N11","v":101.99759615384616},{"$f":"CSbondPrice(prices!$P$2,prices!$B11,prices!$C11/100,$F$4,$F$5,$F$6,$F$7,$F$8,$F$9,$F$10,$F$11,$F$12,$F$13)","v":102.01692285319328},-1.9326699347118392E-2,1.9326699347118392E-2,"c1",-9.1509571467721225E-6]
[{"$f":"prices!N12","v":101.06931975138122},{"$f":"CSbondPrice(prices!$P$2,prices!$B12,prices!$C12/100,$F$4,$F$5,$F$6,$F$7,$F$8,$F$9,$F$10,$F$11,$F$12,$F$13)","v":101.07686539858629},-7.5456472050774437E-3,7.5456472050774437E-3,"c2",9.2196792041279083E-6]
[{"$f":"prices!N13","v":101.9327520718232},{"$f":"CSbondPrice(prices!$P$2,prices!$B13,prices!$C13/100,$F$4,$F$5,$F$6,$F$7,$F$8,$F$9,$F$10,$F$11,$F$12,$F$13)","v":101.94767068209856},-1.4918610275358901E-2,1.4918610275358901E-2,"c3",3.3736234127018361E-5]
[{"$f":"prices!N14","v":102.23238950276243},{"$f":"CSbondPrice(prices!$P$2,prices!$B14,prices!$C14/100,$F$4,$F$5,$F$6,$F$7,$F$8,$F$9,$F$10,$F$11,$F$12,$F$13)","v":102.2602018613815},-2.7812358619073052E-2,2.7812358619073052E-2,null,0]
[{"$f":"prices!N15","v":101.30048076923077},{"$f":"CSbondPrice(prices!$P$2,prices!$B15,prices!$C15/100,$F$4,$F$5,$F$6,$F$7,$F$8,$F$9,$F$10,$F$11,$F$12,$F$13)","v":101.31595381218224},-1.5473042951470006E-2,1.5473042951470006E-2,null,0]
[{"$f":"prices!N16","v":101.78193681318682},{"$f":"CSbondPrice(prices!$P$2,prices!$B16,prices!$C16/100,$F$4,$F$5,$F$6,$F$7,$F$8,$F$9,$F$10,$F$11,$F$12,$F$13)","v":101.80774764367729},-2.5810830490470948E-2,2.5810830490470948E-2]
[{"$f":"prices!N17","v":101.39425069060773},{"$f":"CSbondPrice(prices!$P$2,prices!$B17,prices!$C17/100,$F$4,$F$5,$F$6,$F$7,$F$8,$F$9,$F$10,$F$11,$F$12,$F$13)","v":101.42269028001776},-2.8439589410027111E-2,2.8439589410027111E-2]
[{"$f":"prices!N18","v":101.88915745856353},{"$f":"CSbondPrice(prices!$P$2,prices!$B18,prices!$C18/100,$F$4,$F$5,$F$6,$F$7,$F$8,$F$9,$F$10,$F$11,$F$12,$F$13)","v":101.91060356157435},-2.1446103010816842E-2,2.1446103010816842E-2]
[{"$f":"prices!N19","v":104.03260869565217},{"$f":"CSbondPrice(prices!$P$2,prices!$B19,prices!$C19/100,$F$4,$F$5,$F$6,$F$7,$F$8,$F$9,$F$10,$F$11,$F$12,$F$13)","v":104.06626064354074},-3.3651947888571954E-2,3.3651947888571954E-2]
[{"$f":"prices!N20","v":105.65625},{"$f":"CSbondPrice(prices!$P$2,prices!$B20,prices!$C20/100,$F$4,$F$5,$F$6,$F$7,$F$8,$F$9,$F$10,$F$11,$F$12,$F$13)","v":105.69085565798795},-3.4605657987953009E-2,3.4605657987953009E-2]
[{"$f":"prices!N21","v":103.75759668508287},{"$f":"CSbondPrice(prices!$P$2,prices!$B21,prices!$C21/100,$F$4,$F$5,$F$6,$F$7,$F$8,$F$9,$F$10,$F$11,$F$12,$F$13)","v":103.77875739890119},-2.11607138183183E-2,2.11607138183183E-2]
[{"$f":"prices!N22","v":104.10096153846153},{"$f":"CSbondPrice(prices!$P$2,prices!$B22,prices!$C22/100,$F$4,$F$5,$F$6,$F$7,$F$8,$F$9,$F$10,$F$11,$F$12,$F$13)","v":104.10832707966746},-7.3655412059281389E-3,7.3655412059281389E-3]
[{"$f":"prices!N23","v":104.31051450276243},{"$f":"CSbondPrice(prices!$P$2,prices!$B23,prices!$C23/100,$F$4,$F$5,$F$6,$F$7,$F$8,$F$9,$F$10,$F$11,$F$12,$F$13)","v":104.30327354665698},7.2409561054485039E-3,7.2409561054485039E-3]
[{"$f":"prices!N24","v":104.12259615384616},{"$f":"CSbondPrice(prices!$P$2,prices!$B24,prices!$C24/100,$F$4,$F$5,$F$6,$F$7,$F$8,$F$9,$F$10,$F$11,$F$12,$F$13)","v":104.1175205607004},5.0755931457615588E-3,5.0755931457615588E-3]
[{"$f":"prices!N25","v":103.93387430939227},{"$f":"CSbondPrice(prices!$P$2,prices!$B25,prices!$C25/100,$F$4,$F$5,$F$6,$F$7,$F$8,$F$9,$F$10,$F$11,$F$12,$F$13)","v":103.91707382587538},1.6800483516888676E-2,1.6800483516888676E-2]
[{"$f":"prices!N26","v":107.1304347826087},{"$f":"CSbondPrice(prices!$P$2,prices!$B26,prices!$C26/100,$F$4,$F$5,$F$6,$F$7,$F$8,$F$9,$F$10,$F$11,$F$12,$F$13)","v":107.09147070019046},3.8964082418246448E-2,3.8964082418246448E-2]
[{"$f":"prices!N27","v":106.3333908839779},{"$f":"CSbondPrice(prices!$P$2,prices!$B27,prices!$C27/100,$F$4,$F$5,$F$6,$F$7,$F$8,$F$9,$F$10,$F$11,$F$12,$F$13)","v":106.30712561292714},2.626527105076093E-2,2.626527105076093E-2]
[{"$f":"prices!N28","v":106.62843406593407},{"$f":"CSbondPrice(prices!$P$2,prices!$B28,prices!$C28/100,$F$4,$F$5,$F$6,$F$7,$F$8,$F$9,$F$10,$F$11,$F$12,$F$13)","v":106.59102621249552},3.7407853438551797E-2,3.7407853438551797E-2]
[{"$f":"prices!N29","v":106.71417472375691},{"$f":"CSbondPrice(prices!$P$2,prices!$B29,prices!$C29/100,$F$4,$F$5,$F$6,$F$7,$F$8,$F$9,$F$10,$F$11,$F$12,$F$13)","v":106.67605873393154},3.8115989825371344E-2,3.8115989825371344E-2]
[{"$f":"prices!N30","v":106.61830357142857},{"$f":"CSbondPrice(prices!$P$2,prices!$B30,prices!$C30/100,$F$4,$F$5,$F$6,$F$7,$F$8,$F$9,$F$10,$F$11,$F$12,$F$13)","v":106.57601411124683},4.2289460181734739E-2,4.2289460181734739E-2]
[{"$f":"prices!N31","v":106.880783839779},{"$f":"CSbondPrice(prices!$P$2,prices!$B31,prices!$C31/100,$F$4,$F$5,$F$6,$F$7,$F$8,$F$9,$F$10,$F$11,$F$12,$F$13)","v":106.83866143402599},4.212240575300541E-2,4.212240575300541E-2]
[{"$f":"prices!N32","v":108.81963315217391},{"$f":"CSbondPrice(prices!$P$2,prices!$B32,prices!$C32/100,$F$4,$F$5,$F$6,$F$7,$F$8,$F$9,$F$10,$F$11,$F$12,$F$13)","v":108.7758904317126},4.3742720461310114E-2,4.3742720461310114E-2]
[{"$f":"prices!N33","v":109.0991847826087},{"$f":"CSbondPrice(prices!$P$2,prices!$B33,prices!$C33/100,$F$4,$F$5,$F$6,$F$7,$F$8,$F$9,$F$10,$F$11,$F$12,$F$13)","v":108.96698400331658},0.13220077929211982,0.13220077929211982]
[{"$f":"prices!N34","v":108.19768646408839},{"$f":"CSbondPrice(prices!$P$2,prices!$B34,prices!$C34/100,$F$4,$F$5,$F$6,$F$7,$F$8,$F$9,$F$10,$F$11,$F$12,$F$13)","v":108.16025755916083},3.7428904927566009E-2,3.7428904927566009E-2]
[{"$f":"prices!N35","v":107.82726648351648},{"$f":"CSbondPrice(prices!$P$2,prices!$B35,prices!$C35/100,$F$4,$F$5,$F$6,$F$7,$F$8,$F$9,$F$10,$F$11,$F$12,$F$13)","v":107.76932538698473},5.7941096531749281E-2,5.7941096531749281E-2]
[{"$f":"prices!N36","v":107.93396063535911},{"$f":"CSbondPrice(prices!$P$2,prices!$B36,prices!$C36/100,$F$4,$F$5,$F$6,$F$7,$F$8,$F$9,$F$10,$F$11,$F$12,$F$13)","v":107.87221041768633},6.1750217672781105E-2,6.1750217672781105E-2]
[{"$f":"prices!N37","v":107.51064560439561},{"$f":"CSbondPrice(prices!$P$2,prices!$B37,prices!$C37/100,$F$4,$F$5,$F$6,$F$7,$F$8,$F$9,$F$10,$F$11,$F$12,$F$13)","v":107.47505495002859},3.559065436701303E-2,3.559065436701303E-2]
[{"$f":"prices!N38","v":107.57648480662984},{"$f":"CSbondPrice(prices!$P$2,prices!$B38,prices!$C38/100,$F$4,$F$5,$F$6,$F$7,$F$8,$F$9,$F$10,$F$11,$F$12,$F$13)","v":107.56737822457272},9.106582057114565E-3,9.106582057114565E-3]
[{"$f":"prices!N39","v":110.07065217391305},{"$f":"CSbondPrice(prices!$P$2,prices!$B39,prices!$C39/100,$F$4,$F$5,$F$6,$F$7,$F$8,$F$9,$F$10,$F$11,$F$12,$F$13)","v":110.01574328698229},5.4908886930761014E-2,5.4908886930761014E-2]
[{"$f":"prices!N40","v":110.21467391304348},{"$f":"CSbondPrice(prices!$P$2,prices!$B40,prices!$C40/100,$F$4,$F$5,$F$6,$F$7,$F$8,$F$9,$F$10,$F$11,$F$12,$F$13)","v":110.24159866714811},-2.6924754104626913E-2,2.6924754104626913E-2]
[{"$f":"prices!N41","v":109.55706146408839},{"$f":"CSbondPrice(prices!$P$2,prices!$B41,prices!$C41/100,$F$4,$F$5,$F$6,$F$7,$F$8,$F$9,$F$10,$F$11,$F$12,$F$13)","v":109.54581301955194},1.1248444536448687E-2,1.1248444536448687E-2]
[{"$f":"prices!N42","v":109.01476648351648},{"$f":"CSbondPrice(prices!$P$2,prices!$B42,prices!$C42/100,$F$4,$F$5,$F$6,$F$7,$F$8,$F$9,$F$10,$F$11,$F$12,$F$13)","v":109.03410262978738},-1.9336146270902077E-2,1.9336146270902077E-2]
[{"$f":"prices!N43","v":108.84072859116021},{"$f":"CSbondPrice(prices!$P$2,prices!$B43,prices!$C43/100,$F$4,$F$5,$F$6,$F$7,$F$8,$F$9,$F$10,$F$11,$F$12,$F$13)","v":108.86011248140304},-1.9383890242821167E-2,1.9383890242821167E-2]
[{"$f":"prices!N44","v":109.26991758241758},{"$f":"CSbondPrice(prices!$P$2,prices!$B44,prices!$C44/100,$F$4,$F$5,$F$6,$F$7,$F$8,$F$9,$F$10,$F$11,$F$12,$F$13)","v":109.28017631230811},-1.0258729890537666E-2,1.0258729890537666E-2]
[{"$f":"prices!N45","v":109.36144682320442},{"$f":"CSbondPrice(prices!$P$2,prices!$B45,prices!$C45/100,$F$4,$F$5,$F$6,$F$7,$F$8,$F$9,$F$10,$F$11,$F$12,$F$13)","v":109.37557181235832},-1.4124989153899037E-2,1.4124989153899037E-2]
[{"$f":"prices!N46","v":110.83729619565217},{"$f":"CSbondPrice(prices!$P$2,prices!$B46,prices!$C46/100,$F$4,$F$5,$F$6,$F$7,$F$8,$F$9,$F$10,$F$11,$F$12,$F$13)","v":110.8681901743039},-3.0893978651732823E-2,3.0893978651732823E-2]
[{"$f":"prices!N47","v":110.11413043478261},{"$f":"CSbondPrice(prices!$P$2,prices!$B47,prices!$C47/100,$F$4,$F$5,$F$6,$F$7,$F$8,$F$9,$F$10,$F$11,$F$12,$F$13)","v":110.01985624545279},9.4274189329823344E-2,9.4274189329823344E-2]
[{"$f":"prices!N48","v":109.2405041436464},{"$f":"CSbondPrice(prices!$P$2,prices!$B48,prices!$C48/100,$F$4,$F$5,$F$6,$F$7,$F$8,$F$9,$F$10,$F$11,$F$12,$F$13)","v":109.18467108124638},5.5833062400026279E-2,5.5833062400026279E-2]
[{"$f":"prices!N49","v":109.32297390109891},{"$f":"CSbondPrice(prices!$P$2,prices!$B49,prices!$C49/100,$F$4,$F$5,$F$6,$F$7,$F$8,$F$9,$F$10,$F$11,$F$12,$F$13)","v":109.30638819053409},1.6585710564811507E-2,1.6585710564811507E-2]
[{"$f":"prices!N50","v":107.98394337016575},{"$f":"CSbondPrice(prices!$P$2,prices!$B50,prices!$C50/100,$F$4,$F$5,$F$6,$F$7,$F$8,$F$9,$F$10,$F$11,$F$12,$F$13)","v":107.97586896470524},8.0744054605048632E-3,8.0744054605048632E-3]
[{"$f":"prices!N51","v":108.31767955801105},{"$f":"CSbondPrice(prices!$P$2,prices!$B51,prices!$C51/100,$F$4,$F$5,$F$6,$F$7,$F$8,$F$9,$F$10,$F$11,$F$12,$F$13)","v":108.22273831745042},9.4941240560629581E-2,9.4941240560629581E-2]
[{"$f":"prices!N52","v":106.2345467032967},{"$f":"CSbondPrice(prices!$P$2,prices!$B52,prices!$C52/100,$F$4,$F$5,$F$6,$F$7,$F$8,$F$9,$F$10,$F$11,$F$12,$F$13)","v":106.25686638150391},-2.2319678207210814E-2,2.2319678207210814E-2]
[{"$f":"prices!N53","v":106.76476174033149},{"$f":"CSbondPrice(prices!$P$2,prices!$B53,prices!$C53/100,$F$4,$F$5,$F$6,$F$7,$F$8,$F$9,$F$10,$F$11,$F$12,$F$13)","v":106.74926297689372},1.549876343777612E-2,1.549876343777612E-2]
[{"$f":"prices!N54","v":105.7421875},{"$f":"CSbondPrice(prices!$P$2,prices!$B54,prices!$C54/100,$F$4,$F$5,$F$6,$F$7,$F$8,$F$9,$F$10,$F$11,$F$12,$F$13)","v":105.72109310235196},2.1094397648042218E-2,2.1094397648042218E-2]
[{"$f":"prices!N55","v":109.07608695652173},{"$f":"CSbondPrice(prices!$P$2,prices!$B55,prices!$C55/100,$F$4,$F$5,$F$6,$F$7,$F$8,$F$9,$F$10,$F$11,$F$12,$F$13)","v":109.04452656256959},3.1560393952148047E-2,3.1560393952148047E-2]
[{"$f":"prices!N56","v":105.09262776243094},{"$f":"CSbondPrice(prices!$P$2,prices!$B56,prices!$C56/100,$F$4,$F$5,$F$6,$F$7,$F$8,$F$9,$F$10,$F$11,$F$12,$F$13)","v":105.05826837968237},3.4359382748561984E-2,3.4359382748561984E-2]
[{"$f":"prices!N57","v":103.90230082417582},{"$f":"CSbondPrice(prices!$P$2,prices!$B57,prices!$C57/100,$F$4,$F$5,$F$6,$F$7,$F$8,$F$9,$F$10,$F$11,$F$12,$F$13)","v":103.92637616799411},-2.4075343818282136E-2,2.4075343818282136E-2]
[{"$f":"prices!N58","v":105.81517610497238},{"$f":"CSbondPrice(prices!$P$2,prices!$B58,prices!$C58/100,$F$4,$F$5,$F$6,$F$7,$F$8,$F$9,$F$10,$F$11,$F$12,$F$13)","v":105.8226493073457},-7.4732023733190545E-3,7.4732023733190545E-3]
[{"$f":"prices!N59","v":107.45977209944752},{"$f":"CSbondPrice(prices!$P$2,prices!$B59,prices!$C59/100,$F$4,$F$5,$F$6,$F$7,$F$8,$F$9,$F$10,$F$11,$F$12,$F$13)","v":107.40588337971431},5.3888719733208745E-2,5.3888719733208745E-2]
[{"$f":"prices!N60","v":106.78605769230769},{"$f":"CSbondPrice(prices!$P$2,prices!$B60,prices!$C60/100,$F$4,$F$5,$F$6,$F$7,$F$8,$F$9,$F$10,$F$11,$F$12,$F$13)","v":106.83189934007734},-4.584164776964883E-2,4.584164776964883E-2]
[{"$f":"prices!N61","v":106.04229972375691},{"$f":"CSbondPrice(prices!$P$2,prices!$B61,prices!$C61/100,$F$4,$F$5,$F$6,$F$7,$F$8,$F$9,$F$10,$F$11,$F$12,$F$13)","v":106.11768543873865},-7.5385714981734964E-2,7.5385714981734964E-2]
[{"$f":"prices!N62","v":110.77649456521739},{"$f":"CSbondPrice(prices!$P$2,prices!$B62,prices!$C62/100,$F$4,$F$5,$F$6,$F$7,$F$8,$F$9,$F$10,$F$11,$F$12,$F$13)","v":110.80732124792819},-3.0826682710795694E-2,3.0826682710795694E-2]
[{"$f":"prices!N63","v":109.93128453038673},{"$f":"CSbondPrice(prices!$P$2,prices!$B63,prices!$C63/100,$F$4,$F$5,$F$6,$F$7,$F$8,$F$9,$F$10,$F$11,$F$12,$F$13)","v":109.88151395123973},4.977057914700822E-2,4.977057914700822E-2]
[{"$f":"prices!N64","v":109.86684782608695},{"$f":"CSbondPrice(prices!$P$2,prices!$B64,prices!$C64/100,$F$4,$F$5,$F$6,$F$7,$F$8,$F$9,$F$10,$F$11,$F$12,$F$13)","v":109.90932119734786},-4.2473371260911108E-2,4.2473371260911108E-2]
[{"$f":"prices!N65","v":112.11161947513813},{"$f":"CSbondPrice(prices!$P$2,prices!$B65,prices!$C65/100,$F$4,$F$5,$F$6,$F$7,$F$8,$F$9,$F$10,$F$11,$F$12,$F$13)","v":112.20204325475518},-9.0423779617054834E-2,9.0423779617054834E-2]
[{"$f":"prices!N66","v":111.05774456521739},{"$f":"CSbondPrice(prices!$P$2,prices!$B66,prices!$C66/100,$F$4,$F$5,$F$6,$F$7,$F$8,$F$9,$F$10,$F$11,$F$12,$F$13)","v":111.06470515750334},-6.960592285949474E-3,6.960592285949474E-3]
[{"$f":"prices!N67","v":109.85315953038673},{"$f":"CSbondPrice(prices!$P$2,prices!$B67,prices!$C67/100,$F$4,$F$5,$F$6,$F$7,$F$8,$F$9,$F$10,$F$11,$F$12,$F$13)","v":109.91351087026456},-6.0351339877826149E-2,6.0351339877826149E-2]
[{"$f":"prices!N68","v":109.46059782608695},{"$f":"CSbondPrice(prices!$P$2,prices!$B68,prices!$C68/100,$F$4,$F$5,$F$6,$F$7,$F$8,$F$9,$F$10,$F$11,$F$12,$F$13)","v":109.5553942677778},-9.4796441690846223E-2,9.4796441690846223E-2]
[{"$f":"prices!N69","v":108.8901070441989},{"$f":"CSbondPrice(prices!$P$2,prices!$B69,prices!$C69/100,$F$4,$F$5,$F$6,$F$7,$F$8,$F$9,$F$10,$F$11,$F$12,$F$13)","v":109.05162579145488},{"$f":"A69-B69","v":-0.16151874725598248},0.16151874725598248]
[{"$f":"prices!N70","v":110.43274456521739},{"$f":"CSbondPrice(prices!$P$2,prices!$B70,prices!$C70/100,$F$4,$F$5,$F$6,$F$7,$F$8,$F$9,$F$10,$F$11,$F$12,$F$13)","v":110.55193671350285},-0.11919214828546387,{"$f":"ABS(A70-B70)","v":0.11919214828546387}]
[{"$f":"prices!N71","v":110.76363950276243},{"$f":"CSbondPrice(prices!$P$2,prices!$B71,prices!$C71/100,$F$4,$F$5,$F$6,$F$7,$F$8,$F$9,$F$10,$F$11,$F$12,$F$13)","v":110.69263706002626},7.1002442736173066E-2,7.1002442736173066E-2]
[{"$f":"prices!N72","v":111.56114130434783},{"$f":"CSbondPrice(prices!$P$2,prices!$B72,prices!$C72/100,$F$4,$F$5,$F$6,$F$7,$F$8,$F$9,$F$10,$F$11,$F$12,$F$13)","v":111.61980425394549},-5.8662949597660941E-2,5.8662949597660941E-2]
[{"$f":"prices!N73","v":114.01640193370166},{"$f":"CSbondPrice(prices!$P$2,prices!$B73,prices!$C73/100,$F$4,$F$5,$F$6,$F$7,$F$8,$F$9,$F$10,$F$11,$F$12,$F$13)","v":114.07191069432042},-5.5508760618764086E-2,5.5508760618764086E-2]
[{"$f":"prices!N74","v":113.71467391304348},{"$f":"CSbondPrice(prices!$P$2,prices!$B74,prices!$C74/100,$F$4,$F$5,$F$6,$F$7,$F$8,$F$9,$F$10,$F$11,$F$12,$F$13)","v":113.59008504426366},0.12458886877982422,0.12458886877982422]
[{"$f":"prices!N75","v":110.78919198895028},{"$f":"CSbondPrice(prices!$P$2,prices!$B75,prices!$C75/100,$F$4,$F$5,$F$6,$F$7,$F$8,$F$9,$F$10,$F$11,$F$12,$F$13)","v":110.53495659733757},0.2542353916127098,0.2542353916127098]
[{"$f":"prices!N76","v":111.74252717391305},{"$f":"CSbondPrice(prices!$P$2,prices!$B76,prices!$C76/100,$F$4,$F$5,$F$6,$F$7,$F$8,$F$9,$F$10,$F$11,$F$12,$F$13)","v":111.39990333204977},0.34262384186327211,0.34262384186327211]
[{"$f":"prices!N77","v":109.52926450276243},{"$f":"CSbondPrice(prices!$P$2,prices!$B77,prices!$C77/100,$F$4,$F$5,$F$6,$F$7,$F$8,$F$9,$F$10,$F$11,$F$12,$F$13)","v":109.11712311396228},0.41214138880015128,0.41214138880015128]
[{"$f":"prices!N78","v":112.29891304347827},{"$f":"CSbondPrice(prices!$P$2,prices!$B78,prices!$C78/100,$F$4,$F$5,$F$6,$F$7,$F$8,$F$9,$F$10,$F$11,$F$12,$F$13)","v":111.71983864652356},0.57907439695470941,0.57907439695470941]
[{"$f":"prices!N79","v":107.33753453038673},{"$f":"CSbondPrice(prices!$P$2,prices!$B79,prices!$C79/100,$F$4,$F$5,$F$6,$F$7,$F$8,$F$9,$F$10,$F$11,$F$12,$F$13)","v":106.59129070439259},0.74624382599414218,0.74624382599414218]
[{"$f":"prices!N80","v":102.51630434782609},{"$f":"CSbondPrice(prices!$P$2,prices!$B80,prices!$C80/100,$F$4,$F$5,$F$6,$F$7,$F$8,$F$9,$F$10,$F$11,$F$12,$F$13)","v":101.46473662956913},1.0515677182569618,1.0515677182569618]
[{"$f":"prices!N81","v":104.1046270718232},{"$f":"CSbondPrice(prices!$P$2,prices!$B81,prices!$C81/100,$F$4,$F$5,$F$6,$F$7,$F$8,$F$9,$F$10,$F$11,$F$12,$F$13)","v":102.92575347285441},1.1788735989687922,1.1788735989687922]
[{"$f":"prices!N82","v":147.30910326086956},{"$f":"CSbondPrice(prices!$P$2,prices!$B82,prices!$C82/100,$F$4,$F$5,$F$6,$F$7,$F$8,$F$9,$F$10,$F$11,$F$12,$F$13)","v":151.32822970524523},-4.0191264443756722,4.0191264443756722]
[{"$f":"prices!N83","v":146.46467391304347},{"$f":"CSbondPrice(prices!$P$2,prices!$B83,prices!$C83/100,$F$4,$F$5,$F$6,$F$7,$F$8,$F$9,$F$10,$F$11,$F$12,$F$13)","v":149.44714686519893},-2.9824729521554616,2.9824729521554616]
[{"$f":"prices!N84","v":140.62802140883977},{"$f":"CSbondPrice(prices!$P$2,prices!$B84,prices!$C84/100,$F$4,$F$5,$F$6,$F$7,$F$8,$F$9,$F$10,$F$11,$F$12,$F$13)","v":146.07688819821351},-5.4488667893737386,5.4488667893737386]
[{"$f":"prices!N85","v":140.20380434782609},{"$f":"CSbondPrice(prices!$P$2,prices!$B85,prices!$C85/100,$F$4,$F$5,$F$6,$F$7,$F$8,$F$9,$F$10,$F$11,$F$12,$F$13)","v":144.64474132685916},-4.4409369790330686,4.4409369790330686]
[{"$f":"prices!N86","v":126.51329419889503},{"$f":"CSbondPrice(prices!$P$2,prices!$B86,prices!$C86/100,$F$4,$F$5,$F$6,$F$7,$F$8,$F$9,$F$10,$F$11,$F$12,$F$13)","v":128.64992105051982},-2.136626851624797,2.136626851624797]
[{"$f":"prices!N87","v":128.78314917127071},{"$f":"CSbondPrice(prices!$P$2,prices!$B87,prices!$C87/100,$F$4,$F$5,$F$6,$F$7,$F$8,$F$9,$F$10,$F$11,$F$12,$F$13)","v":130.84365307749837},-2.060503906227666,2.060503906227666]
[{"$f":"prices!N88","v":138.30429903314916},{"$f":"CSbondPrice(prices!$P$2,prices!$B88,prices!$C88/100,$F$4,$F$5,$F$6,$F$7,$F$8,$F$9,$F$10,$F$11,$F$12,$F$13)","v":143.34296319649678},-5.0386641633476188,5.0386641633476188]
[{"$f":"prices!N89","v":141.80027173913044},{"$f":"CSbondPrice(prices!$P$2,prices!$B89,prices!$C89/100,$F$4,$F$5,$F$6,$F$7,$F$8,$F$9,$F$10,$F$11,$F$12,$F$13)","v":145.13739682485505},-3.3371250857246082,3.3371250857246082]
[{"$f":"prices!N90","v":143.72470649171271},{"$f":"CSbondPrice(prices!$P$2,prices!$B90,prices!$C90/100,$F$4,$F$5,$F$6,$F$7,$F$8,$F$9,$F$10,$F$11,$F$12,$F$13)","v":148.06412474405118},-4.3394182523384757,4.3394182523384757]
[{"$f":"prices!N91","v":143.87102900552486},{"$f":"CSbondPrice(prices!$P$2,prices!$B91,prices!$C91/100,$F$4,$F$5,$F$6,$F$7,$F$8,$F$9,$F$10,$F$11,$F$12,$F$13)","v":145.09654680983803},-1.2255178043131707,1.2255178043131707]
[{"$f":"prices!N92","v":145.39402173913044},{"$f":"CSbondPrice(prices!$P$2,prices!$B92,prices!$C92/100,$F$4,$F$5,$F$6,$F$7,$F$8,$F$9,$F$10,$F$11,$F$12,$F$13)","v":146.50333817044066},-1.1093164313102193,1.1093164313102193]
[{"$f":"prices!N93","v":139.99320652173913},{"$f":"CSbondPrice(prices!$P$2,prices!$B93,prices!$C93/100,$F$4,$F$5,$F$6,$F$7,$F$8,$F$9,$F$10,$F$11,$F$12,$F$13)","v":139.9489288238415},4.4277697897626922E-2,4.4277697897626922E-2]
[{"$f":"prices!N94","v":144.28736413043478},{"$f":"CSbondPrice(prices!$P$2,prices!$B94,prices!$C94/100,$F$4,$F$5,$F$6,$F$7,$F$8,$F$9,$F$10,$F$11,$F$12,$F$13)","v":141.76803896867193},2.5193251617628505,2.5193251617628505]
[{"$f":"prices!N95","v":144.83554903314916},{"$f":"CSbondPrice(prices!$P$2,prices!$B95,prices!$C95/100,$F$4,$F$5,$F$6,$F$7,$F$8,$F$9,$F$10,$F$11,$F$12,$F$13)","v":146.68941045752172},-1.8538614243725533,1.8538614243725533]
[{"$f":"prices!N96","v":147.41576086956522},{"$f":"CSbondPrice(prices!$P$2,prices!$B96,prices!$C96/100,$F$4,$F$5,$F$6,$F$7,$F$8,$F$9,$F$10,$F$11,$F$12,$F$13)","v":144.86021098634814},2.5555498832170827,2.5555498832170827]
[{"$f":"prices!N97","v":140.06793478260869},{"$f":"CSbondPrice(prices!$P$2,prices!$B97,prices!$C97/100,$F$4,$F$5,$F$6,$F$7,$F$8,$F$9,$F$10,$F$11,$F$12,$F$13)","v":138.8932671245268},1.1746676580818871,1.1746676580818871]
[{"$f":"prices!N98","v":140.66091160220995},{"$f":"CSbondPrice(prices!$P$2,prices!$B98,prices!$C98/100,$F$4,$F$5,$F$6,$F$7,$F$8,$F$9,$F$10,$F$11,$F$12,$F$13)","v":139.78806348817392},0.87284811403603157,0.87284811403603157]
[{"$f":"prices!N99","v":143.02445652173913},{"$f":"CSbondPrice(prices!$P$2,prices!$B99,prices!$C99/100,$F$4,$F$5,$F$6,$F$7,$F$8,$F$9,$F$10,$F$11,$F$12,$F$13)","v":142.1008919452197},0.92356457651942492,0.92356457651942492]
[{"$f":"prices!N100","v":140.0728591160221},{"$f":"CSbondPrice(prices!$P$2,prices!$B100,prices!$C100/100,$F$4,$F$5,$F$6,$F$7,$F$8,$F$9,$F$10,$F$11,$F$12,$F$13)","v":141.34687325204862},-1.2740141360265227,1.2740141360265227]
[{"$f":"prices!N101","v":135.2078804347826},{"$f":"CSbondPrice(prices!$P$2,prices!$B101,prices!$C101/100,$F$4,$F$5,$F$6,$F$7,$F$8,$F$9,$F$10,$F$11,$F$12,$F$13)","v":132.37370698692092},2.8341734478616729,2.8341734478616729]
[{"$f":"prices!N102","v":137.43370165745856},{"$f":"CSbondPrice(prices!$P$2,prices!$B102,prices!$C102/100,$F$4,$F$5,$F$6,$F$7,$F$8,$F$9,$F$10,$F$11,$F$12,$F$13)","v":138.86084496333208},-1.4271433058735283,1.4271433058735283]
[{"$f":"prices!N103","v":133.8858695652174},{"$f":"CSbondPrice(prices!$P$2,prices!$B103,prices!$C103/100,$F$4,$F$5,$F$6,$F$7,$F$8,$F$9,$F$10,$F$11,$F$12,$F$13)","v":133.49592823488655},0.38994133033085632,0.38994133033085632]
[{"$f":"prices!N104","v":124.60054347826087},{"$f":"CSbondPrice(prices!$P$2,prices!$B104,prices!$C104/100,$F$4,$F$5,$F$6,$F$7,$F$8,$F$9,$F$10,$F$11,$F$12,$F$13)","v":123.28575012760373},1.3147933506571405,1.3147933506571405]
[{"$f":"prices!N105","v":137.79877417127071},{"$f":"CSbondPrice(prices!$P$2,prices!$B105,prices!$C105/100,$F$4,$F$5,$F$6,$F$7,$F$8,$F$9,$F$10,$F$11,$F$12,$F$13)","v":139.36082687269896},-1.5620527014282573,1.5620527014282573]
[{"$f":"prices!N106","v":141.26766304347825},{"$f":"CSbondPrice(prices!$P$2,prices!$B106,prices!$C106/100,$F$4,$F$5,$F$6,$F$7,$F$8,$F$9,$F$10,$F$11,$F$12,$F$13)","v":139.40559936454608},1.8620636789321736,1.8620636789321736]
[{"$f":"prices!N107","v":132.74184782608697},{"$f":"CSbondPrice(prices!$P$2,prices!$B107,prices!$C107/100,$F$4,$F$5,$F$6,$F$7,$F$8,$F$9,$F$10,$F$11,$F$12,$F$13)","v":132.12219164288501},0.61965618320195404,0.61965618320195404]
[{"$f":"prices!N108","v":122.33152173913044},{"$f":"CSbondPrice(prices!$P$2,prices!$B108,prices!$C108/100,$F$4,$F$5,$F$6,$F$7,$F$8,$F$9,$F$10,$F$11,$F$12,$F$13)","v":121.40064449242549},0.9308772467049522,0.9308772467049522]
[{"$f":"prices!N109","v":131.93546195652175},{"$f":"CSbondPrice(prices!$P$2,prices!$B109,prices!$C109/100,$F$4,$F$5,$F$6,$F$7,$F$8,$F$9,$F$10,$F$11,$F$12,$F$13)","v":129.76086704811343},2.1745949084083236,2.1745949084083236]
[{"$f":"prices!N110","v":127.21935428176796},{"$f":"CSbondPrice(prices!$P$2,prices!$B110,prices!$C110/100,$F$4,$F$5,$F$6,$F$7,$F$8,$F$9,$F$10,$F$11,$F$12,$F$13)","v":129.06719981391825},-1.8478455321502878,1.8478455321502878]
[{"$f":"prices!N111","v":130.47282608695653},{"$f":"CSbondPrice(prices!$P$2,prices!$B111,prices!$C111/100,$F$4,$F$5,$F$6,$F$7,$F$8,$F$9,$F$10,$F$11,$F$12,$F$13)","v":129.41615815630004},1.0566679306564879,1.0566679306564879]
[{"$f":"prices!N112","v":127.50067934782609},{"$f":"CSbondPrice(prices!$P$2,prices!$B112,prices!$C112/100,$F$4,$F$5,$F$6,$F$7,$F$8,$F$9,$F$10,$F$11,$F$12,$F$13)","v":127.99262983935941},-0.49195049153331638,0.49195049153331638]
[{"$f":"prices!N113","v":122.86144682320442},{"$f":"CSbondPrice(prices!$P$2,prices!$B113,prices!$C113/100,$F$4,$F$5,$F$6,$F$7,$F$8,$F$9,$F$10,$F$11,$F$12,$F$13)","v":125.17460835356451},-2.313161530360091,2.313161530360091]
[{"$f":"prices!N114","v":116.18410326086956},{"$f":"CSbondPrice(prices!$P$2,prices!$B114,prices!$C114/100,$F$4,$F$5,$F$6,$F$7,$F$8,$F$9,$F$10,$F$11,$F$12,$F$13)","v":115.90444515564937},0.27965810522019297,0.27965810522019297]
[{"$f":"prices!N115","v":111.62007941988951},{"$f":"CSbondPrice(prices!$P$2,prices!$B115,prices!$C115/100,$F$4,$F$5,$F$6,$F$7,$F$8,$F$9,$F$10,$F$11,$F$12,$F$13)","v":114.37198405571206},-2.7519046358225552,2.7519046358225552]
[{"$f":"prices!N116","v":112.88383152173913},{"$f":"CSbondPrice(prices!$P$2,prices!$B116,prices!$C116/100,$F$4,$F$5,$F$6,$F$7,$F$8,$F$9,$F$10,$F$11,$F$12,$F$13)","v":113.10903376479854},-0.22520224305941383,0.22520224305941383]
[{"$f":"prices!N117","v":125.04415760869566},{"$f":"CSbondPrice(prices!$P$2,prices!$B117,prices!$C117/100,$F$4,$F$5,$F$6,$F$7,$F$8,$F$9,$F$10,$F$11,$F$12,$F$13)","v":125.02958781599973},1.4569792695922956E-2,1.4569792695922956E-2]
[{"$f":"prices!N118","v":125.62137430939227},{"$f":"CSbondPrice(prices!$P$2,prices!$B118,prices!$C118/100,$F$4,$F$5,$F$6,$F$7,$F$8,$F$9,$F$10,$F$11,$F$12,$F$13)","v":124.90646045301786},0.71491385637440885,0.71491385637440885]
[{"$f":"prices!N119","v":114.86209239130434},{"$f":"CSbondPrice(prices!$P$2,prices!$B119,prices!$C119/100,$F$4,$F$5,$F$6,$F$7,$F$8,$F$9,$F$10,$F$11,$F$12,$F$13)","v":116.17127577756827},-1.3091833862639248,1.3091833862639248]
[{"$f":"prices!N120","v":101.88926630434783},{"$f":"CSbondPrice(prices!$P$2,prices!$B120,prices!$C120/100,$F$4,$F$5,$F$6,$F$7,$F$8,$F$9,$F$10,$F$11,$F$12,$F$13)","v":101.03288849954129},0.85637780480654158,0.85637780480654158]
[{"$f":"prices!N121","v":105.81453804347827},{"$f":"CSbondPrice(prices!$P$2,prices!$B121,prices!$C121/100,$F$4,$F$5,$F$6,$F$7,$F$8,$F$9,$F$10,$F$11,$F$12,$F$13)","v":102.53512295039849},3.279415093079777,3.279415093079777]
[{"$f":"prices!N122","v":108.75647444751381},{"$f":"CSbondPrice(prices!$P$2,prices!$B122,prices!$C122/100,$F$4,$F$5,$F$6,$F$7,$F$8,$F$9,$F$10,$F$11,$F$12,$F$13)","v":104.69465262741892},4.0618218200948917,4.0618218200948917]

{"sheet":"8152011","index":5,"n_rows":21,"n_cols":8,"rows_kept":21,"cut":false,"hidden":false,"merged":[]}
[null,null,"Basic \"Brut Force\" bond Price Computation"]
["maturity",null,"2013-08-15",6]
["coupon",null,4.25]
["today",null,"2010-01-29"]
[null,null,null,null,null,"NELS. SIEG.",null,"CUBIC SPLINE"]
["time",null,"t","CF","y(t)","present value","r_cs(t)","present value"]
[{"$f":"COUPNCD(C4,C2,2,2)","v":"2010-02-15"},0,{"$f":"(nCPNdate(A7, $B$7)-$C$4)/365","v":4.6575342465753428E-2},{"$f":"$C$3/2","v":2.125},{"$f":"NelsonSiegel(C7, 'nelson siegel ASK'!$E$4, 'nelson siegel ASK'!$E$5, 'nelson siegel ASK'!$E$6, 'nelson siegel ASK'!$E$7)","v":-1.9248904437239053E-3},{"$f":"D7*EXP(-C7*E7)","v":2.1251905199573651},{"$f":"cubicSpline(C7,'cubic spline'!$F$4,'cubic spline'!$F$5,'cubic spline'!$F$6,'cubic spline'!$F$7,'cubic spline'!$F$8,'cubic spline'!$F$9,'cubic spline'!$F$10,'cubic spline'!$F$11,'cubic spline'!$F$12,'cubic spline'!$F$13)","v":-1.6890119617098194E-3},{"$f":"D7*EXP(-C7*G7)","v":2.1251671724852441}]
[{"$f":"COUPNCD(A7,$C$2,2)","v":"2010-08-15"},1,{"$f":"(nCPNdate(A8, $B$7)-$C$4)/365","v":0.54520547945205478},2.125,{"$f":"NelsonSiegel(C8, 'nelson siegel ASK'!$E$4, 'nelson siegel ASK'!$E$5, 'nelson siegel ASK'!$E$6, 'nelson siegel ASK'!$E$7)","v":1.8905992569078333E-3},2.1228107527107403,{"$f":"cubicSpline(C8,'cubic spline'!$F$4,'cubic spline'!$F$5,'cubic spline'!$F$6,'cubic spline'!$F$7,'cubic spline'!$F$8,'cubic spline'!$F$9,'cubic spline'!$F$10,'cubic spline'!$F$11,'cubic spline'!$F$12,'cubic spline'!$F$13)","v":1.0588297032132238E-3},2.12377363453054]
["2011-02-15",2,1.0465753424657533,2.125,{"$f":"NelsonSiegel(C9, 'nelson siegel ASK'!$E$4, 'nelson siegel ASK'!$E$5, 'nelson siegel ASK'!$E$6, 'nelson siegel ASK'!$E$7)","v":5.5197113844571606E-3},2.1127597019845621,{"$f":"cubicSpline(C9,'cubic spline'!$F$4,'cubic spline'!$F$5,'cubic spline'!$F$6,'cubic spline'!$F$7,'cubic spline'!$F$8,'cubic spline'!$F$9,'cubic spline'!$F$10,'cubic spline'!$F$11,'cubic spline'!$F$12,'cubic spline'!$F$13)","v":3.8042266840231146E-3},2.1165563241011243]
["2011-08-15",3,1.5424657534246575,2.125,{"$f":"NelsonSiegel(C10, 'nelson siegel ASK'!$E$4, 'nelson siegel ASK'!$E$5, 'nelson siegel ASK'!$E$6, 'nelson siegel ASK'!$E$7)","v":8.9135263041060925E-3},2.0959837075435441,{"$f":"cubicSpline(C10,'cubic spline'!$F$4,'cubic spline'!$F$5,'cubic spline'!$F$6,'cubic spline'!$F$7,'cubic spline'!$F$8,'cubic spline'!$F$9,'cubic spline'!$F$10,'cubic spline'!$F$11,'cubic spline'!$F$12,'cubic spline'!$F$13)","v":6.4955463102672698E-3},2.1038155919927362]
["2012-02-15",4,2.0465753424657533,2.125,{"$f":"NelsonSiegel(C11, 'nelson siegel ASK'!$E$4, 'nelson siegel ASK'!$E$5, 'nelson siegel ASK'!$E$6, 'nelson siegel ASK'!$E$7)","v":1.2172882086616679E-2},2.0727144610098187,{"$f":"cubicSpline(C11,'cubic spline'!$F$4,'cubic spline'!$F$5,'cubic spline'!$F$6,'cubic spline'!$F$7,'cubic spline'!$F$8,'cubic spline'!$F$9,'cubic spline'!$F$10,'cubic spline'!$F$11,'cubic spline'!$F$12,'cubic spline'!$F$13)","v":9.2000082499076614E-3},2.0853637330578159]
["2012-08-15",5,2.5452054794520547,2.125,{"$f":"NelsonSiegel(C12, 'nelson siegel ASK'!$E$4, 'nelson siegel ASK'!$E$5, 'nelson siegel ASK'!$E$6, 'nelson siegel ASK'!$E$7)","v":1.5215930120555186E-2},2.0442769016865148,{"$f":"cubicSpline(C12,'cubic spline'!$F$4,'cubic spline'!$F$5,'cubic spline'!$F$6,'cubic spline'!$F$7,'cubic spline'!$F$8,'cubic spline'!$F$9,'cubic spline'!$F$10,'cubic spline'!$F$11,'cubic spline'!$F$12,'cubic spline'!$F$13)","v":1.1837008515274805E-2},2.0619336002321305]
["2013-02-15",6,3.0493150684931507,2.125,{"$f":"NelsonSiegel(C13, 'nelson siegel ASK'!$E$4, 'nelson siegel ASK'!$E$5, 'nelson siegel ASK'!$E$6, 'nelson siegel ASK'!$E$7)","v":1.8117616950505566E-2},2.0107855769206058,{"$f":"cubicSpline(C13,'cubic spline'!$F$4,'cubic spline'!$F$5,'cubic spline'!$F$6,'cubic spline'!$F$7,'cubic spline'!$F$8,'cubic spline'!$F$9,'cubic spline'!$F$10,'cubic spline'!$F$11,'cubic spline'!$F$12,'cubic spline'!$F$13)","v":1.4457532887362554E-2},2.0333531522863146]
["2013-08-15",7,{"$f":"(nCPNdate(A14, $B$7)-$C$4)/365","v":3.5452054794520547},{"$f":"$C$3/2+100","v":102.125},{"$f":"NelsonSiegel(C14, 'nelson siegel ASK'!$E$4, 'nelson siegel ASK'!$E$5, 'nelson siegel ASK'!$E$6, 'nelson siegel ASK'!$E$7)","v":2.0808059398451012E-2},{"$f":"D14*EXP(-C14*E14)","v":94.862522032196054},{"$f":"cubicSpline(C14,'cubic spline'!$F$4,'cubic spline'!$F$5,'cubic spline'!$F$6,'cubic spline'!$F$7,'cubic spline'!$F$8,'cubic spline'!$F$9,'cubic spline'!$F$10,'cubic spline'!$F$11,'cubic spline'!$F$12,'cubic spline'!$F$13)","v":1.6983940071511525E-2},{"$f":"D14*EXP(-C14*G14)","v":96.157358039242283}]
[]
[null,null,null,null,null,{"$f":"SUM(F7:F14)","v":109.44704365400921},null,{"$f":"SUM(H7:H14)","v":110.80732124792819}]
[]
["Explanation: These computations are included to demonstrate that for this particular bond, "]
["the value is almost the same as when computed through vb in line 62"]
[]
[null,null,{"$f":"NSbondPrice(C4,C2,C3/100,'nelson siegel ASK'!E4,'nelson siegel ASK'!E5,'nelson siegel ASK'!E6,'nelson siegel ASK'!E7)","v":109.44704365400922}]

{"sheet":"pricing errors","index":6,"n_rows":122,"n_cols":2,"rows_kept":122,"cut":false,"hidden":false,"merged":[]}
["NS","cubic"]
[]
[]
[{"$f":"'nelson siegel ASK'!C4","v":1.2681304167898588E-2},{"$f":"'cubic spline'!C4","v":1.2865580918230535E-2}]
[{"$f":"'nelson siegel ASK'!C5","v":7.1818039851905269E-3},{"$f":"'cubic spline'!C5","v":8.2997358855863013E-3}]
[{"$f":"'nelson siegel ASK'!C6","v":8.4844643557886457E-3},{"$f":"'cubic spline'!C6","v":9.6092631597457512E-3}]
[{"$f":"'nelson siegel ASK'!C7","v":9.3318887461180111E-4},{"$f":"'cubic spline'!C7","v":2.0676013435547702E-3}]
[{"$f":"'nelson siegel ASK'!C8","v":2.5697915201874366E-3},{"$f":"'cubic spline'!C8","v":3.8403372768271993E-3}]
[{"$f":"'nelson siegel ASK'!C9","v":-9.3151350023390478E-3},{"$f":"'cubic spline'!C9","v":-8.5764739931732947E-3}]
[{"$f":"'nelson siegel ASK'!C10","v":-2.1522896288246329E-3},{"$f":"'cubic spline'!C10","v":-2.8326421344644359E-3}]
[{"$f":"'nelson siegel ASK'!C11","v":-1.6526431949145604E-2},{"$f":"'cubic spline'!C11","v":-1.9326699347118392E-2}]
[{"$f":"'nelson siegel ASK'!C12","v":-1.9524920683124947E-3},{"$f":"'cubic spline'!C12","v":-7.5456472050774437E-3}]
[{"$f":"'nelson siegel ASK'!C13","v":-5.7190043545034541E-3},{"$f":"'cubic spline'!C13","v":-1.4918610275358901E-2}]
[{"$f":"'nelson siegel ASK'!C14","v":-1.8584550350226436E-2},{"$f":"'cubic spline'!C14","v":-2.7812358619073052E-2}]
[{"$f":"'nelson siegel ASK'!C15","v":-1.793599383248079E-3},{"$f":"'cubic spline'!C15","v":-1.5473042951470006E-2}]
[{"$f":"'nelson siegel ASK'!C16","v":-7.0879079457455418E-3},{"$f":"'cubic spline'!C16","v":-2.5810830490470948E-2}]
[{"$f":"'nelson siegel ASK'!C17","v":-4.1679837472798908E-3},{"$f":"'cubic spline'!C17","v":-2.8439589410027111E-2}]
[{"$f":"'nelson siegel ASK'!C18","v":9.237003295879731E-3},{"$f":"'cubic spline'!C18","v":-2.1446103010816842E-2}]
[{"$f":"'nelson siegel ASK'!C19","v":1.2572038733594582E-2},{"$f":"'cubic spline'!C19","v":-3.3651947888571954E-2}]
[{"$f":"'nelson siegel ASK'!C20","v":1.1977562355383498E-2},{"$f":"'cubic spline'!C20","v":-3.4605657987953009E-2}]
[{"$f":"'nelson siegel ASK'!C21","v":4.2013866742379946E-2},{"$f":"'cubic spline'!C21","v":-2.11607138183183E-2}]
[{"$f":"'nelson siegel ASK'!C22","v":7.5279461442178786E-2},{"$f":"'cubic spline'!C22","v":-7.3655412059281389E-3}]
[{"$f":"'nelson siegel ASK'!C23","v":0.11231171222254943},{"$f":"'cubic spline'!C23","v":7.2409561054485039E-3}]
[{"$f":"'nelson siegel ASK'!C24","v":0.13375904904771119},{"$f":"'cubic spline'!C24","v":5.0755931457615588E-3}]
[{"$f":"'nelson siegel ASK'!C25","v":0.17360084934027498},{"$f":"'cubic spline'!C25","v":1.6800483516888676E-2}]
[{"$f":"'nelson siegel ASK'!C26","v":0.22320060139087161},{"$f":"'cubic spline'!C26","v":3.8964082418246448E-2}]
[{"$f":"'nelson siegel ASK'!C27","v":0.22240941151244442},{"$f":"'cubic spline'!C27","v":2.626527105076093E-2}]
[{"$f":"'nelson siegel ASK'!C28","v":0.26486694556247414},{"$f":"'cubic spline'!C28","v":3.7407853438551797E-2}]
[{"$f":"'nelson siegel ASK'!C29","v":0.29954047170164699},{"$f":"'cubic spline'!C29","v":3.8115989825371344E-2}]
[{"$f":"'nelson siegel ASK'!C30","v":0.33575889094356626},{"$f":"'cubic spline'!C30","v":4.2289460181734739E-2}]
[{"$f":"'nelson siegel ASK'!C31","v":0.37061810366739678},{"$f":"'cubic spline'!C31","v":4.212240575300541E-2}]
[{"$f":"'nelson siegel ASK'!C32","v":0.40968538469390126},{"$f":"'cubic spline'!C32","v":4.3742720461310114E-2}]
[{"$f":"'nelson siegel ASK'!C33","v":0.5155459779758047},{"$f":"'cubic spline'!C33","v":0.13220077929211982}]
[{"$f":"'nelson siegel ASK'!C34","v":0.43684849712936114},{"$f":"'cubic spline'!C34","v":3.7428904927566009E-2}]
[{"$f":"'nelson siegel ASK'!C35","v":0.49701791930236539},{"$f":"'cubic spline'!C35","v":5.7941096531749281E-2}]
[{"$f":"'nelson siegel ASK'!C36","v":0.54117900536658681},{"$f":"'cubic spline'!C36","v":6.1750217672781105E-2}]
[{"$f":"'nelson siegel ASK'!C37","v":0.55380568776729433},{"$f":"'cubic spline'!C37","v":3.559065436701303E-2}]
[{"$f":"'nelson siegel ASK'!C38","v":0.56796147630105054},{"$f":"'cubic spline'!C38","v":9.106582057114565E-3}]
[{"$f":"'nelson siegel ASK'!C39","v":0.65785456674831266},{"$f":"'cubic spline'!C39","v":5.4908886930761014E-2}]
[{"$f":"'nelson siegel ASK'!C40","v":0.5972608483156705},{"$f":"'cubic spline'!C40","v":-2.6924754104626913E-2}]
[{"$f":"'nelson siegel ASK'!C41","v":0.65185786293939429},{"$f":"'cubic spline'!C41","v":1.1248444536448687E-2}]
[{"$f":"'nelson siegel ASK'!C42","v":0.66734551682330334},{"$f":"'cubic spline'!C42","v":-1.9336146270902077E-2}]
[{"$f":"'nelson siegel ASK'!C43","v":0.70657295579211166},{"$f":"'cubic spline'!C43","v":-1.9383890242821167E-2}]
[{"$f":"'nelson siegel ASK'!C44","v":0.76109939099370649},{"$f":"'cubic spline'!C44","v":-1.0258729890537666E-2}]
[{"$f":"'nelson siegel ASK'!C45","v":0.80338237214338903},{"$f":"'cubic spline'!C45","v":-1.4124989153899037E-2}]
[{"$f":"'nelson siegel ASK'!C46","v":0.82556539203791601},{"$f":"'cubic spline'!C46","v":-3.0893978651732823E-2}]
[{"$f":"'nelson siegel ASK'!C47","v":0.96931266214548373},{"$f":"'cubic spline'!C47","v":9.4274189329823344E-2}]
[{"$f":"'nelson siegel ASK'!C48","v":0.94653478795714818},{"$f":"'cubic spline'!C48","v":5.5833062400026279E-2}]
[{"$f":"'nelson siegel ASK'!C49","v":0.95593588105948868},{"$f":"'cubic spline'!C49","v":1.6585710564811507E-2}]
[{"$f":"'nelson siegel ASK'!C50","v":0.98335335751644948},{"$f":"'cubic spline'!C50","v":8.0744054605048632E-3}]
[{"$f":"'nelson siegel ASK'!C51","v":1.0936732559199385},{"$f":"'cubic spline'!C51","v":9.4941240560629581E-2}]
[{"$f":"'nelson siegel ASK'!C52","v":0.98889871537726037},{"$f":"'cubic spline'!C52","v":-2.2319678207210814E-2}]
[{"$f":"'nelson siegel ASK'!C53","v":1.0719018445261241},{"$f":"'cubic spline'!C53","v":1.549876343777612E-2}]
[{"$f":"'nelson siegel ASK'!C54","v":1.1078469740264723},{"$f":"'cubic spline'!C54","v":2.1094397648042218E-2}]
[{"$f":"'nelson siegel ASK'!C55","v":1.1532312697812444},{"$f":"'cubic spline'!C55","v":3.1560393952148047E-2}]
[{"$f":"'nelson siegel ASK'!C56","v":1.1555188307324187},{"$f":"'cubic spline'!C56","v":3.4359382748561984E-2}]
[{"$f":"'nelson siegel ASK'!C57","v":1.1338060050006362},{"$f":"'cubic spline'!C57","v":-2.4075343818282136E-2}]
[{"$f":"'nelson siegel ASK'!C58","v":1.1979209580095755},{"$f":"'cubic spline'!C58","v":-7.4732023733190545E-3}]
[{"$f":"'nelson siegel ASK'!C59","v":1.287323212714341},{"$f":"'cubic spline'!C59","v":5.3888719733208745E-2}]
[{"$f":"'nelson siegel ASK'!C60","v":1.2053326113623655},{"$f":"'cubic spline'!C60","v":-4.584164776964883E-2}]
[{"$f":"'nelson siegel ASK'!C61","v":1.211655996995276},{"$f":"'cubic spline'!C61","v":-7.5385714981734964E-2}]
[{"$f":"'nelson siegel ASK'!C62","v":1.3294509112081698},{"$f":"'cubic spline'!C62","v":-3.0826682710795694E-2}]
[{"$f":"'nelson siegel ASK'!C63","v":1.5178481070464755},{"$f":"'cubic spline'!C63","v":4.977057914700822E-2}]
[{"$f":"'nelson siegel ASK'!C64","v":1.5196251004607433},{"$f":"'cubic spline'!C64","v":-4.2473371260911108E-2}]
[{"$f":"'nelson siegel ASK'!C65","v":1.5812580996673375},{"$f":"'cubic spline'!C65","v":-9.0423779617054834E-2}]
[{"$f":"'nelson siegel ASK'!C66","v":1.7288117856752478},{"$f":"'cubic spline'!C66","v":-6.960592285949474E-3}]
[{"$f":"'nelson siegel ASK'!C67","v":1.746124250372759},{"$f":"'cubic spline'!C67","v":-6.0351339877826149E-2}]
[{"$f":"'nelson siegel ASK'!C68","v":1.7589147381286381},{"$f":"'cubic spline'!C68","v":-9.4796441690846223E-2}]
[{"$f":"'nelson siegel ASK'!C69","v":1.7441102761111011},{"$f":"'cubic spline'!C69","v":-0.16151874725598248}]
[{"$f":"'nelson siegel ASK'!C70","v":1.8307693526308952},{"$f":"'cubic spline'!C70","v":-0.11919214828546387}]
[{"$f":"'nelson siegel ASK'!C71","v":2.0622060757983434},{"$f":"'cubic spline'!C71","v":7.1002442736173066E-2}]
[{"$f":"'nelson siegel ASK'!C72","v":1.9507223722155516},{"$f":"'cubic spline'!C72","v":-5.8662949597660941E-2}]
[{"$f":"'nelson siegel ASK'!C73","v":2.0040084683324864},{"$f":"'cubic spline'!C73","v":-5.5508760618764086E-2}]
[{"$f":"'nelson siegel ASK'!C74","v":2.1690235634431332},{"$f":"'cubic spline'!C74","v":0.12458886877982422}]
[{"$f":"'nelson siegel ASK'!C75","v":2.2727573812903614},{"$f":"'cubic spline'!C75","v":0.2542353916127098}]
[{"$f":"'nelson siegel ASK'!C76","v":2.3460116971886578},{"$f":"'cubic spline'!C76","v":0.34262384186327211}]
[{"$f":"'nelson siegel ASK'!C77","v":2.3847510699742429},{"$f":"'cubic spline'!C77","v":0.41214138880015128}]
[{"$f":"'nelson siegel ASK'!C78","v":2.546340629324547},{"$f":"'cubic spline'!C78","v":0.57907439695470941}]
[{"$f":"'nelson siegel ASK'!C79","v":2.6375886500525922},{"$f":"'cubic spline'!C79","v":0.74624382599414218}]
[{"$f":"'nelson siegel ASK'!C80","v":2.8371503747676456},{"$f":"'cubic spline'!C80","v":1.0515677182569618}]
[{"$f":"'nelson siegel ASK'!C81","v":2.9631273626292085},{"$f":"'cubic spline'!C81","v":1.1788735989687922}]
[{"$f":"'nelson siegel ASK'!#REF!","v":{"$error":"#REF!"}},{"$f":"'cubic spline'!C82","v":-4.0191264443756722}]
[{"$f":"'nelson siegel ASK'!#REF!","v":{"$error":"#REF!"}},{"$f":"'cubic spline'!C83","v":-2.9824729521554616}]
[{"$f":"'nelson siegel ASK'!#REF!","v":{"$error":"#REF!"}},{"$f":"'cubic spline'!C84","v":-5.4488667893737386}]
[{"$f":"'nelson siegel ASK'!#REF!","v":{"$error":"#REF!"}},{"$f":"'cubic spline'!C85","v":-4.4409369790330686}]
[{"$f":"'nelson siegel ASK'!C82","v":-1.550989610665539},{"$f":"'cubic spline'!C86","v":-2.136626851624797}]
[{"$f":"'nelson siegel ASK'!C83","v":-0.51353083899155649},{"$f":"'cubic spline'!C87","v":-2.060503906227666}]
[{"$f":"'nelson siegel ASK'!C84","v":-3.0297874301510603},{"$f":"'cubic spline'!C88","v":-5.0386641633476188}]
[{"$f":"'nelson siegel ASK'!C85","v":-2.082504389207287},{"$f":"'cubic spline'!C89","v":-3.3371250857246082}]
[{"$f":"'nelson siegel ASK'!C86","v":-2.2887136134485786E-2},{"$f":"'cubic spline'!C90","v":-4.3394182523384757}]
[{"$f":"'nelson siegel ASK'!C87","v":2.4928175406671471E-2},{"$f":"'cubic spline'!C91","v":-1.2255178043131707}]
[{"$f":"'nelson siegel ASK'!C88","v":-2.8432526815080905},{"$f":"'cubic spline'!C92","v":-1.1093164313102193}]
[{"$f":"'nelson siegel ASK'!C89","v":-1.1566486361598436},{"$f":"'cubic spline'!C93","v":4.4277697897626922E-2}]
[{"$f":"'nelson siegel ASK'!C90","v":-2.1359021065470074},{"$f":"'cubic spline'!C94","v":2.5193251617628505}]
[{"$f":"'nelson siegel ASK'!C91","v":0.97306492241952469},{"$f":"'cubic spline'!C95","v":-1.8538614243725533}]
[{"$f":"'nelson siegel ASK'!C92","v":1.092042933630637},{"$f":"'cubic spline'!C96","v":2.5555498832170827}]
[{"$f":"'nelson siegel ASK'!C93","v":2.2114583455788193},{"$f":"'cubic spline'!C97","v":1.1746676580818871}]
[{"$f":"'nelson siegel ASK'!C94","v":4.7792934273575725},{"$f":"'cubic spline'!C98","v":0.87284811403603157}]
[{"$f":"'nelson siegel ASK'!C95","v":0.49382276141076886},{"$f":"'cubic spline'!C99","v":0.92356457651942492}]
[{"$f":"'nelson siegel ASK'!C96","v":4.9667928545589746},{"$f":"'cubic spline'!C100","v":-1.2740141360265227}]
[{"$f":"'nelson siegel ASK'!C97","v":3.7039519865222417},{"$f":"'cubic spline'!C101","v":2.8341734478616729}]
[{"$f":"'nelson siegel ASK'!C98","v":3.5390305766316317},{"$f":"'cubic spline'!C102","v":-1.4271433058735283}]
[{"$f":"'nelson siegel ASK'!C99","v":3.6992337369895267},{"$f":"'cubic spline'!C103","v":0.38994133033085632}]
[{"$f":"'nelson siegel ASK'!C100","v":1.723960679941996},{"$f":"'cubic spline'!C104","v":1.3147933506571405}]
[{"$f":"'nelson siegel ASK'!C101","v":6.4499839586006829},{"$f":"'cubic spline'!C105","v":-1.5620527014282573}]
[{"$f":"'nelson siegel ASK'!C102","v":2.4380615038030271},{"$f":"'cubic spline'!C106","v":1.8620636789321736}]
[{"$f":"'nelson siegel ASK'!C103","v":4.5145394704599937},{"$f":"'cubic spline'!C107","v":0.61965618320195404}]
[{"$f":"'nelson siegel ASK'!C104","v":5.6365725453170796},{"$f":"'cubic spline'!C108","v":0.9308772467049522}]
[{"$f":"'nelson siegel ASK'!C105","v":3.4587104567904987},{"$f":"'cubic spline'!C109","v":2.1745949084083236}]
[{"$f":"'nelson siegel ASK'!C106","v":7.1311278934410041},{"$f":"'cubic spline'!C110","v":-1.8478455321502878}]
[{"$f":"'nelson siegel ASK'!C107","v":5.919934859445334},{"$f":"'cubic spline'!C111","v":1.0566679306564879}]
[{"$f":"'nelson siegel ASK'!C108","v":6.4364160237784063},{"$f":"'cubic spline'!C112","v":-0.49195049153331638}]
[{"$f":"'nelson siegel ASK'!C109","v":8.1158263174543777},{"$f":"'cubic spline'!C113","v":-2.313161530360091}]
[{"$f":"'nelson siegel ASK'!C110","v":4.7187313909766857},{"$f":"'cubic spline'!C114","v":0.27965810522019297}]
[{"$f":"'nelson siegel ASK'!C111","v":7.901836256990137},{"$f":"'cubic spline'!C115","v":-2.7519046358225552}]
[{"$f":"'nelson siegel ASK'!C112","v":6.508226236445779},{"$f":"'cubic spline'!C116","v":-0.22520224305941383}]
[{"$f":"'nelson siegel ASK'!C113","v":5.0660001862659101},{"$f":"'cubic spline'!C117","v":1.4569792695922956E-2}]
[{"$f":"'nelson siegel ASK'!C114","v":8.1102612775534197},{"$f":"'cubic spline'!C118","v":0.71491385637440885}]
[{"$f":"'nelson siegel ASK'!C115","v":5.5981027538449695},{"$f":"'cubic spline'!C119","v":-1.3091833862639248}]
[{"$f":"'nelson siegel ASK'!C116","v":5.6027095367656869},{"$f":"'cubic spline'!C120","v":0.85637780480654158}]
[{"$f":"'nelson siegel ASK'!C117","v":3.630736125924642},{"$f":"'cubic spline'!C121","v":3.279415093079777}]
[{"$f":"'nelson siegel ASK'!C118","v":3.6143941472764141},{"$f":"'cubic spline'!C122","v":4.0618218200948917}]

{"sheet":"sequential ch 1","index":7,"n_rows":41,"n_cols":2,"rows_kept":41,"cut":false,"hidden":false,"merged":[]}
["dateVal","zeros_bid(t)"]
[8.3333333333333329E-2,1.8098257909481053E-2]
[0.59444444444444444,2.0585197978033154E-2]
[1.0972222222222223,2.2720473811899566E-2]
[1.6083333333333334,2.2997502967922134E-2]
[2.1111111111111112,2.4918602086297259E-2]
[2.6222222222222222,2.6022014845594965E-2]
[3.125,2.7702249799209433E-2]
[3.6361111111111111,2.9142562883263112E-2]
[4.1416666666666666,3.0059593077471858E-2]
[4.6527777777777777,3.1390164356861705E-2]
[5.1555555555555559,3.1861233410762635E-2]
[5.666666666666667,3.2842841405483547E-2]
[6.1694444444444443,3.3513603563915195E-2]
[6.6805555555555554,3.4136881967413713E-2]
[7.1833333333333336,3.5236648810124338E-2]
[7.6944444444444446,3.6390627007408805E-2]
[8.1999999999999993,3.8003697674925174E-2]
[8.7111111111111104,3.8709594651129997E-2]
[9.2138888888888886,3.9580999052077237E-2]
[9.7249999999999996,3.9417666336614143E-2]
[10.220000000000001,4.098900763611768E-2]
[10.738888888888889,4.4201389652581247E-2]
[11.241666666666667,4.4927222031160285E-2]
[11.752777777777778,4.5108553724404032E-2]
[12.258333333333333,4.6118641775267921E-2]
[12.769444444444444,4.5929684858795561E-2]
[13.272222222222222,4.622357863091775E-2]
[13.779166666666667,4.5026655507570901E-2]
[14.286111111111111,4.3919651431668871E-2]
[14.797222222222222,4.6731005066872111E-2]
[15.3,4.6924582061463216E-2]
[15.811111111111112,4.6803058460724412E-2]
[16.316666666666666,4.6736020228805186E-2]
[16.827777777777779,4.6691999607438417E-2]
[17.330555555555556,4.7057676441596641E-2]
[17.841666666666665,4.7055668766251113E-2]
[18.344444444444445,4.7361324302249264E-2]
[18.855555555555554,4.7837780805278118E-2]
[19.358333333333334,4.7811307767572364E-2]
[20.375,4.6215750252473375E-2]