{"text_format":"1","workbook":"xlsx","n_sheets":5,"sheets":["rate tree","9% 11-18-18","probabilities","option","Sheet5"],"not_rendered":{"charts":1,"images":0,"macros":0,"external_links":0,"defined_names":0,"comments":0,"pivot_tables":0},"unopened":[],"bounds":{"document_bytes":16777216,"sheet_cells":100000,"rows_first":2000,"rows_last":500,"rows_between":2000,"halvings":0,"cell_chars":16384,"cell_head_chars":4096},"cells_cut":0,"cells_raw":0,"read":"whole","date_system":"1900"}

{"sheet":"rate tree","index":0,"n_rows":69,"n_cols":71,"rows_kept":69,"cut":false,"hidden":false,"merged":[]}
[null,null,5.0000000000000001E-3]
[null,null,7.6870465000000001E-3,8.6785538000000006E-3,0,0,0,0,0,0,0,0,0,0,0,0,0,0,0,0,0,0,0,0,0,0,0,0,0,0,0,0,0,0,0,0,0,0,0,0,0,0,0,0,0,0,0,0,0,0,0,0,0,0,0,0,0,0,0,0,0,0,0,0,0,0,0,0,0,0,0]
[null,null,1.2684987999999999E-2,1.3727646E-2,1.4855691000000001E-2,0,0,0,0,0,0,0,0,0,0,0,0,0,0,0,0,0,0,0,0,0,0,0,0,0,0,0,0,0,0,0,0,0,0,0,0,0,0,0,0,0,0,0,0,0,0,0,0,0,0,0,0,0,0,0,0,0,0,0,0,0,0,0,0,0,0]
[null,null,1.7252592000000001E-2,1.8381877000000001E-2,1.9584724000000001E-2,2.0865875999999998E-2,0,0,0,0,0,0,0,0,0,0,0,0,0,0,0,0,0,0,0,0,0,0,0,0,0,0,0,0,0,0,0,0,0,0,0,0,0,0,0,0,0,0,0,0,0,0,0,0,0,0,0,0,0,0,0,0,0,0,0,0,0,0,0,0,0]
[null,null,2.1155842000000001E-2,2.2490594999999999E-2,2.3909065E-2,2.5416438999999999E-2,2.7018217000000001E-2,0,0,0,0,0,0,0,0,0,0,0,0,0,0,0,0,0,0,0,0,0,0,0,0,0,0,0,0,0,0,0,0,0,0,0,0,0,0,0,0,0,0,0,0,0,0,0,0,0,0,0,0,0,0,0,0,0,0,0,0,0,0,0,0]
[null,null,2.4437938999999999E-2,2.6005107E-2,2.7672094000000001E-2,2.9445169E-2,3.1330982E-2,3.3336588E-2,0,0,0,0,0,0,0,0,0,0,0,0,0,0,0,0,0,0,0,0,0,0,0,0,0,0,0,0,0,0,0,0,0,0,0,0,0,0,0,0,0,0,0,0,0,0,0,0,0,0,0,0,0,0,0,0,0,0,0,0,0,0,0]
[null,null,2.7181736000000001E-2,2.8966743999999999E-2,3.0868087999999998E-2,3.2893231000000002E-2,3.5050101E-2,3.7347116E-2,3.9793210000000002E-2,0,0,0,0,0,0,0,0,0,0,0,0,0,0,0,0,0,0,0,0,0,0,0,0,0,0,0,0,0,0,0,0,0,0,0,0,0,0,0,0,0,0,0,0,0,0,0,0,0,0,0,0,0,0,0,0,0,0,0,0,0,0]
[null,null,2.9371292E-2,3.1336534999999999E-2,3.3432189000000001E-2,3.5666759999999999E-2,3.8049289E-2,4.0589384999999999E-2,4.3297253000000001E-2,4.6183732999999998E-2,0,0,0,0,0,0,0,0,0,0,0,0,0,0,0,0,0,0,0,0,0,0,0,0,0,0,0,0,0,0,0,0,0,0,0,0,0,0,0,0,0,0,0,0,0,0,0,0,0,0,0,0,0,0,0,0,0,0,0,0,0]
[null,null,3.1364093000000003E-2,3.3489597000000003E-2,3.5757889000000001E-2,3.8178388000000001E-2,4.0761111000000003E-2,4.351671E-2,4.6456505000000002E-2,4.9592522E-2,5.2937535000000001E-2,0,0,0,0,0,0,0,0,0,0,0,0,0,0,0,0,0,0,0,0,0,0,0,0,0,0,0,0,0,0,0,0,0,0,0,0,0,0,0,0,0,0,0,0,0,0,0,0,0,0,0,0,0,0,0,0,0,0,0,0]
[null,null,3.2926420999999997E-2,3.5175611000000002E-2,3.7577037000000001E-2,4.0140808E-2,4.2877680000000001E-2,4.5799088000000002E-2,4.8917190999999999E-2,5.2244908999999999E-2,5.5795969000000001E-2,5.9584946999999999E-2,0,0,0,0,0,0,0,0,0,0,0,0,0,0,0,0,0,0,0,0,0,0,0,0,0,0,0,0,0,0,0,0,0,0,0,0,0,0,0,0,0,0,0,0,0,0,0,0,0,0,0,0,0,0,0,0,0,0,0]
[null,null,3.4302071000000003E-2,3.6656455999999997E-2,3.9170916E-2,4.1856124000000001E-2,4.4723433E-2,4.7784920000000002E-2,5.1053425999999999E-2,5.4542597999999998E-2,5.8266934999999999E-2,6.2241836000000002E-2,6.6483645999999993E-2,0,0,0,0,0,0,0,0,0,0,0,0,0,0,0,0,0,0,0,0,0,0,0,0,0,0,0,0,0,0,0,0,0,0,0,0,0,0,0,0,0,0,0,0,0,0,0,0,0,0,0,0,0,0,0,0,0,0]
[null,null,3.5178857000000001E-2,3.7600543E-2,4.0187308999999997E-2,4.2950179999999998E-2,4.5900888000000001E-2,4.9051910999999997E-2,5.2416516000000003E-2,5.6008803000000003E-2,5.9843752E-2,6.3937270000000004E-2,6.8306243000000003E-2,7.2968585000000002E-2,0,0,0,0,0,0,0,0,0,0,0,0,0,0,0,0,0,0,0,0,0,0,0,0,0,0,0,0,0,0,0,0,0,0,0,0,0,0,0,0,0,0,0,0,0,0,0,0,0,0,0,0,0,0,0,0,0]
[null,null,3.5917431E-2,3.8394272E-2,4.1040212E-2,4.3866558999999999E-2,4.6885343000000003E-2,5.0109360999999998E-2,5.3552216999999999E-2,5.7228372E-2,6.1153185999999998E-2,6.5342971E-2,6.9815042999999993E-2,7.4587769999999998E-2,7.9680628000000003E-2,0,0,0,0,0,0,0,0,0,0,0,0,0,0,0,0,0,0,0,0,0,0,0,0,0,0,0,0,0,0,0,0,0,0,0,0,0,0,0,0,0,0,0,0,0,0,0,0,0,0,0,0,0,0,0,0]
[null,null,3.6430862000000001E-2,3.8946148E-2,4.1633340999999997E-2,4.4503946000000003E-2,4.7570202999999998E-2,5.0845130000000002E-2,5.4342569E-2,5.8077231999999999E-2,6.2064745999999997E-2,6.6321706999999994E-2,7.0865729000000002E-2,7.5715498000000006E-2,8.0890826999999998E-2,8.6412711000000003E-2,0,0,0,0,0,0,0,0,0,0,0,0,0,0,0,0,0,0,0,0,0,0,0,0,0,0,0,0,0,0,0,0,0,0,0,0,0,0,0,0,0,0,0,0,0,0,0,0,0,0,0,0,0,0,0]
[null,null,3.6741646000000003E-2,3.9280687000000002E-2,4.1993401E-2,4.4891418000000002E-2,4.7987111999999998E-2,5.1293643999999999E-2,5.4825007000000002E-2,5.8596074999999997E-2,6.2622646000000004E-2,6.6921496999999996E-2,7.1510436999999996E-2,7.6408352999999998E-2,8.1635277000000006E-2,8.7212432000000006E-2,9.3162296000000006E-2,0,0,0,0,0,0,0,0,0,0,0,0,0,0,0,0,0,0,0,0,0,0,0,0,0,0,0,0,0,0,0,0,0,0,0,0,0,0,0,0,0,0,0,0,0,0,0,0,0,0,0,0,0,0]
[null,null,3.6741745999999999E-2,3.9282834000000003E-2,4.1997855000000001E-2,4.4898462E-2,4.7997052999999998E-2,5.1306813999999999E-2,5.4841766E-2,5.8616807999999999E-2,6.2647772000000004E-2,6.6951463000000003E-2,7.1545723000000006E-2,7.6449473000000004E-2,8.1682777999999998E-2,8.7266896999999996E-2,9.3224344000000001E-2,9.9578946000000002E-2,0,0,0,0,0,0,0,0,0,0,0,0,0,0,0,0,0,0,0,0,0,0,0,0,0,0,0,0,0,0,0,0,0,0,0,0,0,0,0,0,0,0,0,0,0,0,0,0,0,0,0,0,0]
[null,null,3.6831893999999997E-2,3.9380740999999997E-2,4.2104172000000002E-2,4.5013892999999999E-2,4.8122360000000003E-2,5.1442822999999999E-2,5.4989370000000003E-2,5.8776976000000002E-2,6.2821548000000005E-2,6.7139982000000001E-2,7.1750208999999995E-2,7.6671253999999994E-2,8.1923287999999997E-2,8.7527690000000005E-2,9.3507098999999996E-2,9.9885480999999998E-2,0.10668817999999999,0,0,0,0,0,0,0,0,0,0,0,0,0,0,0,0,0,0,0,0,0,0,0,0,0,0,0,0,0,0,0,0,0,0,0,0,0,0,0,0,0,0,0,0,0,0,0,0,0,0,0,0]
[null,null,3.6650535999999997E-2,3.9188830000000001E-2,4.1901131000000001E-2,4.4799116E-2,4.7895212999999999E-2,5.1202642999999999E-2,5.4735462999999998E-2,5.8508615E-2,6.2537976999999995E-2,6.6840410000000003E-2,7.1433812999999999E-2,7.6337174999999993E-2,8.1570634000000003E-2,8.7155532999999993E-2,9.3114477000000001E-2,9.9471396000000004E-2,0.1062516,0.11348186,0,0,0,0,0,0,0,0,0,0,0,0,0,0,0,0,0,0,0,0,0,0,0,0,0,0,0,0,0,0,0,0,0,0,0,0,0,0,0,0,0,0,0,0,0,0,0,0,0,0,0]
[null,null,3.6341488999999998E-2,3.8860233000000001E-2,4.1551784000000001E-2,4.4427753E-2,4.7500493999999997E-2,5.0783150999999999E-2,5.4289703000000002E-2,5.8035009999999998E-2,6.2034860999999997E-2,6.6306026000000004E-2,7.0866311000000001E-2,7.5734606999999995E-2,8.0930949000000002E-2,8.6476573000000001E-2,9.2393975000000003E-2,9.8706971000000004E-2,0.10544075999999999,0.11262197,0.12027875,0,0,0,0,0,0,0,0,0,0,0,0,0,0,0,0,0,0,0,0,0,0,0,0,0,0,0,0,0,0,0,0,0,0,0,0,0,0,0,0,0,0,0,0,0,0,0,0,0,0]
[null,null,3.5918446999999999E-2,3.8409794999999997E-2,4.1072221999999999E-2,4.3917234999999999E-2,4.6957080999999998E-2,5.0204789E-2,5.3674218000000003E-2,5.7380102000000002E-2,6.1338098000000001E-2,6.5564838E-2,7.0077982999999996E-2,7.4896272999999999E-2,8.0039584999999996E-2,8.5528989999999999E-2,9.1386814999999996E-2,9.7636694999999996E-2,0.10430364,0.11141411,0.11899603,0.12707892000000001,0,0,0,0,0,0,0,0,0,0,0,0,0,0,0,0,0,0,0,0,0,0,0,0,0,0,0,0,0,0,0,0,0,0,0,0,0,0,0,0,0,0,0,0,0,0,0,0,0]
[null,null,3.5524404000000002E-2,3.7990285999999998E-2,4.0625663999999999E-2,4.3441953999999998E-2,4.6451305999999998E-2,4.9666653999999998E-2,5.3101753000000002E-2,5.6771228999999999E-2,6.0690631000000002E-2,6.4876476000000002E-2,6.9346304999999997E-2,7.4118737000000004E-2,7.9213526000000006E-2,8.4651614E-2,9.0455197000000001E-2,9.6647778000000004E-2,0.10325424,0.11030089,0.11781554,0.12582756,0.13436796000000001,0,0,0,0,0,0,0,0,0,0,0,0,0,0,0,0,0,0,0,0,0,0,0,0,0,0,0,0,0,0,0,0,0,0,0,0,0,0,0,0,0,0,0,0,0,0,0,0]
[null,null,3.4786037999999998E-2,3.7203109999999998E-2,3.9786505999999999E-2,4.2547442999999997E-2,4.5497862E-2,4.8650471000000001E-2,5.2018791000000002E-2,5.5617199999999999E-2,5.9460982000000003E-2,6.3566376999999993E-2,6.7950633999999996E-2,7.2632063999999996E-2,7.7630092999999997E-2,8.2965323999999993E-2,8.8659589999999996E-2,9.4736020000000004E-2,0.10121909,0.10813471,0.11551024,0.12337459000000001,0.13175829999999999,0.14069355,0,0,0,0,0,0,0,0,0,0,0,0,0,0,0,0,0,0,0,0,0,0,0,0,0,0,0,0,0,0,0,0,0,0,0,0,0,0,0,0,0,0,0,0,0,0,0]
[null,null,3.4101977999999998E-2,3.6473448999999998E-2,3.9008269999999998E-2,4.1717470999999999E-2,4.4612798000000002E-2,4.7706753999999997E-2,5.1012639999999998E-2,5.4544606000000002E-2,5.8317694000000003E-2,6.2347890000000003E-2,6.6652177000000007E-2,7.1248584000000004E-2,7.6156245999999997E-2,8.1395457000000004E-2,8.6987729999999999E-2,9.2955858000000002E-2,9.9323970999999997E-2,0.10611760000000001,0.11336375,0.12109093,0.12932925000000001,0.1381105,0.14746814,0,0,0,0,0,0,0,0,0,0,0,0,0,0,0,0,0,0,0,0,0,0,0,0,0,0,0,0,0,0,0,0,0,0,0,0,0,0,0,0,0,0,0,0,0,0]
[null,null,3.3350868999999998E-2,3.5672309999999999E-2,3.8153838000000002E-2,4.0806282999999999E-2,4.3641173999999998E-2,4.6670787999999998E-2,4.9908187E-2,5.3367270000000001E-2,5.7062812999999997E-2,6.1010525000000003E-2,6.5227094999999999E-2,6.9730245999999996E-2,7.4538788999999994E-2,7.9672681999999995E-2,8.5153086000000003E-2,9.1002422999999999E-2,9.7244442E-2,0.10390427000000001,0.1110085,0.11858521,0.12666406999999999,0.13527638,0.14445515,0.15423514999999999,0,0,0,0,0,0,0,0,0,0,0,0,0,0,0,0,0,0,0,0,0,0,0,0,0,0,0,0,0,0,0,0,0,0,0,0,0,0,0,0,0,0,0,0,0]
[null,null,3.2544640999999999E-2,3.4812214000000001E-2,3.7236348000000002E-2,3.9827652999999998E-2,4.2597426000000001E-2,4.5557695000000002E-2,4.8721265E-2,5.2101758999999997E-2,5.5713666000000002E-2,5.9572390000000003E-2,6.3694301999999994E-2,6.8096788000000005E-2,7.2798310000000005E-2,7.7818454999999995E-2,8.3178000000000002E-2,8.8898963999999997E-2,9.5004673999999997E-2,0.10151982,0.10847054,0.11588443,0.12379068,0.13222007999999999,0.1412051,0.15077999,0.16098077999999999,0,0,0,0,0,0,0,0,0,0,0,0,0,0,0,0,0,0,0,0,0,0,0,0,0,0,0,0,0,0,0,0,0,0,0,0,0,0,0,0,0,0,0,0]
[null,null,3.1692181E-2,3.3902645000000002E-2,3.6265921999999999E-2,3.8792383E-2,4.1493078000000003E-2,4.4379770999999998E-2,4.7464988999999999E-2,5.0762061999999997E-2,5.4285169000000001E-2,5.8049389999999999E-2,6.2070752E-2,6.6366282999999998E-2,7.0954065999999996E-2,7.5853294000000002E-2,8.1084326999999998E-2,8.6668753000000001E-2,9.2629445000000005E-2,9.8990623999999999E-2,0.10577792,0.11301845000000001,0.12074084,0.12897533999999999,0.13775388,0.14711008,0.15707937999999999,0.16769906000000001,0,0,0,0,0,0,0,0,0,0,0,0,0,0,0,0,0,0,0,0,0,0,0,0,0,0,0,0,0,0,0,0,0,0,0,0,0,0,0,0,0,0,0]
[null,null,3.0801572999999999E-2,3.2952231999999998E-2,3.5251767000000003E-2,3.7710300000000002E-2,4.0338616000000001E-2,4.3148201999999997E-2,4.6151291999999997E-2,4.9360903999999997E-2,5.2790891999999999E-2,5.6455992000000003E-2,6.0371868000000002E-2,6.4555167999999996E-2,6.9023574000000004E-2,7.3795860000000005E-2,7.8891946000000004E-2,8.4332959999999998E-2,9.0141292999999997E-2,9.6340665000000006E-2,0.10295617999999999,0.11001441000000001,0.11754343,0.12557288999999999,0.13413410000000001,0.14326008000000001,0.1529856,0.1633473,0.17438368000000001,0,0,0,0,0,0,0,0,0,0,0,0,0,0,0,0,0,0,0,0,0,0,0,0,0,0,0,0,0,0,0,0,0,0,0,0,0,0,0,0,0,0]
[null,null,2.9880161999999998E-2,3.1968816999999997E-2,3.4202252000000002E-2,3.6590332000000003E-2,3.9143564999999998E-2,4.1873149999999998E-2,4.4791011999999998E-2,4.7909846999999998E-2,5.1243165E-2,5.4805342999999999E-2,5.8611665E-2,6.2678380000000006E-2,6.7022751000000005E-2,7.1663112000000001E-2,7.6618921000000006E-2,8.1910821999999994E-2,8.7560701000000005E-2,9.3591750000000001E-2,0.10002852,0.10689701,0.1142247,0.12204062,0.13037545,0.13926152,0.14873294000000001,0.15882562,0.16957737000000001,0.18102789999999999,0,0,0,0,0,0,0,0,0,0,0,0,0,0,0,0,0,0,0,0,0,0,0,0,0,0,0,0,0,0,0,0,0,0,0,0,0,0,0,0,0]
[null,null,2.8934611999999998E-2,3.0959509E-2,3.3124965999999999E-2,3.5440578E-2,3.7916568999999997E-2,4.0563835999999999E-2,4.3393987000000002E-2,4.6419382000000002E-2,4.9653176E-2,5.3109372000000002E-2,5.6802861000000003E-2,6.0749477000000003E-2,6.4966046999999999E-2,6.9470446000000005E-2,7.4281653000000003E-2,7.9419807999999995E-2,8.4906270000000006E-2,9.0763679E-2,9.7016017999999996E-2,0.10368867,0.11080851,0.11840391,0.12650486999999999,0.13514303999999999,0.14435181,0.15416635000000001,0.16462368999999999,0.17576277000000001,0.18762453000000001,0,0,0,0,0,0,0,0,0,0,0,0,0,0,0,0,0,0,0,0,0,0,0,0,0,0,0,0,0,0,0,0,0,0,0,0,0,0,0,0]
[null,null,2.7970956000000002E-2,2.9930750999999998E-2,3.2026784000000003E-2,3.4268374999999997E-2,3.6665455E-2,3.9228613000000002E-2,4.1969128000000001E-2,4.4899014000000001E-2,4.8031062999999999E-2,5.1378891000000003E-2,5.4956983000000001E-2,5.8780746000000002E-2,6.2866557000000003E-2,6.7231817999999999E-2,7.1895011999999994E-2,7.6875757000000003E-2,8.2194867000000005E-2,8.7874412999999998E-2,9.3937779999999999E-2,0.10040974,0.10731649,0.11468576,0.12254684,0.13093066,0.13986986000000001,0.14939883000000001,0.15955380999999999,0.17037292000000001,0.18189626,0.1941659,0,0,0,0,0,0,0,0,0,0,0,0,0,0,0,0,0,0,0,0,0,0,0,0,0,0,0,0,0,0,0,0,0,0,0,0,0,0,0]
[null,null,2.6994649999999999E-2,2.8888364999999999E-2,3.0913921E-2,3.3080355999999998E-2,3.5397303999999997E-2,3.7875035000000001E-2,4.0524494000000001E-2,4.3357342E-2,4.6385996999999998E-2,4.9623681000000003E-2,5.3084461999999999E-2,5.6783307999999998E-2,6.0736137000000003E-2,6.4959863000000007E-2,6.9472460999999999E-2,7.4293012000000005E-2,7.9441771999999994E-2,8.4940220999999996E-2,9.0811133000000002E-2,9.7078632999999998E-2,0.10376826,0.11090704999999999,0.11852356,0.12664797999999999,0.13531215999999999,0.1445497,0.15439601,0.16488837000000001,0.17606599000000001,0.18797006999999999,0.20064383999999999,0,0,0,0,0,0,0,0,0,0,0,0,0,0,0,0,0,0,0,0,0,0,0,0,0,0,0,0,0,0,0,0,0,0,0,0,0,0]
[null,null,2.6010614000000001E-2,2.7837602999999999E-2,2.9791985E-2,3.1882507999999997E-2,3.4118503000000001E-2,3.6509919000000002E-2,3.9067360000000002E-2,4.1802128000000001E-2,4.4726259999999997E-2,4.7852574000000002E-2,5.1194717000000001E-2,5.4767209999999997E-2,5.8585497E-2,6.2665999999999999E-2,6.7026168999999997E-2,7.1684543000000003E-2,7.6660799000000002E-2,8.1975819000000005E-2,8.7651748000000002E-2,9.3712053000000003E-2,0.10018159,0.10708666999999999,0.11445511999999999,0.12231635,0.13070142000000001,0.13964309999999999,0.14917595,0.15933636000000001,0.17016264,0.18169506999999999,0.19397592999999999,0.20704961,0,0,0,0,0,0,0,0,0,0,0,0,0,0,0,0,0,0,0,0,0,0,0,0,0,0,0,0,0,0,0,0,0,0,0,0,0]
[null,null,2.5023274000000002E-2,2.6783194E-2,2.8666021999999999E-2,3.0680217999999999E-2,3.2834804000000002E-2,3.5139404999999999E-2,3.7604279999999997E-2,4.0240365E-2,4.3059312000000002E-2,4.6073533E-2,4.9296241999999997E-2,5.2741507999999999E-2,5.6424296999999998E-2,6.0360526999999997E-2,6.4567118000000007E-2,6.9062050999999999E-2,7.3864421E-2,7.8994495999999997E-2,8.4473778999999999E-2,9.0325067999999994E-2,9.6572517999999996E-2,0.10324171,0.11035971,0.11795513000000001,0.12605822,0.13470091000000001,0.14391686000000001,0.15374156999999999,0.16421242,0.17536872000000001,0.18725178000000001,0.199905,0.21337386,0,0,0,0,0,0,0,0,0,0,0,0,0,0,0,0,0,0,0,0,0,0,0,0,0,0,0,0,0,0,0,0,0,0,0,0]
[null,null,2.4036607000000001E-2,2.5729381999999999E-2,2.7540565999999999E-2,2.9478325999999999E-2,3.1551375999999999E-2,3.3769011000000002E-2,3.6141142000000001E-2,3.8678338999999999E-2,4.1391863000000001E-2,4.4293714999999997E-2,4.7396674999999999E-2,5.0714352999999997E-2,5.4261230000000001E-2,5.8052714999999998E-2,6.2105191999999997E-2,6.6436076999999996E-2,7.1063873E-2,7.6008225999999998E-2,8.1289985999999995E-2,8.6931270000000005E-2,9.2955521999999999E-2,9.9387575000000006E-2,0.10625372,0.11358177999999999,0.12140114,0.12974287000000001,0.13863974000000001,0.14812632000000001,0.15823903,0.16901621,0.18049815,0.19272721000000001,0.20574782999999999,0.21960660000000001,0,0,0,0,0,0,0,0,0,0,0,0,0,0,0,0,0,0,0,0,0,0,0,0,0,0,0,0,0,0,0,0,0,0,0]
[null,null,2.3054167E-2,2.4679966000000001E-2,2.6419675E-2,2.8281166999999999E-2,3.0272845999999999E-2,3.2403676999999999E-2,3.4683222999999999E-2,3.7121682000000003E-2,3.9729924999999999E-2,4.2519539000000002E-2,4.5502867000000002E-2,4.8693054E-2,5.2104096000000003E-2,5.5750886999999999E-2,5.9649269999999997E-2,6.3816091000000005E-2,6.8269253000000002E-2,7.3027774000000004E-2,7.8111844999999999E-2,8.3542890999999994E-2,8.9343634000000005E-2,9.5538152000000001E-2,0.10215195000000001,0.10921202000000001,0.11674692,0.12478681,0.13336355999999999,0.14251079,0.15226392999999999,0.16266031,0.17373922,0.18554192999999999,0.19811181,0.21149433000000001,0.22573716999999999,0,0,0,0,0,0,0,0,0,0,0,0,0,0,0,0,0,0,0,0,0,0,0,0,0,0,0,0,0,0,0,0,0,0]
[null,null,2.2079128999999999E-2,2.3638335999999999E-2,2.5306968999999999E-2,2.7092608000000001E-2,2.9003345999999999E-2,3.1047816999999998E-2,3.3235236000000001E-2,3.5575428999999999E-2,3.8078874999999998E-2,4.0756744999999997E-2,4.3620944000000002E-2,4.6684152999999999E-2,4.9959877999999999E-2,5.3462494999999999E-2,5.7207304E-2,6.1210576000000003E-2,6.5489612000000003E-2,7.0062794999999997E-2,7.4949651000000006E-2,8.0170907999999999E-2,8.5748557000000003E-2,9.1705913E-2,9.8067684000000002E-2,0.10486003000000001,0.11211064,0.11984879,0.12810540000000001,0.13691313999999999,0.14630642999999999,0.15632159000000001,0.16699684000000001,0.17837236000000001,0.19049041999999999,0.20339536999999999,0.21713370000000001,0.23175412000000001,0,0,0,0,0,0,0,0,0,0,0,0,0,0,0,0,0,0,0,0,0,0,0,0,0,0,0,0,0,0,0,0,0]
[null,null,2.1114309000000001E-2,2.2607503000000001E-2,2.4205666000000001E-2,2.5916088E-2,2.7746549999999998E-2,2.9705358000000001E-2,3.1801375999999999E-2,3.4044061E-2,3.6443498999999997E-2,3.9010446999999997E-2,4.1756369000000002E-2,4.4693482999999999E-2,4.7834804000000002E-2,5.1194190000000001E-2,5.4786393000000003E-2,5.8627111000000003E-2,6.2733038000000005E-2,6.7121920000000002E-2,7.1812613999999997E-2,7.6825144999999997E-2,8.2180769000000001E-2,8.7902031000000005E-2,9.4012835000000003E-2,0.1005385,0.10750584000000001,0.11494322,0.12288063,0.13134973,0.14038395000000001,0.15001856999999999,0.16029070000000001,0.17123946000000001,0.18290593999999999,0.19533334999999999,0.208567,0.22265438000000001,0.23764526,0,0,0,0,0,0,0,0,0,0,0,0,0,0,0,0,0,0,0,0,0,0,0,0,0,0,0,0,0,0,0,0]
[null,null,2.0162201000000001E-2,2.1590130999999999E-2,2.3118614999999999E-2,2.4754651999999999E-2,2.6505713E-2,2.8379776999999998E-2,3.0385361E-2,3.2531550999999999E-2,3.4828044000000002E-2,3.7285182E-2,3.9913991000000003E-2,4.2726225E-2,4.5734407999999997E-2,4.8951881000000003E-2,5.2392851999999997E-2,5.6072440000000001E-2,6.0006733E-2,6.4212837999999994E-2,6.8708942999999995E-2,7.3514364999999998E-2,7.8649623000000002E-2,8.4136485999999996E-2,8.9998048999999997E-2,9.6258786999999998E-2,0.10294463,0.11008302,0.11770298999999999,0.12583522,0.13451210999999999,0.14376786,0.15363852,0.16416205,0.17537841000000001,0.18732958999999999,0.20005972,0.21361505,0.22804405999999999,0.24339751000000001,0,0,0,0,0,0,0,0,0,0,0,0,0,0,0,0,0,0,0,0,0,0,0,0,0,0,0,0,0,0,0]
[null,null,1.9224996000000001E-2,2.0588565999999999E-2,2.2048325000000001E-2,2.3610981999999999E-2,2.5283704000000001E-2,2.7074142999999998E-2,2.8990470000000001E-2,3.1041406000000001E-2,3.3236258999999997E-2,3.5584958E-2,3.8098093999999999E-2,4.0786956999999999E-2,4.3663585999999997E-2,4.6740803999999997E-2,5.0032273000000002E-2,5.3552539000000003E-2,5.7317082999999998E-2,6.1342373999999998E-2,6.5645925999999993E-2,7.0246353999999997E-2,7.5163433000000002E-2,8.0418158000000003E-2,8.6032808000000002E-2,9.2031008999999997E-2,9.8437801000000005E-2,0.1052797,0.11258478,0.12038272,0.12870487999999999,0.13758439,0.14705617000000001,0.15715705999999999,0.16792583,0.17940327,0.19163225,0.20465779000000001,0.21852706999999999,0.23328953999999999,0.24899692000000001,0,0,0,0,0,0,0,0,0,0,0,0,0,0,0,0,0,0,0,0,0,0,0,0,0,0,0,0,0,0]
[null,null,1.8304613000000001E-2,1.9604858999999999E-2,2.0996989000000001E-2,2.2487427000000001E-2,2.4083034999999999E-2,2.5791142999999999E-2,2.7619580000000001E-2,2.9576703999999999E-2,3.1671435999999997E-2,3.3913297000000002E-2,3.6312443999999999E-2,3.8879709999999998E-2,4.1626647000000003E-2,4.4565566000000001E-2,4.7709585999999998E-2,5.1072679000000003E-2,5.4669724000000003E-2,5.8516551999999999E-2,6.2630007000000001E-2,6.7027999000000005E-2,7.1729561999999997E-2,7.6754912999999994E-2,8.2125516999999995E-2,8.7864148000000003E-2,9.3994954000000006E-2,0.10054352,0.10753695000000001,0.11500392,0.12297474,0.13148144,0.14055785000000001,0.15023961999999999,0.16056433000000001,0.17157156000000001,0.18330292000000001,0.19580211,0.20911504,0.22328978999999999,0.23837674,0.25442857000000002,0,0,0,0,0,0,0,0,0,0,0,0,0,0,0,0,0,0,0,0,0,0,0,0,0,0,0,0,0]
[null,null,1.7402714999999999E-2,1.8640792E-2,1.9966516E-2,2.1386028000000001E-2,2.2905891000000001E-2,2.4533117E-2,2.6275196000000001E-2,2.8140124999999998E-2,3.0136443999999998E-2,3.227327E-2,3.4560331E-2,3.7008003999999997E-2,3.9627361E-2,4.2430201000000001E-2,4.5429107000000003E-2,4.8637482000000003E-2,5.2069601E-2,5.5740664000000002E-2,5.9666848000000001E-2,6.3865357999999997E-2,6.8354490000000004E-2,7.3153685999999996E-2,7.8283594999999997E-2,8.3766138000000004E-2,8.9624570000000001E-2,9.5883548999999998E-2,0.1025692,0.10970918,0.11733275,0.12547085999999999,0.13415618000000001,0.14342321,0.15330832,0.16384984,0.17508809,0.18706549,0.19982658,0.21341809,0.22788900000000001,0.24329060999999999,0.25967652000000002,0,0,0,0,0,0,0,0,0,0,0,0,0,0,0,0,0,0,0,0,0,0,0,0,0,0,0,0]
[null,null,1.6520733999999999E-2,1.7697898E-2,1.8958546999999999E-2,2.0308545000000001E-2,2.1754158999999999E-2,2.3302086E-2,2.4959480999999999E-2,2.6733988E-2,2.8633769E-2,3.0667541E-2,3.2844605999999998E-2,3.5174894999999998E-2,3.7668999000000002E-2,4.0338216000000003E-2,4.3194593000000003E-2,4.6250969000000003E-2,4.9521023999999997E-2,5.3019327999999998E-2,5.6761394E-2,6.0763728000000003E-2,6.5043891000000006E-2,6.9620551000000003E-2,7.4513546E-2,7.9743943999999997E-2,8.5334109000000005E-2,9.1307764E-2,9.7690058999999996E-2,0.10450764,0.11178871,0.11956310000000001,0.12786237,0.13671981999999999,0.14617060000000001,0.15625178000000001,0.16700239,0.17846351999999999,0.19067834,0.20369219999999999,0.21755267,0.23230957999999999,0.24801509999999999,0.26472373999999999,0,0,0,0,0,0,0,0,0,0,0,0,0,0,0,0,0,0,0,0,0,0,0,0,0,0,0]
[null,null,1.5659887000000001E-2,1.6777482999999999E-2,1.7974483999999999E-2,1.9256480999999999E-2,2.0629449000000001E-2,2.2099776000000002E-2,2.3674288000000002E-2,2.5360278999999999E-2,2.7165539999999998E-2,2.9098391000000001E-2,3.1167719E-2,3.3383006999999999E-2,3.5754378000000003E-2,3.8292631000000001E-2,4.1009283000000001E-2,4.3916615999999999E-2,4.7027719000000003E-2,5.0356538999999999E-2,5.3917930000000003E-2,5.7727705999999997E-2,6.1802693999999998E-2,6.6160794999999994E-2,7.0821038000000003E-2,7.5803643000000004E-2,8.1130085000000005E-2,8.6823154E-2,9.2907026000000004E-2,9.9407327000000004E-2,0.10635120000000001,0.11376739,0.12168629,0.13014001,0.13916248000000001,0.14878949999999999,0.15905878000000001,0.17001007000000001,0.18168516000000001,0.19412798000000001,0.20738466,0.22150357000000001,0.23653536,0.25253307000000003,0.26955206999999998,0,0,0,0,0,0,0,0,0,0,0,0,0,0,0,0,0,0,0,0,0,0,0,0,0,0]
[null,null,1.4821196999999999E-2,1.5880644999999999E-2,1.7015505E-2,1.82311E-2,1.9533119000000002E-2,2.0927645000000002E-2,2.2421182000000001E-2,2.4020678E-2,2.5733559999999999E-2,2.7567759000000001E-2,2.9531748E-2,3.1634574999999998E-2,3.3885896999999998E-2,3.6296019999999998E-2,3.8875941999999997E-2,4.1637392000000002E-2,4.4592874999999997E-2,4.7755722E-2,5.1140135000000003E-2,5.4761240000000003E-2,5.8635141000000002E-2,6.2778974000000001E-2,6.7210964999999998E-2,7.1950492000000005E-2,7.7018141999999998E-2,8.2435778000000001E-2,8.8226605E-2,9.4415233000000001E-2,0.10102775,0.10809178,0.11563656999999999,0.12369305999999999,0.13229392000000001,0.14147366,0.15126870000000001,0.16171740000000001,0.17286017000000001,0.1847395,0.19740004999999999,0.21088868999999999,0.22525455999999999,0.24054913,0.25682623999999998,0.27414212999999998,0,0,0,0,0,0,0,0,0,0,0,0,0,0,0,0,0,0,0,0,0,0,0,0,0]
[null,null,1.4005508E-2,1.5008288999999999E-2,1.6082583000000001E-2,1.7233447999999998E-2,1.8466293000000002E-2,1.9786903000000002E-2,2.1201463E-2,2.2716584000000001E-2,2.4339334000000001E-2,2.6077261000000001E-2,2.7938434000000002E-2,2.9931468999999999E-2,3.2065565999999997E-2,3.4350549000000001E-2,3.6796899000000001E-2,3.9415801E-2,4.2219186999999998E-2,4.5219777000000003E-2,4.8431127999999997E-2,5.1867688000000002E-2,5.5544843000000003E-2,5.9478972999999997E-2,6.3687509000000003E-2,6.8188989000000005E-2,7.3003123000000003E-2,7.8150848999999994E-2,8.3654404000000002E-2,8.9537386999999996E-2,9.5824824000000003E-2,0.10254323999999999,0.10972073,0.11738703,0.12557359000000001,0.13431361,0.14364218000000001,0.15359629999999999,0.16421495999999999,0.17553919000000001,0.18761216999999999,0.20047925,0.21418802000000001,0.22878836999999999,0.24433252999999999,0.26087514000000001,0.27847325000000001,0,0,0,0,0,0,0,0,0,0,0,0,0,0,0,0,0,0,0,0,0,0,0,0]
[null,null,1.3213496999999999E-2,1.4161148E-2,1.5176507000000001E-2,1.6264374000000002E-2,1.7429885999999999E-2,1.8678534E-2,2.0016191999999999E-2,2.1449139999999998E-2,2.2984093000000001E-2,2.4628225E-2,2.6389205999999998E-2,2.8275229999999998E-2,3.0295048000000002E-2,3.2458005999999998E-2,3.4774081999999998E-2,3.7253925E-2,3.9908897999999998E-2,4.2751121000000003E-2,4.5793516999999999E-2,4.9049862E-2,5.2534834000000002E-2,5.6264065000000002E-2,6.0254197000000002E-2,6.4522940000000001E-2,6.9089130999999998E-2,7.3972791999999996E-2,7.9195198999999994E-2,8.4778940999999997E-2,9.0747991E-2,9.7127775999999999E-2,0.10394523999999999,0.11122891,0.119009,0.12731744,0.13618796,0.14565617,0.15575965,0.16653796000000001,0.17803277000000001,0.19028787999999999,0.20334931000000001,0.21726535,0.23208659000000001,0.24786601999999999,0.26465902000000002,0.28252342000000003,0,0,0,0,0,0,0,0,0,0,0,0,0,0,0,0,0,0,0,0,0,0,0]
[null,null,1.2445695E-2,1.3339792E-2,1.4297892E-2,1.5324546E-2,1.6424619000000001E-2,1.7603317E-2,1.8866210000000001E-2,2.0219253E-2,2.1668817E-2,2.3221709E-2,2.4885208999999998E-2,2.6667094999999998E-2,2.8575679E-2,3.0619838E-2,3.2809054999999997E-2,3.5153451000000002E-2,3.7663833000000001E-2,4.0351728000000003E-2,4.3229437000000003E-2,4.6310071000000001E-2,4.9607611000000003E-2,5.3136950000000002E-2,5.6913953000000003E-2,6.0955508999999998E-2,6.5279590999999998E-2,6.9905312999999997E-2,7.4852996000000005E-2,8.0144230999999996E-2,8.5801942000000006E-2,9.1850456999999996E-2,9.8315575000000002E-2,0.10522463999999999,0.1126066,0.1204921,0.12891353,0.13790512999999999,0.14750300999999999,0.15774527999999999,0.16867206000000001,0.18032561999999999,0.19275034999999999,0.20599292,0.22010225999999999,0.23512965999999999,0.25112878999999999,0.26815578000000001,0.2862692,0,0,0,0,0,0,0,0,0,0,0,0,0,0,0,0,0,0,0,0,0,0]
[null,null,1.1702493E-2,1.2544646E-2,1.3447202E-2,1.4414461999999999E-2,1.5451032E-2,1.6561838999999998E-2,1.7752153E-2,1.9027616000000001E-2,2.0394256999999999E-2,2.1858527999999999E-2,2.3427325999999998E-2,2.5108023E-2,2.6908498999999999E-2,2.8837174E-2,3.0903041999999999E-2,3.3115710999999999E-2,3.5485437000000002E-2,3.8023169000000002E-2,4.0740591E-2,4.3650165999999997E-2,4.6765183000000002E-2,5.0099812000000001E-2,5.3669148E-2,5.7489270000000002E-2,6.1577298000000003E-2,6.5951448999999995E-2,7.0631098000000003E-2,7.5636843999999995E-2,8.0990571999999997E-2,8.6715518000000005E-2,9.2836344000000001E-2,9.9379199000000001E-2,0.1063718,0.11384348,0.12182531000000001,0.13035012000000001,0.13945257999999999,0.14916931,0.15953891000000001,0.17060205000000001,0.18240152000000001,0.19498230999999999,0.20839168,0.22267918,0.23789674999999999,0.25409872,0.27134192000000001,0.28968561999999998,0,0,0,0,0,0,0,0,0,0,0,0,0,0,0,0,0,0,0,0,0]
[null,null,1.098416E-2,1.1776005000000001E-2,1.2624755E-2,1.3534473E-2,1.4509508000000001E-2,1.5554515999999999E-2,1.6674478E-2,1.7874722999999999E-2,1.9160956E-2,2.0539274999999999E-2,2.2016204000000001E-2,2.359872E-2,2.5294279999999999E-2,2.7110855E-2,2.9056964000000001E-2,3.1141708000000001E-2,3.3374806E-2,3.5766639000000003E-2,3.8328287000000003E-2,4.1071572000000001E-2,4.4009110999999997E-2,4.7154354000000002E-2,5.0521641999999999E-2,5.4126255999999998E-2,5.7984474000000001E-2,6.2113625999999998E-2,6.6532153999999996E-2,7.1259674999999995E-2,7.6317043000000001E-2,8.1726413999999997E-2,8.7511315000000006E-2,9.3696714E-2,0.10030909,0.10737649,0.11492864,0.12299696,0.13161471,0.14081699,0.15064085999999999,0.16112539000000001,0.17231175000000001,0.18424324,0.19696540000000001,0.21052604,0.22497529999999999,0.24036573,0.25675229999999999,0.27419244999999998,0.29274614999999998,0,0,0,0,0,0,0,0,0,0,0,0,0,0,0,0,0,0,0,0]
[null,null,1.0290848999999999E-2,1.1034037999999999E-2,1.1830741000000001E-2,1.2684788000000001E-2,1.3600281000000001E-2,1.4581607999999999E-2,1.563347E-2,1.6760893999999998E-2,1.7969263999999999E-2,1.9264336E-2,2.0652271999999999E-2,2.2139658999999999E-2,2.3733542999999999E-2,2.5441458E-2,2.7271456999999999E-2,2.9232145000000001E-2,3.1332715999999997E-2,3.3582994999999997E-2,3.5993468000000001E-2,3.8575333000000003E-2,4.1340540000000002E-2,4.4301839000000003E-2,4.7472828000000002E-2,5.0868002000000002E-2,5.4502808999999999E-2,5.8393705999999997E-2,6.2558215E-2,6.7014981000000001E-2,7.1783839000000002E-2,7.6885875000000006E-2,8.2343496000000002E-2,8.818049E-2,9.4422105000000006E-2,0.10109512,0.1082279,0.11585049,0.12399469,0.13269411,0.14198426,0.1519026,0.16248865000000001,0.17378402000000001,0.18583251000000001,0.19868015,0.21237527,0.22696856000000001,0.24251312999999999,0.25906453000000002,0.27668081999999999,0.29542259999999998,0,0,0,0,0,0,0,0,0,0,0,0,0,0,0,0,0,0,0]
[null,null,9.6226129000000007E-3,1.0318808E-2,1.1065234E-2,1.1865495E-2,1.2723450000000001E-2,1.3643232E-2,1.4629263999999999E-2,1.5686282999999999E-2,1.6819358E-2,1.8033915000000001E-2,1.933576E-2,2.0731102000000001E-2,2.2226587999999999E-2,2.3829321000000001E-2,2.5546902E-2,2.7387451E-2,2.9359651E-2,3.1472778999999999E-2,3.3736744999999999E-2,3.6162132E-2,3.8760240000000001E-2,4.1543129999999998E-2,4.4523670000000001E-2,4.7715583999999998E-2,5.1133507000000002E-2,5.4793033999999997E-2,5.8710777999999998E-2,6.2904429999999997E-2,6.7392819000000007E-2,7.2195971999999997E-2,7.7335185000000001E-2,8.2833081000000003E-2,8.8713689999999998E-2,9.5002507999999999E-2,0.10172658,0.10891455999999999,0.1165968,0.1248054,0.13357432999999999,0.14293944,0.15293857999999999,0.16361165,0.17500071,0.18714996,0.20010591,0.21391736,0.22863552000000001,0.244314,0.26100889999999999,0.27877885000000002,0.29768502000000002,0,0,0,0,0,0,0,0,0,0,0,0,0,0,0,0,0,0]
[null,null,8.9794096E-3,9.6302765999999995E-3,1.0328199999999999E-2,1.1076565E-2,1.1878995E-2,1.2739373999999999E-2,1.3661856999999999E-2,1.4650897E-2,1.5711259000000002E-2,1.6848047000000001E-2,1.8066718999999998E-2,1.9373122E-2,2.0773506000000001E-2,2.2274563000000001E-2,2.3883445999999999E-2,2.5607807999999999E-2,2.7455829000000001E-2,2.9436253999999999E-2,3.1558427999999999E-2,3.3832333999999999E-2,3.6268636E-2,3.8878719999999999E-2,4.1674739000000002E-2,4.4669662999999998E-2,4.7877324999999998E-2,5.1312475000000003E-2,5.4990834000000002E-2,5.8929152999999998E-2,6.3145267000000005E-2,6.7658160999999994E-2,7.2488030999999994E-2,7.7656350999999998E-2,8.318594E-2,8.9101030999999997E-2,9.5427342999999998E-2,0.10219215,0.10942436,0.1171546,0.12541524000000001,0.13424054999999999,0.14366671,0.15373189000000001,0.16447637000000001,0.17594255,0.18817506000000001,0.20122080000000001,0.21512902,0.22995135,0.24574191000000001,0.26255729,0.28045661999999999,0.29950160999999997,0,0,0,0,0,0,0,0,0,0,0,0,0,0,0,0,0]
[null,null,8.3611139999999994E-3,8.9683174000000001E-3,9.6195120999999998E-3,1.0317869E-2,1.1066787E-2,1.1869904000000001E-2,1.273112E-2,1.3654609E-2,1.4644844000000001E-2,1.5706611999999998E-2,1.6845038999999999E-2,1.8065613000000001E-2,1.9374204999999999E-2,2.0777100999999999E-2,2.2281024E-2,2.3893167999999999E-2,2.5621224000000001E-2,2.7473418999999999E-2,2.9458547000000002E-2,3.1586005E-2,3.3865834999999997E-2,3.6308764E-2,3.8926246999999997E-2,4.1730512999999997E-2,4.4734610000000001E-2,4.7952460000000002E-2,5.1398909E-2,5.5089780999999997E-2,5.9041937000000003E-2,6.3273333000000001E-2,6.7803083E-2,7.2651522999999996E-2,7.7840276999999999E-2,8.3392326000000003E-2,8.9332076999999996E-2,9.5685434E-2,0.10247987,0.10974451,0.1175102,0.12580957000000001,0.13467714,0.14414935000000001,0.1542647,0.16506373999999999,0.17658921,0.1888861,0.20200166,0.21598553000000001,0.23088976,0.24676887,0.26367990000000002,0.28168243999999998,0.30083869000000002,0,0,0,0,0,0,0,0,0,0,0,0,0,0,0,0]
[null,null,7.7675254999999997E-3,8.3327222999999995E-3,8.9389537000000002E-3,9.5891854000000002E-3,1.0286595000000001E-2,1.1034588E-2,1.1836810999999999E-2,1.2697173000000001E-2,1.3619859999999999E-2,1.4609356E-2,1.5670460000000001E-2,1.6808315000000001E-2,1.8028422999999998E-2,1.9336676000000001E-2,2.0739377999999999E-2,2.2243277999999998E-2,2.3855591999999998E-2,2.5584040999999998E-2,2.7436881999999999E-2,2.9422943E-2,3.1551659000000003E-2,3.3833112999999998E-2,3.6278077999999998E-2,3.8898057E-2,4.1705335000000003E-2,4.4713020999999999E-2,4.7935101000000001E-2,5.1386491999999999E-2,5.5083096999999998E-2,5.9041861000000001E-2,6.3280832999999995E-2,6.7819227999999995E-2,7.2677491999999996E-2,7.7877365000000004E-2,8.3441956999999997E-2,8.9395814000000004E-2,9.5764988999999995E-2,0.10257711999999999,0.1098615,0.11764916,0.12597294000000001,0.13486756,0.14436969999999999,0.15451809999999999,0.16535358,0.17691915999999999,0.18926009999999999,0.20242399,0.21646080000000001,0.23142291000000001,0.24736522,0.26434514999999997,0.28242272000000002,0.30166052999999998,0,0,0,0,0,0,0,0,0,0,0,0,0,0,0]
[null,null,7.1983760000000003E-3,7.7232109999999998E-3,8.2862328999999992E-3,8.8902084000000003E-3,9.5381029999999992E-3,1.0233094E-2,1.0978587999999999E-2,1.1778234E-2,1.263594E-2,1.3555897000000001E-2,1.4542589999999999E-2,1.5600823999999999E-2,1.6735745E-2,1.7952862999999999E-2,1.9258075999999999E-2,2.0657699000000002E-2,2.2158487000000001E-2,2.3767671000000001E-2,2.5492985999999999E-2,2.7342702E-2,2.9325667E-2,3.1451334999999997E-2,3.3729813999999997E-2,3.6171901999999999E-2,3.8789131999999997E-2,4.1593821000000003E-2,4.4599116000000001E-2,4.7819043999999998E-2,5.1268568E-2,5.4963642E-2,5.8921267999999999E-2,6.3159557000000005E-2,6.7697794000000006E-2,7.2556499999999996E-2,7.7757501000000007E-2,8.3323995999999997E-2,8.9280632999999998E-2,9.5653575000000005E-2,0.10247058000000001,0.10976107,0.11755622,0.12588901999999999,0.13479436,0.14430910999999999,0.15447217999999999,0.16532462000000001,0.17690966,0.18927281000000001,0.20246190999999999,0.2165272,0.23152136000000001,0.24749959999999999,0.26451966999999998,0.28264191999999999,0.30192933,0,0,0,0,0,0,0,0,0,0,0,0,0,0]
[null,null,6.6533371999999997E-3,7.139439E-3,7.6609883000000002E-3,8.2205599000000004E-3,8.8209139999999991E-3,9.4650094999999997E-3,1.0156017999999999E-2,1.0897337999999999E-2,1.1692612E-2,1.2545743999999999E-2,1.3460916E-2,1.4442607999999999E-2,1.549562E-2,1.6625092000000001E-2,1.7836528000000001E-2,1.9135823E-2,2.0529285000000001E-2,2.2023668999999999E-2,2.3626201999999999E-2,2.5344615000000001E-2,2.7187182000000001E-2,2.9162746999999999E-2,3.1280769E-2,3.3551359000000003E-2,3.5985320000000001E-2,3.8594192999999999E-2,4.1390304000000003E-2,4.4386812999999997E-2,4.7597762000000002E-2,5.1038133999999999E-2,5.4723902999999997E-2,5.8672097999999999E-2,6.2900862000000002E-2,6.7429512999999996E-2,7.2278613000000005E-2,7.7470033999999993E-2,8.3027031000000001E-2,8.8974307000000002E-2,9.5338094999999998E-2,0.10214623,0.10942821,0.11721531,0.12554062999999999,0.13443916,0.14394791000000001,0.15410592000000001,0.16495438000000001,0.17653672000000001,0.1888986,0.20208807000000001,0.21615556999999999,0.23115401999999999,0.24713887000000001,0.26416814,0.28230244999999998,0.30160510000000001,0,0,0,0,0,0,0,0,0,0,0,0,0]
[null,null,6.1320274999999997E-3,6.5810045999999999E-3,7.0627974000000001E-3,7.5797955E-3,8.1345614000000004E-3,8.7298425999999991E-3,9.3685847999999995E-3,1.0053945999999999E-2,1.078931E-2,1.1578306E-2,1.2424821000000001E-2,1.3333022999999999E-2,1.4307375000000001E-2,1.5352661E-2,1.6474004E-2,1.7676892E-2,1.8967199000000001E-2,2.035122E-2,2.1835688999999998E-2,2.3427814000000002E-2,2.5135311E-2,2.6966434000000001E-2,2.8930009E-2,3.1035477999999998E-2,3.3292934000000003E-2,3.5713162999999999E-2,3.8307689999999998E-2,4.1088827000000001E-2,4.4069719E-2,4.7264395000000001E-2,5.0687827999999997E-2,5.4355981999999997E-2,5.8285879999999998E-2,6.2495659000000002E-2,6.7004638000000005E-2,7.1833380000000002E-2,7.7003765000000002E-2,8.2539055E-2,8.8463972000000002E-2,9.4804767999999998E-2,0.10158929999999999,0.10884712000000001,0.11660951999999999,0.12490966000000001,0.13378259000000001,0.14326538,0.15339716,0.16421921,0.17577503999999999,0.18811046000000001,0.20127363000000001,0.21531513999999999,0.23028807000000001,0.24624805,0.26325327999999998,0.28136462000000001,0.30064558000000002,0,0,0,0,0,0,0,0,0,0,0,0]
[null,null,5.6340186000000004E-3,6.0474561000000001E-3,6.4911837E-3,6.9674130000000004E-3,7.4785160999999998E-3,8.0270371000000004E-3,8.6157037999999991E-3,9.2474415999999997E-3,9.9253867999999999E-3,1.0652902000000001E-2,1.1433591999999999E-2,1.2271318999999999E-2,1.3170227E-2,1.4134750999999999E-2,1.5169647E-2,1.6280010000000001E-2,1.7471297E-2,1.8749353E-2,2.0120437000000001E-2,2.1591251999999998E-2,2.3168971E-2,2.4861273999999999E-2,2.6676376000000002E-2,2.8623069000000001E-2,3.0710754E-2,3.2949483000000002E-2,3.5350002999999998E-2,3.7923797000000002E-2,4.0683135000000002E-2,4.3641118999999999E-2,4.6811736999999999E-2,5.0209916E-2,5.3851581000000003E-2,5.7753710999999999E-2,6.1934401E-2,6.6412930999999994E-2,7.1209824000000005E-2,7.6346921999999998E-2,8.1847454E-2,8.7736107999999993E-2,9.4039108999999996E-2,0.10078429,0.10800116999999999,0.11572105000000001,0.12397706,0.13280427,0.14223973000000001,0.15232259000000001,0.16309417000000001,0.17459801,0.18687994999999999,0.19998822999999999,0.21397348999999999,0.22888892,0.24479023999999999,0.26173576999999998,0.27978650999999999,0.29900611999999999,0,0,0,0,0,0,0,0,0,0,0]
[null,null,5.1588412E-3,5.5382977E-3,5.9456237000000004E-3,6.3828597000000001E-3,6.8521948999999997E-3,7.3559773999999998E-3,7.8967259999999997E-3,8.477142E-3,9.1001226999999994E-3,9.7687749000000008E-3,1.048643E-2,1.125666E-2,1.2083294E-2,1.2970437E-2,1.3922488E-2,1.4944163E-2,1.6040515000000002E-2,1.7216957000000001E-2,1.8479288E-2,1.9833719E-2,2.1286902E-2,2.2845958999999999E-2,2.4518514000000002E-2,2.6312727000000001E-2,2.8237327E-2,3.0301656E-2,3.2515702E-2,3.4890143999999998E-2,3.7436399000000002E-2,4.0166663999999998E-2,4.3093968000000003E-2,4.6232225000000002E-2,4.9596286000000003E-2,5.3201995000000002E-2,5.7066250999999998E-2,6.1207070000000002E-2,6.5643646E-2,7.0396421000000001E-2,7.5487152000000002E-2,8.0938984000000005E-2,8.6776521999999995E-2,9.3025908000000004E-2,9.9714894999999998E-2,0.10687293,0.11453122,0.12272284,0.13148277999999999,0.14084804000000001,0.15085772,0.16155306999999999,0.17297761,0.18517713999999999,0.19819987999999999,0.21209648,0.22692013,0.24272656000000001,0.25957415,0.27752394000000002,0.29663968000000002,0,0,0,0,0,0,0,0,0,0]
[null,null,4.7059911999999997E-3,5.0529959000000001E-3,5.4255531000000001E-3,5.8255390999999998E-3,6.2549672000000002E-3,6.7159975000000002E-3,7.2109477000000003E-3,7.7423042000000003E-3,8.3127341E-3,8.9250983999999995E-3,9.5824657000000008E-3,1.0288126999999999E-2,1.1045611E-2,1.1858703E-2,1.273146E-2,1.366823E-2,1.4673678000000001E-2,1.5752799000000001E-2,1.6910947999999999E-2,1.8153863999999999E-2,1.9487691000000001E-2,2.0919014999999999E-2,2.2454886E-2,2.4102852000000001E-2,2.5870994000000001E-2,2.7767961000000001E-2,2.9803006999999999E-2,3.1986030999999998E-2,3.4327617999999997E-2,3.6839087E-2,3.9532535000000001E-2,4.2420883E-2,4.5517937000000001E-2,4.8838433000000001E-2,5.2398100000000003E-2,5.6213713999999998E-2,6.0303165999999998E-2,6.4685521999999995E-2,6.9381094000000004E-2,7.4411505000000003E-2,7.9799761999999996E-2,8.5570331999999999E-2,9.1749216999999994E-2,9.8364030000000005E-2,0.10544407,0.11302042,0.12112599,0.12979565000000001,0.13906626999999999,0.14897679999999999,0.15956838000000001,0.17088439999999999,0.18297057,0.19587499,0.20964822,0.22434336999999999,0.24001612,0.25672478999999998,0.27453040000000001,0.29349668000000001,0,0,0,0,0,0,0,0,0]
[null,null,4.2749347E-3,4.5909853000000002E-3,4.9303732999999997E-3,5.2948172999999999E-3,5.6861621999999999E-3,6.1063877999999999E-3,6.5576187999999997E-3,7.0421351000000002E-3,7.5623829000000002E-3,8.1209873000000002E-3,8.7207642999999994E-3,9.3647347999999998E-3,1.005614E-2,1.0798455E-2,1.1595408E-2,1.2450996000000001E-2,1.3369506999999999E-2,1.4355536E-2,1.5414008999999999E-2,1.6550207000000001E-2,1.7769789000000001E-2,1.907882E-2,2.0483794999999999E-2,2.1991672E-2,2.3609906E-2,2.5346474000000001E-2,2.7209918999999999E-2,2.9209382999999998E-2,3.1354646999999999E-2,3.3656172999999998E-2,3.6125152000000001E-2,3.8773545E-2,4.1614133999999997E-2,4.4660576E-2,4.7927456E-2,5.1430343000000003E-2,5.5185850000000002E-2,5.9211695000000002E-2,6.3526768999999997E-2,6.8151199999999995E-2,7.3106423000000004E-2,7.8415253000000004E-2,8.4101959000000004E-2,9.0192339999999996E-2,9.6713802000000001E-2,0.10369544,0.11116811,0.11916454,0.12771935000000001,0.13686922000000001,0.14665288000000001,0.15711126,0.16828755000000001,0.18022726,0.19297829,0.20659103000000001,0.22111842000000001,0.23661597000000001,0.25314186999999999,0.27075700000000003,0.28952497999999999,0,0,0,0,0,0,0,0]
[null,null,3.8651133E-3,4.1516738999999997E-3,4.4594565999999999E-3,4.7900293999999996E-3,5.1450756E-3,5.5264023000000002E-3,5.9359492999999999E-3,6.3757985E-3,6.8481847E-3,7.3555061999999996E-3,7.9003369000000007E-3,8.4854387000000003E-3,9.1137752999999998E-3,9.7885262999999993E-3,1.0513102999999999E-2,1.1291165000000001E-2,1.2126638E-2,1.3023730000000001E-2,1.3986957E-2,1.5021158999999999E-2,1.6131526E-2,1.7323620000000001E-2,1.8603403000000001E-2,1.9977265000000001E-2,2.1452051E-2,2.3035093999999999E-2,2.4734246000000001E-2,2.6557918E-2,2.8515110999999999E-2,3.0615460000000001E-2,3.2869271999999998E-2,3.5287576000000001E-2,3.7882163000000003E-2,4.0665636999999998E-2,4.3651468999999998E-2,4.6854048000000002E-2,5.0288740999999998E-2,5.3971947999999999E-2,5.7921168000000002E-2,6.2155061999999997E-2,6.6693521000000006E-2,7.1557733999999998E-2,7.6770262000000006E-2,8.2355112999999994E-2,8.8337816E-2,9.4745501999999995E-2,0.10160698,0.10895283,0.11681547,0.12522924999999999,0.13423051,0.14385772999999999,0.15415150999999999,0.16515474999999999,0.17691265,0.18947285,0.20288544999999999,0.21720310000000001,0.23248107000000001,0.24877730000000001,0.26615243,0.28466987999999999,0,0,0,0,0,0,0]
[null,null,3.4759494E-3,3.7344485999999998E-3,4.0121525999999999E-3,4.3104852999999999E-3,4.6309756000000001E-3,4.9752651999999996E-3,5.3451169999999999E-3,5.7424234999999997E-3,6.1692166999999997E-3,6.6276781000000002E-3,7.1201494999999998E-3,7.6491444000000002E-3,8.2173611000000008E-3,8.8276950999999996E-3,9.4832541999999992E-3,1.0187373E-2,1.0943629999999999E-2,1.1755864E-2,1.2628192999999999E-2,1.3565034E-2,1.4571126E-2,1.5651549000000001E-2,1.6811751E-2,1.8057572000000001E-2,1.9395272000000002E-2,2.0831559999999999E-2,2.2373625000000001E-2,2.4029167000000001E-2,2.5806435999999999E-2,2.7714263999999999E-2,2.9762106999999999E-2,3.1960085999999999E-2,3.431903E-2,3.6850521999999997E-2,3.9566951000000003E-2,4.2481558000000003E-2,4.5608491000000001E-2,4.8962868E-2,5.2560824999999999E-2,5.6419589999999999E-2,6.0557538000000001E-2,6.4994262999999997E-2,6.9750646999999999E-2,7.4848932000000007E-2,8.0312795000000006E-2,8.6167427000000005E-2,9.2439604999999994E-2,9.9157782E-2,0.10635216,0.11405479,0.12229963000000001,0.13112264000000001,0.14056188,0.15065759000000001,0.16145224,0.17299067000000001,0.18532008,0.19849021,0.21255333000000001,0.22756431999999999,0.24358078,0.26066298999999998,0.27887406999999997,0,0,0,0,0,0]
[null,null,3.1068508999999998E-3,3.3386804999999999E-3,3.5877934999999999E-3,3.855476E-3,4.1431094E-3,4.4521776000000001E-3,4.7842741999999999E-3,5.1411108000000002E-3,5.5245255000000004E-3,5.9364923999999999E-3,6.3791311000000002E-3,6.8547178E-3,7.3656961000000002E-3,7.9146897999999993E-3,8.5045156999999996E-3,9.1381974000000008E-3,9.8189803999999999E-3,1.0550347999999999E-2,1.1336038E-2,1.2180063E-2,1.3086726E-2,1.4060644000000001E-2,1.5106771E-2,1.6230418999999999E-2,1.7437284000000001E-2,1.8733474999999999E-2,2.0125539000000001E-2,2.1620495999999999E-2,2.3225866000000001E-2,2.4949708000000001E-2,2.6800654E-2,2.8787948000000001E-2,3.0921488E-2,3.3211866E-2,3.5670420000000001E-2,3.8309274999999997E-2,4.1141400000000002E-2,4.4180655999999999E-2,4.7441858000000003E-2,5.0940829E-2,5.4694463999999998E-2,5.8720794999999999E-2,6.3039055999999996E-2,6.7669755999999998E-2,7.2634747E-2,7.7957305000000005E-2,8.3662199000000007E-2,8.9775779999999999E-2,9.6326052999999995E-2,0.10334277,0.11085749,0.11890372,0.12751692000000001,0.13673466000000001,0.14659665999999999,0.1571449,0.16842370000000001,0.18047977000000001,0.19336233,0.20712315000000001,0.22181661999999999,0.23749986000000001,0.25423269999999998,0.27207778999999999,0,0,0,0,0]
[null,null,2.7572168000000001E-3,2.9637305000000001E-3,3.1856998E-3,3.4242792000000002E-3,3.6807097000000001E-3,3.9563241999999998E-3,4.2525551999999999E-3,4.5709412000000003E-3,4.9131354E-3,5.2809136000000001E-3,5.6761833000000001E-3,6.1009936000000001E-3,6.5575451000000002E-3,7.0482015000000002E-3,7.5755012999999998E-3,8.1421702999999995E-3,8.7511354999999999E-3,9.4055399000000008E-3,1.0108756999999999E-2,1.086441E-2,1.1676386E-2,1.2548858E-2,1.3486305000000001E-2,1.4493531E-2,1.5575692E-2,1.6738319000000002E-2,1.7987343999999999E-2,1.9329127000000002E-2,2.0770489E-2,2.2318742999999999E-2,2.3981725999999998E-2,2.5767834E-2,2.7686064999999999E-2,2.9746055E-2,3.1958121999999999E-2,3.4333311999999998E-2,3.6883445000000001E-2,3.9621165999999999E-2,4.2560001E-2,4.5714406999999999E-2,4.9099835000000001E-2,5.2732791000000001E-2,5.6630897999999999E-2,6.0812962999999998E-2,6.5299048999999998E-2,7.0110547999999995E-2,7.5270250999999996E-2,8.0802428999999995E-2,8.6732913999999994E-2,9.3089177999999995E-2,9.9900418000000005E-2,0.10719764,0.11501374,0.12338362,0.13234420999999999,0.14193464,0.15219626,0.16317275000000001,0.17491019999999999,0.18745719,0.20086487,0.21518702000000001,0.23048010999999999,0.24680342,0.26421899999999998,0,0,0,0]
[null,null,2.4264426999999998E-3,2.6089555000000002E-3,2.8051869000000002E-3,3.0161668000000001E-3,3.2430016999999999E-3,3.4868811999999999E-3,3.7490837000000001E-3,4.0309832999999998E-3,4.3340564000000003E-3,4.6598899000000003E-3,5.0101889000000004E-3,5.3867856999999996E-3,5.7916490999999999E-3,6.2268942000000002E-3,6.6947936999999999E-3,7.1977891E-3,7.7385029999999999E-3,8.3197524999999994E-3,8.9445633999999993E-3,9.6161853999999995E-3,1.0338108E-2,1.1114079000000001E-2,1.1948121000000001E-2,1.2844553999999999E-2,1.3808014E-2,1.4843476E-2,1.5956281999999999E-2,1.715216E-2,1.8437258000000002E-2,1.981817E-2,2.1301967000000002E-2,2.2896231E-2,2.4609091E-2,2.6449257E-2,2.8426065E-2,3.0549514E-2,3.2830314999999999E-2,3.5279933999999999E-2,3.7910644E-2,4.0735577000000002E-2,4.3768778000000001E-2,4.7025264999999997E-2,5.0521088999999998E-2,5.4273397000000001E-2,5.8300498999999999E-2,6.2621937000000003E-2,6.7258558999999996E-2,7.2232591999999998E-2,7.7567718999999993E-2,8.3289163999999999E-2,8.9423766000000002E-2,9.6000070000000007E-2,0.10304840999999999,0.110601,0.11869201,0.12735768,0.13663637000000001,0.1465687,0.15719759,0.16856835000000001,0.18072882000000001,0.19372935999999999,0.207623,0.22246547,0.23831527999999999,0.25523378000000002,0,0,0]
[null,null,2.1139279000000001E-3,2.2737149999999999E-3,2.4455726999999998E-3,2.6304116999999998E-3,2.8292110999999999E-3,3.0430239E-3,3.2729819999999998E-3,3.5203026000000001E-3,3.7862941E-3,4.0723633000000004E-3,4.3800226000000001E-3,4.7108975999999997E-3,5.0667361000000001E-3,5.4494163E-3,5.8609574999999997E-3,6.3035295999999998E-3,6.7794648000000001E-3,7.2912693000000001E-3,7.8416362999999996E-3,8.4334596999999997E-3,9.0698484999999999E-3,9.7541429000000002E-3,1.0489930999999999E-2,1.1281067000000001E-2,1.2131688999999999E-2,1.3046244E-2,1.4029504E-2,1.5086591999999999E-2,1.6223010999999999E-2,1.7444662E-2,1.8757883E-2,2.0169471000000001E-2,2.1686719E-2,2.3317445999999999E-2,2.5070041000000001E-2,2.6953494000000001E-2,2.8977441999999999E-2,3.1152211999999999E-2,3.3488865E-2,3.5999246999999998E-2,3.8696040000000001E-2,4.1592817999999997E-2,4.4704098999999997E-2,4.8045413000000002E-2,5.1633357999999997E-2,5.5485670000000001E-2,5.9621292999999999E-2,6.4060444999999994E-2,6.8824701000000002E-2,7.3937063999999997E-2,7.9422047999999995E-2,8.5305758999999995E-2,9.1615984999999997E-2,9.8382275000000005E-2,0.10563603000000001,0.1134106,0.12174137,0.13066584000000001,0.14022372999999999,0.15045707,0.16141027999999999,0.17313027,0.18566648999999999,0.19907105999999999,0.2133988,0.22870735,0.24505716999999999,0,0]
[null,null,1.8190843E-3,1.9573812999999999E-3,2.1061869000000002E-3,2.2662987000000002E-3,2.4385748E-3,2.6239381000000002E-3,2.8233815E-3,3.0379729000000002E-3,3.2688611000000001E-3,3.5172815999999999E-3,3.7845633E-3,4.0721352999999998E-3,4.3815347999999997E-3,4.7144146999999999E-3,5.0725526000000003E-3,5.4578602000000002E-3,5.8723925999999999E-3,6.3183598000000002E-3,6.7981379E-3,7.3142811000000002E-3,7.8695354000000006E-3,8.4668525000000001E-3,9.1094048E-3,9.8006020000000003E-3,1.0544108E-2,1.1343861E-2,1.2204089E-2,1.3129339E-2,1.4124490999999999E-2,1.5194787E-2,1.634586E-2,1.7583752000000001E-2,1.8914954000000001E-2,2.0346431000000002E-2,2.1885658999999998E-2,2.3540657E-2,2.5320028000000001E-2,2.7232998000000001E-2,2.928946E-2,3.1500016999999998E-2,3.3876031000000001E-2,3.6429675000000002E-2,3.9173984000000002E-2,4.2122913999999997E-2,4.5291399000000003E-2,4.8695413999999999E-2,5.2352041000000002E-2,5.6279539000000003E-2,6.0497411000000001E-2,6.5026482999999996E-2,6.9888980000000003E-2,7.5108604999999995E-2,8.0710623999999995E-2,8.6721950000000006E-2,9.3171230999999993E-2,0.10008894,0.10750746999999999,0.11546120999999999,0.12398666,0.13312252999999999,0.14290979000000001,0.15339180999999999,0.16461443000000001,0.17662604000000001,0.18947768000000001,0.20322312000000001,0.21791893000000001,0.23362453999999999,0]
[null,null,1.541349E-3,1.6593516999999999E-3,1.7863845E-3,1.9231377999999999E-3,2.0703545000000001E-3,2.2288344E-3,2.3994381999999999E-3,2.5830924000000001E-3,2.7807937E-3,2.9936151999999999E-3,3.2227113000000002E-3,3.4693246E-3,3.7347920999999998E-3,4.0205522999999998E-3,4.3281533999999997E-3,4.6592608000000004E-3,5.0156666000000004E-3,5.3992985999999996E-3,5.8122310000000002E-3,6.2566948000000004E-3,6.7350899000000004E-3,7.2499979000000001E-3,7.8041949000000003E-3,8.4006668999999992E-3,9.0426246000000002E-3,9.7335206000000001E-3,1.0477067E-2,1.1277254E-2,1.2138371E-2,1.306503E-2,1.4062185E-2,1.513516E-2,1.6289675999999999E-2,1.7531878000000001E-2,1.8868365000000002E-2,2.0306225000000001E-2,2.1853068E-2,2.3517061999999998E-2,2.5306973E-2,2.7232205999999998E-2,2.9302849999999998E-2,3.1529726000000001E-2,3.3924431999999997E-2,3.6499402E-2,3.9267953000000001E-2,4.2244351999999999E-2,4.5443870999999997E-2,4.8882856000000002E-2,5.2578791999999999E-2,5.6550375E-2,6.0817585E-2,6.5401764000000001E-2,7.0325700000000005E-2,7.5613701000000005E-2,8.1291691999999999E-2,8.7387295000000004E-2,9.3929922999999999E-2,0.10095088000000001,0.10848343000000001,0.11656294,0.12522691,0.13451515999999999,0.14446981,0.15513550000000001,0.16655938000000001,0.17879126000000001,0.19188367000000001,0.20589197000000001,0.2208744]

{"sheet":"9% 11-18-18","index":1,"n_rows":21,"n_cols":22,"rows_kept":21,"cut":false,"hidden":false,"merged":[]}
[null,{"$f":"(0.5*B2+0.5*C2)/(1+'rate tree'!C1*17/365)","v":142.50236215262112}]
[null,{"$f":"(0.5*B3+0.5*C3)/(1+'rate tree'!C2/2)+4.5","v":143.72082174419472},{"$f":"(0.5*C3+0.5*D3)/(1+'rate tree'!D2/2)+4.5","v":141.35027352424183}]
[null,{"$f":"(0.5*B4+0.5*C4)/(1+'rate tree'!C3/2)+4.5","v":140.88788425753339},{"$f":"(0.5*C4+0.5*D4)/(1+'rate tree'!D3/2)+4.5","v":138.62395616137192},{"$f":"(0.5*D4+0.5*E4)/(1+'rate tree'!E3/2)+4.5","v":136.26425334843651}]
[null,{"$f":"(0.5*B5+0.5*C5)/(1+'rate tree'!C4/2)+4.5","v":138.33385484406219},{"$f":"(0.5*C5+0.5*D5)/(1+'rate tree'!D4/2)+4.5","v":136.17199234615686},{"$f":"(0.5*D5+0.5*E5)/(1+'rate tree'!E4/2)+4.5","v":133.91712616688983},{"$f":"(0.5*E5+0.5*F5)/(1+'rate tree'!F4/2)+4.5","v":131.56882956257328}]
[null,{"$f":"(0.5*B6+0.5*C6)/(1+'rate tree'!C5/2)+4.5","v":136.01863348503025},{"$f":"(0.5*C6+0.5*D6)/(1+'rate tree'!D5/2)+4.5","v":133.958057096506},{"$f":"(0.5*D6+0.5*E6)/(1+'rate tree'!E5/2)+4.5","v":131.80630596345972},{"$f":"(0.5*E6+0.5*F6)/(1+'rate tree'!F5/2)+4.5","v":129.5625450671717},{"$f":"(0.5*F6+0.5*G6)/(1+'rate tree'!G5/2)+4.5","v":127.22651649909258}]
[null,{"$f":"(0.5*B7+0.5*C7)/(1+'rate tree'!C6/2)+4.5","v":133.88555847409089},{"$f":"(0.5*C7+0.5*D7)/(1+'rate tree'!D6/2)+4.5","v":131.93409592603481},{"$f":"(0.5*D7+0.5*E7)/(1+'rate tree'!E6/2)+4.5","v":129.89360699862158},{"$f":"(0.5*E7+0.5*F7)/(1+'rate tree'!F6/2)+4.5","v":127.76277967248811},{"$f":"(0.5*F7+0.5*G7)/(1+'rate tree'!G6/2)+4.5","v":125.54095500973978},{"$f":"(0.5*G7+0.5*H7)/(1+'rate tree'!H6/2)+4.5","v":123.22792964287196}]
[null,{"$f":"(0.5*B8+0.5*C8)/(1+'rate tree'!C7/2)+4.5","v":131.88271688824409},{"$f":"(0.5*C8+0.5*D8)/(1+'rate tree'!D7/2)+4.5","v":130.05031644540844},{"$f":"(0.5*D8+0.5*E8)/(1+'rate tree'!E7/2)+4.5","v":128.13181270666598},{"$f":"(0.5*E8+0.5*F8)/(1+'rate tree'!F7/2)+4.5","v":126.12530497044206},{"$f":"(0.5*F8+0.5*G8)/(1+'rate tree'!G7/2)+4.5","v":124.02974775340036},{"$f":"(0.5*G8+0.5*H8)/(1+'rate tree'!H7/2)+4.5","v":121.84449424875217},{"$f":"(0.5*H8+0.5*I8)/(1+'rate tree'!I7/2)+4.5","v":119.56934911158915}]
[null,{"$f":"(0.5*B9+0.5*C9)/(1+'rate tree'!C8/2)+4.5","v":129.96604678523755},{"$f":"(0.5*C9+0.5*D9)/(1+'rate tree'!D8/2)+4.5","v":128.26187037266965},{"$f":"(0.5*D9+0.5*E9)/(1+'rate tree'!E8/2)+4.5","v":126.47554639374034},{"$f":"(0.5*E9+0.5*F9)/(1+'rate tree'!F8/2)+4.5","v":124.60435669382052},{"$f":"(0.5*F9+0.5*G9)/(1+'rate tree'!G8/2)+4.5","v":122.64690249890181},{"$f":"(0.5*G9+0.5*H9)/(1+'rate tree'!H8/2)+4.5","v":120.60212273916008},{"$f":"(0.5*H9+0.5*I9)/(1+'rate tree'!I8/2)+4.5","v":118.46934419701373},{"$f":"(0.5*I9+0.5*J9)/(1+'rate tree'!J8/2)+4.5","v":116.24833279992534}]
[null,{"$f":"(0.5*B10+0.5*C10)/(1+'rate tree'!C9/2)+4.5","v":128.0931680720972},{"$f":"(0.5*C10+0.5*D10)/(1+'rate tree'!D9/2)+4.5","v":126.52402539459275},{"$f":"(0.5*D10+0.5*E10)/(1+'rate tree'!E9/2)+4.5","v":124.87798353334513},{"$f":"(0.5*E10+0.5*F10)/(1+'rate tree'!F9/2)+4.5","v":123.15101877454936},{"$f":"(0.5*F10+0.5*G10)/(1+'rate tree'!G9/2)+4.5","v":121.34142787824456},{"$f":"(0.5*G10+0.5*H10)/(1+'rate tree'!H9/2)+4.5","v":119.4477827571946},{"$f":"(0.5*H10+0.5*I10)/(1+'rate tree'!I9/2)+4.5","v":117.46897648030259},{"$f":"(0.5*I10+0.5*J10)/(1+'rate tree'!J9/2)+4.5","v":115.40427144366707},{"$f":"(0.5*J10+0.5*K10)/(1+'rate tree'!K9/2)+4.5","v":113.25334932141048}]
[null,{"$f":"(0.5*B11+0.5*C11)/(1+'rate tree'!C10/2)+4.5","v":126.24593943672335},{"$f":"(0.5*C11+0.5*D11)/(1+'rate tree'!D10/2)+4.5","v":124.81678432504896},{"$f":"(0.5*D11+0.5*E11)/(1+'rate tree'!E10/2)+4.5","v":123.31780189891926},{"$f":"(0.5*E11+0.5*F11)/(1+'rate tree'!F10/2)+4.5","v":121.74262774100019},{"$f":"(0.5*F11+0.5*G11)/(1+'rate tree'!G10/2)+4.5","v":120.08931443946855},{"$f":"(0.5*G11+0.5*H11)/(1+'rate tree'!H10/2)+4.5","v":118.35612772816421},{"$f":"(0.5*H11+0.5*I11)/(1+'rate tree'!I10/2)+4.5","v":116.54158711361282},{"$f":"(0.5*I11+0.5*J11)/(1+'rate tree'!J10/2)+4.5","v":114.64450966769442},{"$f":"(0.5*J11+0.5*K11)/(1+'rate tree'!K10/2)+4.5","v":112.66405574110375},{"$f":"(0.5*K11+0.5*L11)/(1+'rate tree'!L10/2)+4.5","v":110.59977713778662}]
[null,{"$f":"(0.5*B12+0.5*C12)/(1+'rate tree'!C11/2)+4.5","v":124.39398861777541},{"$f":"(0.5*C12+0.5*D12)/(1+'rate tree'!D11/2)+4.5","v":123.10654831260536},{"$f":"(0.5*D12+0.5*E12)/(1+'rate tree'!E11/2)+4.5","v":121.7592367396814},{"$f":"(0.5*E12+0.5*F12)/(1+'rate tree'!F11/2)+4.5","v":120.34118799637149},{"$f":"(0.5*F12+0.5*G12)/(1+'rate tree'!G11/2)+4.5","v":118.85028129519586},{"$f":"(0.5*G12+0.5*H12)/(1+'rate tree'!H11/2)+4.5","v":117.28454921969616},{"$f":"(0.5*H12+0.5*I12)/(1+'rate tree'!I11/2)+4.5","v":115.64221304979368},{"$f":"(0.5*I12+0.5*J12)/(1+'rate tree'!J11/2)+4.5","v":113.92172089421172},{"$f":"(0.5*J12+0.5*K12)/(1+'rate tree'!K11/2)+4.5","v":112.12178832561544},{"$f":"(0.5*K12+0.5*L12)/(1+'rate tree'!L11/2)+4.5","v":110.24144145763695},{"$f":"(0.5*L12+0.5*M12)/(1+'rate tree'!M11/2)+4.5","v":108.28006241540311}]
[null,{"$f":"(0.5*B13+0.5*C13)/(1+'rate tree'!C12/2)+4.5","v":122.52405168207517},{"$f":"(0.5*C13+0.5*D13)/(1+'rate tree'!D12/2)+4.5","v":121.37653766351576},{"$f":"(0.5*D13+0.5*E13)/(1+'rate tree'!E12/2)+4.5","v":120.18425468122783},{"$f":"(0.5*E13+0.5*F13)/(1+'rate tree'!F12/2)+4.5","v":118.92737051068912},{"$f":"(0.5*F13+0.5*G13)/(1+'rate tree'!G12/2)+4.5","v":117.60366861113732},{"$f":"(0.5*G13+0.5*H13)/(1+'rate tree'!H12/2)+4.5","v":116.21103112329128},{"$f":"(0.5*H13+0.5*I13)/(1+'rate tree'!I12/2)+4.5","v":114.74746797780027},{"$f":"(0.5*I13+0.5*J13)/(1+'rate tree'!J12/2)+4.5","v":113.21114887120099},{"$f":"(0.5*J13+0.5*K13)/(1+'rate tree'!K12/2)+4.5","v":111.6004378524236},{"$f":"(0.5*K13+0.5*L13)/(1+'rate tree'!L12/2)+4.5","v":109.91393054375965},{"$f":"(0.5*L13+0.5*M13)/(1+'rate tree'!M12/2)+4.5","v":108.15049382912413},{"$f":"(0.5*M13+0.5*N13)/(1+'rate tree'!N12/2)+4.5","v":106.30930793316563}]
[null,{"$f":"(0.5*B14+0.5*C14)/(1+'rate tree'!C13/2)+4.5","v":120.6081384242481},{"$f":"(0.5*C14+0.5*D14)/(1+'rate tree'!D13/2)+4.5","v":119.59191617658658},{"$f":"(0.5*D14+0.5*E14)/(1+'rate tree'!E13/2)+4.5","v":118.5557804305531},{"$f":"(0.5*E14+0.5*F14)/(1+'rate tree'!F13/2)+4.5","v":117.46176782121172},{"$f":"(0.5*F14+0.5*G14)/(1+'rate tree'!G13/2)+4.5","v":116.30764936052728},{"$f":"(0.5*G14+0.5*H14)/(1+'rate tree'!H13/2)+4.5","v":115.09124668705626},{"$f":"(0.5*H14+0.5*I14)/(1+'rate tree'!I13/2)+4.5","v":113.81045511590419},{"$f":"(0.5*I14+0.5*J14)/(1+'rate tree'!J13/2)+4.5","v":112.46326900891422},{"$f":"(0.5*J14+0.5*K14)/(1+'rate tree'!K13/2)+4.5","v":111.04781005451852},{"$f":"(0.5*K14+0.5*L14)/(1+'rate tree'!L13/2)+4.5","v":109.56235769226052},{"$f":"(0.5*L14+0.5*M14)/(1+'rate tree'!M13/2)+4.5","v":108.00538233419636},{"$f":"(0.5*M14+0.5*N14)/(1+'rate tree'!N13/2)+4.5","v":106.37558114261404},{"$f":"(0.5*N14+0.5*O14)/(1+'rate tree'!O13/2)+4.5","v":104.67191586342956}]
[null,{"$f":"(0.5*B15+0.5*C15)/(1+'rate tree'!C14/2)+4.5","v":118.64531825682499},{"$f":"(0.5*C15+0.5*D15)/(1+'rate tree'!D14/2)+4.5","v":117.74126464206257},{"$f":"(0.5*D15+0.5*E15)/(1+'rate tree'!E14/2)+4.5","v":116.86143804579565},{"$f":"(0.5*E15+0.5*F15)/(1+'rate tree'!F14/2)+4.5","v":115.93099622400588},{"$f":"(0.5*F15+0.5*G15)/(1+'rate tree'!G14/2)+4.5","v":114.94778347129106},{"$f":"(0.5*G15+0.5*H15)/(1+'rate tree'!H14/2)+4.5","v":113.90965524005554},{"$f":"(0.5*H15+0.5*I15)/(1+'rate tree'!I14/2)+4.5","v":112.81449483773872},{"$f":"(0.5*I15+0.5*J15)/(1+'rate tree'!J14/2)+4.5","v":111.66023260680534},{"$f":"(0.5*J15+0.5*K15)/(1+'rate tree'!K14/2)+4.5","v":110.4448675322013},{"$f":"(0.5*K15+0.5*L15)/(1+'rate tree'!L14/2)+4.5","v":109.16649062299236},{"$f":"(0.5*L15+0.5*M15)/(1+'rate tree'!M14/2)+4.5","v":107.82331135340571},{"$f":"(0.5*M15+0.5*N15)/(1+'rate tree'!N14/2)+4.5","v":106.41368603338039},{"$f":"(0.5*N15+0.5*O15)/(1+'rate tree'!O14/2)+4.5","v":104.93614866672932},{"$f":"(0.5*O15+0.5*P15)/(1+'rate tree'!P14/2)+4.5","v":103.38944422409102}]
[null,{"$f":"(0.5*B16+0.5*C16)/(1+'rate tree'!C15/2)+4.5","v":116.6403542619793},{"$f":"(0.5*C16+0.5*D16)/(1+'rate tree'!D15/2)+4.5","v":115.80869458903115},{"$f":"(0.5*D16+0.5*E16)/(1+'rate tree'!E15/2)+4.5","v":115.08414574755093},{"$f":"(0.5*E16+0.5*F16)/(1+'rate tree'!F15/2)+4.5","v":114.31671240945133},{"$f":"(0.5*F16+0.5*G16)/(1+'rate tree'!G15/2)+4.5","v":113.5043990772398},{"$f":"(0.5*G16+0.5*H16)/(1+'rate tree'!H15/2)+4.5","v":112.64519134597167},{"$f":"(0.5*H16+0.5*I16)/(1+'rate tree'!I15/2)+4.5","v":111.73706727807519},{"$f":"(0.5*I16+0.5*J16)/(1+'rate tree'!J15/2)+4.5","v":110.77801030682225},{"$f":"(0.5*J16+0.5*K16)/(1+'rate tree'!K15/2)+4.5","v":109.76602459706781},{"$f":"(0.5*K16+0.5*L16)/(1+'rate tree'!L15/2)+4.5","v":108.69915176072448},{"$f":"(0.5*L16+0.5*M16)/(1+'rate tree'!M15/2)+4.5","v":107.57548980907661},{"$f":"(0.5*M16+0.5*N16)/(1+'rate tree'!N15/2)+4.5","v":106.39321467948788},{"$f":"(0.5*N16+0.5*O16)/(1+'rate tree'!O15/2)+4.5","v":105.15060287830595},{"$f":"(0.5*O16+0.5*P16)/(1+'rate tree'!P15/2)+4.5","v":103.84605758149942},{"$f":"(0.5*P16+0.5*Q16)/(1+'rate tree'!Q15/2)+4.5","v":102.47813583136958}]
[null,{"$f":"(0.5*B17+0.5*C17)/(1+'rate tree'!C16/2)+4.5","v":114.62039009224797},{"$f":"(0.5*C17+0.5*D17)/(1+'rate tree'!D16/2)+4.5","v":113.78053963031884},{"$f":"(0.5*D17+0.5*E17)/(1+'rate tree'!E16/2)+4.5","v":113.2091315402738},{"$f":"(0.5*E17+0.5*F17)/(1+'rate tree'!F16/2)+4.5","v":112.60296433144741},{"$f":"(0.5*F17+0.5*G17)/(1+'rate tree'!G16/2)+4.5","v":111.96028842761373},{"$f":"(0.5*G17+0.5*H17)/(1+'rate tree'!H16/2)+4.5","v":111.27931603387805},{"$f":"(0.5*H17+0.5*I17)/(1+'rate tree'!I16/2)+4.5","v":110.55822760327744},{"$f":"(0.5*I17+0.5*J17)/(1+'rate tree'!J16/2)+4.5","v":109.79517991705286},{"$f":"(0.5*J17+0.5*K17)/(1+'rate tree'!K16/2)+4.5","v":108.988314959381},{"$f":"(0.5*K17+0.5*L17)/(1+'rate tree'!L16/2)+4.5","v":108.13577122892409},{"$f":"(0.5*L17+0.5*M17)/(1+'rate tree'!M16/2)+4.5","v":107.23569551448274},{"$f":"(0.5*M17+0.5*N17)/(1+'rate tree'!N16/2)+4.5","v":106.28625742390659},{"$f":"(0.5*N17+0.5*O17)/(1+'rate tree'!O16/2)+4.5","v":105.28566465060428},{"$f":"(0.5*O17+0.5*P17)/(1+'rate tree'!P16/2)+4.5","v":104.23218095219514},{"$f":"(0.5*P17+0.5*Q17)/(1+'rate tree'!Q16/2)+4.5","v":103.12414550209829},{"$f":"(0.5*Q17+0.5*R17)/(1+'rate tree'!R16/2)+4.5","v":101.95999425249117}]
[null,{"$f":"(0.5*B18+0.5*C18)/(1+'rate tree'!C17/2)+4.5","v":112.64888884495313},{"$f":"(0.5*C18+0.5*D18)/(1+'rate tree'!D17/2)+4.5","v":111.63790674173312},{"$f":"(0.5*D18+0.5*E18)/(1+'rate tree'!E17/2)+4.5","v":111.21602181663282},{"$f":"(0.5*E18+0.5*F18)/(1+'rate tree'!F17/2)+4.5","v":110.76779160751913},{"$f":"(0.5*F18+0.5*G18)/(1+'rate tree'!G17/2)+4.5","v":110.29179389149851},{"$f":"(0.5*G18+0.5*H18)/(1+'rate tree'!H17/2)+4.5","v":109.78656012278439},{"$f":"(0.5*H18+0.5*I18)/(1+'rate tree'!I17/2)+4.5","v":109.2505784517691},{"$f":"(0.5*I18+0.5*J18)/(1+'rate tree'!J17/2)+4.5","v":108.68229725537948},{"$f":"(0.5*J18+0.5*K18)/(1+'rate tree'!K17/2)+4.5","v":108.0801299232496},{"$f":"(0.5*K18+0.5*L18)/(1+'rate tree'!L17/2)+4.5","v":107.44246012775187},{"$f":"(0.5*L18+0.5*M18)/(1+'rate tree'!M17/2)+4.5","v":106.76764883300608},{"$f":"(0.5*M18+0.5*N18)/(1+'rate tree'!N17/2)+4.5","v":106.05404180945092},{"$f":"(0.5*N18+0.5*O18)/(1+'rate tree'!O17/2)+4.5","v":105.29997877706225},{"$f":"(0.5*O18+0.5*P18)/(1+'rate tree'!P17/2)+4.5","v":104.50380359538403},{"$f":"(0.5*P18+0.5*Q18)/(1+'rate tree'!Q17/2)+4.5","v":103.66387627174684},{"$f":"(0.5*Q18+0.5*R18)/(1+'rate tree'!R17/2)+4.5","v":102.77858599944335},{"$f":"(0.5*R18+0.5*S18)/(1+'rate tree'!S17/2)+4.5","v":101.84636601036811}]
[null,{"$f":"(0.5*B19+0.5*C19)/(1+'rate tree'!C18/2)+4.5","v":110.8955962647115},{"$f":"(0.5*C19+0.5*D19)/(1+'rate tree'!D18/2)+4.5","v":109.38550983534989},{"$f":"(0.5*D19+0.5*E19)/(1+'rate tree'!E18/2)+4.5","v":109.10947380479469},{"$f":"(0.5*E19+0.5*F19)/(1+'rate tree'!F18/2)+4.5","v":108.81575956619422},{"$f":"(0.5*F19+0.5*G19)/(1+'rate tree'!G18/2)+4.5","v":108.50335064961121},{"$f":"(0.5*G19+0.5*H19)/(1+'rate tree'!H18/2)+4.5","v":108.17118792407828},{"$f":"(0.5*H19+0.5*I19)/(1+'rate tree'!I18/2)+4.5","v":107.81817019816575},{"$f":"(0.5*I19+0.5*J19)/(1+'rate tree'!J18/2)+4.5","v":107.44315502157082},{"$f":"(0.5*J19+0.5*K19)/(1+'rate tree'!K18/2)+4.5","v":107.04495987459245},{"$f":"(0.5*K19+0.5*L19)/(1+'rate tree'!L18/2)+4.5","v":106.62236407572642},{"$f":"(0.5*L19+0.5*M19)/(1+'rate tree'!M18/2)+4.5","v":106.17411109979028},{"$f":"(0.5*M19+0.5*N19)/(1+'rate tree'!N18/2)+4.5","v":105.69891174392866},{"$f":"(0.5*N19+0.5*O19)/(1+'rate tree'!O18/2)+4.5","v":105.19544760927219},{"$f":"(0.5*O19+0.5*P19)/(1+'rate tree'!P18/2)+4.5","v":104.66237563659948},{"$f":"(0.5*P19+0.5*Q19)/(1+'rate tree'!Q18/2)+4.5","v":104.09833347408623},{"$f":"(0.5*Q19+0.5*R19)/(1+'rate tree'!R18/2)+4.5","v":103.50194546517346},{"$f":"(0.5*R19+0.5*S19)/(1+'rate tree'!S18/2)+4.5","v":102.87183036826748},{"$f":"(0.5*S19+0.5*T19)/(1+'rate tree'!T18/2)+4.5","v":102.20660827172878}]
[null,{"$f":"(0.5*B20+0.5*C20)/(1+'rate tree'!C19/2)+4.5","v":109.68239545288586},{"$f":"(0.5*C21+0.5*D21)/(1+'rate tree'!D19/2)+4.5","v":107.00825270767838},{"$f":"(0.5*D21+0.5*E21)/(1+'rate tree'!E19/2)+4.5","v":106.87310737742226},{"$f":"(0.5*E21+0.5*F21)/(1+'rate tree'!F19/2)+4.5","v":106.72909549790289},{"$f":"(0.5*F21+0.5*G21)/(1+'rate tree'!G19/2)+4.5","v":106.57567744791959},{"$f":"(0.5*G21+0.5*H21)/(1+'rate tree'!H19/2)+4.5","v":106.41228648337963},{"$f":"(0.5*H21+0.5*I21)/(1+'rate tree'!I19/2)+4.5","v":106.23832818943941},{"$f":"(0.5*I21+0.5*J21)/(1+'rate tree'!J19/2)+4.5","v":106.05318008900149},{"$f":"(0.5*J21+0.5*K21)/(1+'rate tree'!K19/2)+4.5","v":105.85619137818253},{"$f":"(0.5*K21+0.5*L21)/(1+'rate tree'!L19/2)+4.5","v":105.64668271310555},{"$f":"(0.5*L21+0.5*M21)/(1+'rate tree'!M19/2)+4.5","v":105.42394612333814},{"$f":"(0.5*M21+0.5*N21)/(1+'rate tree'!N19/2)+4.5","v":105.18724551548608},{"$f":"(0.5*N21+0.5*O21)/(1+'rate tree'!O19/2)+4.5","v":104.93581700797705},{"$f":"(0.5*O21+0.5*P21)/(1+'rate tree'!P19/2)+4.5","v":104.66886971296945},{"$f":"(0.5*P21+0.5*Q21)/(1+'rate tree'!Q19/2)+4.5","v":104.38558679538352},{"$f":"(0.5*Q21+0.5*R21)/(1+'rate tree'!R19/2)+4.5","v":104.08512688430004},{"$f":"(0.5*R21+0.5*S21)/(1+'rate tree'!S19/2)+4.5","v":103.76662576818357},{"$f":"(0.5*S21+0.5*T21)/(1+'rate tree'!T19/2)+4.5","v":103.42919933990839},{"$f":"(0.5*T21+0.5*U21)/(1+'rate tree'!U19/2)+4.5","v":103.07194484451631}]
[null,{"$f":"(0.5*B21+0.5*C21)/(1+'rate tree'!C20/2)+4.5","v":107.15637128440441},{"$f":"(0.5*C21+0.5*D21)/(1+'rate tree'!D20/2)+4.5","v":107.03090448871198},{"$f":"(0.5*D21+0.5*E21)/(1+'rate tree'!E20/2)+4.5","v":106.89716054496381},{"$f":"(0.5*E21+0.5*F21)/(1+'rate tree'!F20/2)+4.5","v":106.75462969883905},{"$f":"(0.5*F21+0.5*G21)/(1+'rate tree'!G20/2)+4.5","v":106.60277584222588},{"$f":"(0.5*G21+0.5*H21)/(1+'rate tree'!H20/2)+4.5","v":106.44103590107261},{"$f":"(0.5*H21+0.5*I21)/(1+'rate tree'!I20/2)+4.5","v":106.2688191087765},{"$f":"(0.5*I21+0.5*J21)/(1+'rate tree'!J20/2)+4.5","v":106.085506633815},{"$f":"(0.5*J21+0.5*K21)/(1+'rate tree'!K20/2)+4.5","v":105.89045128151511},{"$f":"(0.5*K21+0.5*L21)/(1+'rate tree'!L20/2)+4.5","v":105.68297724430958},{"$f":"(0.5*L21+0.5*M21)/(1+'rate tree'!M20/2)+4.5","v":105.46238002450171},{"$f":"(0.5*M21+0.5*N21)/(1+'rate tree'!N20/2)+4.5","v":105.22792684610505},{"$f":"(0.5*N21+0.5*O21)/(1+'rate tree'!O20/2)+4.5","v":104.97885699252208},{"$f":"(0.5*O21+0.5*P21)/(1+'rate tree'!P20/2)+4.5","v":104.71438253898356},{"$f":"(0.5*P21+0.5*Q21)/(1+'rate tree'!Q20/2)+4.5","v":104.43368921568917},{"$f":"(0.5*Q21+0.5*R21)/(1+'rate tree'!R20/2)+4.5","v":104.13593814800232},{"$f":"(0.5*R21+0.5*S21)/(1+'rate tree'!S20/2)+4.5","v":103.82026729754648},{"$f":"(0.5*S21+0.5*T21)/(1+'rate tree'!T20/2)+4.5","v":103.48579298591501},{"$f":"(0.5*T21+0.5*U21)/(1+'rate tree'!U20/2)+4.5","v":103.13161470859387},{"$f":"(0.5*U21+0.5*V21)/(1+'rate tree'!V20/2)+4.5","v":102.75681503157391}]
[null,104.5,104.5,104.5,104.5,104.5,104.5,104.5,104.5,104.5,104.5,104.5,104.5,104.5,104.5,104.5,104.5,104.5,104.5,104.5,104.5,104.5]

{"sheet":"probabilities","index":2,"n_rows":20,"n_cols":22,"rows_kept":20,"cut":false,"hidden":false,"merged":[]}
[{"$f":"SUM(C1:O1)","v":1},null,1]
[{"$f":"SUM(C2:O2)","v":1},null,{"$f":"0.5*C1+0.5*B1","v":0.5},{"$f":"0.5*D1+0.5*C1","v":0.5}]
[1,null,{"$f":"0.5*C2+0.5*B2","v":0.25},{"$f":"0.5*D2+0.5*C2","v":0.5},{"$f":"0.5*E2+0.5*D2","v":0.25}]
[1,null,0.125,0.375,0.375,{"$f":"0.5*F3+0.5*E3","v":0.125}]
[1,null,6.25E-2,0.25,0.375,0.25,{"$f":"0.5*G4+0.5*F4","v":6.25E-2}]
[1,null,3.125E-2,0.15625,0.3125,0.3125,0.15625,{"$f":"0.5*H5+0.5*G5","v":3.125E-2}]
[1,null,1.5625E-2,9.375E-2,0.234375,0.3125,0.234375,9.375E-2,{"$f":"0.5*I6+0.5*H6","v":1.5625E-2}]
[1,null,7.8125E-3,5.46875E-2,0.1640625,0.2734375,0.2734375,0.1640625,5.46875E-2,{"$f":"0.5*J7+0.5*I7","v":7.8125E-3}]
[1,null,3.90625E-3,3.125E-2,0.109375,0.21875,0.2734375,0.21875,0.109375,3.125E-2,{"$f":"0.5*K8+0.5*J8","v":3.90625E-3}]
[1,null,1.953125E-3,1.7578125E-2,7.03125E-2,0.1640625,0.24609375,0.24609375,0.1640625,7.03125E-2,1.7578125E-2,{"$f":"0.5*L9+0.5*K9","v":1.953125E-3}]
[1,null,9.765625E-4,9.765625E-3,4.39453125E-2,0.1171875,0.205078125,0.24609375,0.205078125,0.1171875,4.39453125E-2,9.765625E-3,{"$f":"0.5*M10+0.5*L10","v":9.765625E-4}]
[{"$f":"SUM(C12:V12)","v":1},null,4.8828125E-4,5.37109375E-3,2.685546875E-2,8.056640625E-2,0.1611328125,0.2255859375,0.2255859375,0.1611328125,8.056640625E-2,2.685546875E-2,5.37109375E-3,{"$f":"0.5*N11+0.5*M11","v":4.8828125E-4}]
[1,null,2.44140625E-4,2.9296875E-3,1.611328125E-2,5.37109375E-2,0.120849609375,0.193359375,0.2255859375,0.193359375,0.120849609375,5.37109375E-2,1.611328125E-2,2.9296875E-3,{"$f":"0.5*O12+0.5*N12","v":2.44140625E-4}]
[1,null,1.220703125E-4,1.5869140625E-3,9.521484375E-3,3.4912109375E-2,8.72802734375E-2,0.1571044921875,0.20947265625,0.20947265625,0.1571044921875,8.72802734375E-2,3.4912109375E-2,9.521484375E-3,1.5869140625E-3,{"$f":"0.5*P13+0.5*O13","v":1.220703125E-4}]
[1,null,6.103515625E-5,8.544921875E-4,5.55419921875E-3,2.2216796875E-2,6.109619140625E-2,0.1221923828125,0.18328857421875,0.20947265625,0.18328857421875,0.1221923828125,6.109619140625E-2,2.2216796875E-2,5.55419921875E-3,8.544921875E-4,{"$f":"0.5*Q14+0.5*P14","v":6.103515625E-5}]
[1,null,3.0517578125E-5,4.57763671875E-4,3.204345703125E-3,1.3885498046875E-2,4.1656494140625E-2,9.1644287109375E-2,0.152740478515625,0.196380615234375,0.196380615234375,0.152740478515625,9.1644287109375E-2,4.1656494140625E-2,1.3885498046875E-2,3.204345703125E-3,4.57763671875E-4,{"$f":"0.5*R15+0.5*Q15","v":3.0517578125E-5}]
[1,null,1.52587890625E-5,2.44140625E-4,1.8310546875E-3,8.544921875E-3,2.777099609375E-2,6.6650390625E-2,0.1221923828125,0.174560546875,0.196380615234375,0.174560546875,0.1221923828125,6.6650390625E-2,2.777099609375E-2,8.544921875E-3,1.8310546875E-3,2.44140625E-4,{"$f":"0.5*S16+0.5*R16","v":1.52587890625E-5}]
[1,null,7.62939453125E-6,1.2969970703125E-4,1.03759765625E-3,5.18798828125E-3,1.8157958984375E-2,4.7210693359375E-2,9.442138671875E-2,0.14837646484375,0.1854705810546875,0.1854705810546875,0.14837646484375,9.442138671875E-2,4.7210693359375E-2,1.8157958984375E-2,5.18798828125E-3,1.03759765625E-3,1.2969970703125E-4,{"$f":"0.5*T17+0.5*S17","v":7.62939453125E-6}]
[1,null,3.814697265625E-6,6.866455078125E-5,5.83648681640625E-4,3.11279296875E-3,1.16729736328125E-2,3.2684326171875E-2,7.08160400390625E-2,0.12139892578125,0.16692352294921875,0.1854705810546875,0.16692352294921875,0.12139892578125,7.08160400390625E-2,3.2684326171875E-2,1.16729736328125E-2,3.11279296875E-3,5.83648681640625E-4,6.866455078125E-5,{"$f":"0.5*U18+0.5*T18","v":3.814697265625E-6}]
[{"$f":"SUM(C20:V20)","v":1},null,1.9073486328125E-6,3.62396240234375E-5,3.261566162109375E-4,1.8482208251953125E-3,7.39288330078125E-3,2.217864990234375E-2,5.175018310546875E-2,9.610748291015625E-2,0.14416122436523438,0.17619705200195313,0.17619705200195313,0.14416122436523438,9.610748291015625E-2,5.175018310546875E-2,2.217864990234375E-2,7.39288330078125E-3,1.8482208251953125E-3,3.261566162109375E-4,3.62396240234375E-5,{"$f":"0.5*V19+0.5*U19","v":1.9073486328125E-6}]

{"sheet":"option","index":3,"n_rows":26,"n_cols":11,"rows_kept":26,"cut":false,"hidden":false,"merged":[]}
[null,{"$f":"(0.5*B2+0.5*C2)/(1+'rate tree'!C1*17/365)","v":0.58113513925097937},null,null,"strike",120]
[null,{"$f":"(0.5*B3+0.5*C3)/(1+'rate tree'!C2/2)","v":0.8604507724505156},{"$f":"(0.5*C3+0.5*D3)/(1+'rate tree'!D2/2)","v":0.30209017173273822}]
[null,{"$f":"(0.5*B4+0.5*C4)/(1+'rate tree'!C3/2)","v":1.2442496805007073},{"$f":"(0.5*C4+0.5*D4)/(1+'rate tree'!D3/2)","v":0.48326618949911188},{"$f":"(0.5*D4+0.5*E4)/(1+'rate tree'!E3/2)","v":0.12353585977419826}]
[null,{"$f":"(0.5*B5+0.5*C5)/(1+'rate tree'!C4/2)","v":1.7475238744980448},{"$f":"(0.5*C5+0.5*D5)/(1+'rate tree'!D4/2)","v":0.75675877876952546},{"$f":"(0.5*D5+0.5*E5)/(1+'rate tree'!E4/2)","v":0.21640770740191093},{"$f":"(0.5*E5+0.5*F5)/(1+'rate tree'!F4/2)","v":3.2499222706710434E-2}]
[null,{"$f":"(0.5*B6+0.5*C6)/(1+'rate tree'!C5/2)","v":2.3717087122203329},{"$f":"(0.5*C6+0.5*D6)/(1+'rate tree'!D5/2)","v":1.1534883531927311},{"$f":"(0.5*D6+0.5*E6)/(1+'rate tree'!E5/2)","v":0.37393985113633144},{"$f":"(0.5*E6+0.5*F6)/(1+'rate tree'!F5/2)","v":6.3113848888429566E-2},{"$f":"(0.5*F6+0.5*G6)/(1+'rate tree'!G5/2)","v":2.5627212760858998E-3}]
[null,{"$f":"(0.5*B7+0.5*C7)/(1+'rate tree'!C6/2)","v":3.0948566835761913},{"$f":"(0.5*C7+0.5*D7)/(1+'rate tree'!D6/2)","v":1.6987362356502322},{"$f":"(0.5*D7+0.5*E7)/(1+'rate tree'!E6/2)","v":0.63418311012410422},{"$f":"(0.5*E7+0.5*F7)/(1+'rate tree'!F6/2)","v":0.12263714435546748},{"$f":"(0.5*F7+0.5*G7)/(1+'rate tree'!G6/2)","v":5.1946827117196059E-3},{"$f":"(0.5*G7+0.5*H7)/(1+'rate tree'!H6/2)","v":0}]
[null,{"$f":"(0.5*B8+0.5*C8)/(1+'rate tree'!C7/2)","v":3.8712791517926255},{"$f":"(0.5*C8+0.5*D8)/(1+'rate tree'!D7/2)","v":2.3940661342067342},{"$f":"(0.5*D8+0.5*E8)/(1+'rate tree'!E7/2)","v":1.0475821546665918},{"$f":"(0.5*E8+0.5*F8)/(1+'rate tree'!F7/2)","v":0.23833324021818331},{"$f":"(0.5*F8+0.5*G8)/(1+'rate tree'!G7/2)","v":1.055211993397581E-2},{"$f":"(0.5*G8+0.5*H8)/(1+'rate tree'!H7/2)","v":0},{"$f":"(0.5*H8+0.5*I8)/(1+'rate tree'!I7/2)","v":0}]
[null,{"$f":"(0.5*B9+0.5*C9)/(1+'rate tree'!C8/2)","v":4.6547750516757},{"$f":"(0.5*C9+0.5*D9)/(1+'rate tree'!D8/2)","v":3.1930113397958824},{"$f":"(0.5*D9+0.5*E9)/(1+'rate tree'!E8/2)","v":1.6644692294462213},{"$f":"(0.5*E9+0.5*F9)/(1+'rate tree'!F8/2)","v":0.46303193802444026},{"$f":"(0.5*F9+0.5*G9)/(1+'rate tree'!G8/2)","v":2.1474092737401584E-2},{"$f":"(0.5*G9+0.5*H9)/(1+'rate tree'!H8/2)","v":0},{"$f":"(0.5*H9+0.5*I9)/(1+'rate tree'!I8/2)","v":0},{"$f":"(0.5*I9+0.5*J9)/(1+'rate tree'!J8/2)","v":0}]
[null,{"$f":"(0.5*B10+0.5*C10)/(1+'rate tree'!C9/2)","v":5.4459581125284284},{"$f":"(0.5*C10+0.5*D10)/(1+'rate tree'!D9/2)","v":4.0003087480600534},{"$f":"(0.5*D10+0.5*E10)/(1+'rate tree'!E9/2)","v":2.4857718431366216},{"$f":"(0.5*E10+0.5*F10)/(1+'rate tree'!F9/2)","v":0.89881346561935171},{"$f":"(0.5*F10+0.5*G10)/(1+'rate tree'!G9/2)","v":4.3765259435381364E-2},{"$f":"(0.5*G10+0.5*H10)/(1+'rate tree'!H9/2)","v":0},{"$f":"(0.5*H10+0.5*I10)/(1+'rate tree'!I9/2)","v":0},{"$f":"(0.5*I10+0.5*J10)/(1+'rate tree'!J9/2)","v":0},{"$f":"(0.5*J10+0.5*K10)/(1+'rate tree'!K9/2)","v":0}]
[null,{"$f":"MAX('9% 11-18-18'!B10-option!$F$1,0)","v":6.2459394367233472},{"$f":"MAX('9% 11-18-18'!C10-option!$F$1,0)","v":4.8167843250489568},{"$f":"MAX('9% 11-18-18'!D10-option!$F$1,0)","v":3.3178018989192566},{"$f":"MAX('9% 11-18-18'!E10-option!$F$1,0)","v":1.7426277410001916},{"$f":"MAX('9% 11-18-18'!F10-option!$F$1,0)","v":8.9314439468552109E-2},{"$f":"MAX('9% 11-18-18'!G10-option!$F$1,0)","v":0},{"$f":"MAX('9% 11-18-18'!H10-option!$F$1,0)","v":0},{"$f":"MAX('9% 11-18-18'!I10-option!$F$1,0)","v":0},{"$f":"MAX('9% 11-18-18'!J10-option!$F$1,0)","v":0},{"$f":"MAX('9% 11-18-18'!K10-option!$F$1,0)","v":0}]
[]
[]
[]
[]
[]
[]
[null,{"$f":"(0.5*B18+0.5*C1)/(1+'rate tree'!C1*17/365)","v":0.42043803168643518}]
[null,{"$f":"(0.5*B19+0.5*C19)/(1+'rate tree'!C2/2)","v":0.84107188382598452},{"$f":"(0.5*C19+0.5*D19)/(1+'rate tree'!D2/2)","v":1.8437082582213797}]
[null,{"$f":"(0.5*B20+0.5*C20)/(1+'rate tree'!C3/2)","v":0.45414074346309202},{"$f":"(0.5*C20+0.5*D20)/(1+'rate tree'!D3/2)","v":1.2344683828696901},{"$f":"(0.5*D20+0.5*E20)/(1+'rate tree'!E3/2)","v":2.4689488548835477}]
[null,{"$f":"(0.5*B21+0.5*C21)/(1+'rate tree'!C4/2)","v":0.19059119484446127},{"$f":"(0.5*C21+0.5*D21)/(1+'rate tree'!D4/2)","v":0.72345106196286324},{"$f":"(0.5*D21+0.5*E21)/(1+'rate tree'!E4/2)","v":1.7624320487347445},{"$f":"(0.5*E21+0.5*F21)/(1+'rate tree'!F4/2)","v":3.2121436023153045}]
[null,{"$f":"(0.5*B22+0.5*C22)/(1+'rate tree'!C5/2)","v":4.7582489752054778E-2},{"$f":"(0.5*C22+0.5*D22)/(1+'rate tree'!D5/2)","v":0.33688809206031178},{"$f":"(0.5*D22+0.5*E22)/(1+'rate tree'!E5/2)","v":1.1233124203019353},{"$f":"(0.5*E22+0.5*F22)/(1+'rate tree'!F5/2)","v":2.436068422410778},{"$f":"(0.5*F22+0.5*G22)/(1+'rate tree'!G5/2)","v":4.0552429723199346}]
[null,{"$f":"(0.5*B23+0.5*C23)/(1+'rate tree'!C6/2)","v":0},{"$f":"(0.5*C23+0.5*D23)/(1+'rate tree'!D6/2)","v":9.617162713927066E-2},{"$f":"(0.5*D23+0.5*E23)/(1+'rate tree'!E6/2)","v":0.58518137062020403},{"$f":"(0.5*E23+0.5*F23)/(1+'rate tree'!F6/2)","v":1.6883008196559728},{"$f":"(0.5*F23+0.5*G23)/(1+'rate tree'!G6/2)","v":3.2457522096236127},{"$f":"(0.5*G23+0.5*H23)/(1+'rate tree'!H6/2)","v":4.9742991696301226}]
[null,{"$f":"(0.5*B24+0.5*C24)/(1+'rate tree'!C7/2)","v":0},{"$f":"(0.5*C24+0.5*D24)/(1+'rate tree'!D7/2)","v":0},{"$f":"(0.5*D24+0.5*E24)/(1+'rate tree'!E7/2)","v":0.19484420773266217},{"$f":"(0.5*E24+0.5*F24)/(1+'rate tree'!F7/2)","v":0.99171172740259717},{"$f":"(0.5*F24+0.5*G24)/(1+'rate tree'!G7/2)","v":2.434602214866957},{"$f":"(0.5*G24+0.5*H24)/(1+'rate tree'!H7/2)","v":4.1585948084364457},{"$f":"(0.5*H24+0.5*I24)/(1+'rate tree'!I7/2)","v":5.9558296928305019}]
[null,{"$f":"(0.5*B25+0.5*C25)/(1+'rate tree'!C8/2)","v":0},{"$f":"(0.5*C25+0.5*D25)/(1+'rate tree'!D8/2)","v":0},{"$f":"(0.5*D25+0.5*E25)/(1+'rate tree'!E8/2)","v":0},{"$f":"(0.5*E25+0.5*F25)/(1+'rate tree'!F8/2)","v":0.39570288361590644},{"$f":"(0.5*F25+0.5*G25)/(1+'rate tree'!G8/2)","v":1.6203411741241509},{"$f":"(0.5*G25+0.5*H25)/(1+'rate tree'!H8/2)","v":3.3341963091356734},{"$f":"(0.5*H25+0.5*I25)/(1+'rate tree'!I8/2)","v":5.1383048304448913},{"$f":"(0.5*I25+0.5*J25)/(1+'rate tree'!J8/2)","v":7.0103561369071521}]
[null,{"$f":"(0.5*B26+0.5*C26)/(1+'rate tree'!C9/2)","v":0},{"$f":"(0.5*C26+0.5*D26)/(1+'rate tree'!D9/2)","v":0},{"$f":"(0.5*D26+0.5*E26)/(1+'rate tree'!E9/2)","v":0},{"$f":"(0.5*E26+0.5*F26)/(1+'rate tree'!F9/2)","v":0},{"$f":"(0.5*F26+0.5*G26)/(1+'rate tree'!G9/2)","v":0.80551920701304924},{"$f":"(0.5*G26+0.5*H26)/(1+'rate tree'!H9/2)","v":2.4968159708481017},{"$f":"(0.5*H26+0.5*I26)/(1+'rate tree'!I9/2)","v":4.3069096250803325},{"$f":"(0.5*I26+0.5*J26)/(1+'rate tree'!J9/2)","v":6.1921745200443432},{"$f":"(0.5*J26+0.5*K26)/(1+'rate tree'!K9/2)","v":8.1523021698317919}]
[null,{"$f":"MAX(option!$F$1-'9% 11-18-18'!B10,0)","v":0},{"$f":"MAX(option!$F$1-'9% 11-18-18'!C10,0)","v":0},{"$f":"MAX(option!$F$1-'9% 11-18-18'!D10,0)","v":0},{"$f":"MAX(option!$F$1-'9% 11-18-18'!E10,0)","v":0},{"$f":"MAX(option!$F$1-'9% 11-18-18'!F10,0)","v":0},{"$f":"MAX(option!$F$1-'9% 11-18-18'!G10,0)","v":1.6438722718357894},{"$f":"MAX(option!$F$1-'9% 11-18-18'!H10,0)","v":3.4584128863871797},{"$f":"MAX(option!$F$1-'9% 11-18-18'!I10,0)","v":5.3554903323055782},{"$f":"MAX(option!$F$1-'9% 11-18-18'!J10,0)","v":7.335944258896248},{"$f":"MAX(option!$F$1-'9% 11-18-18'!K10,0)","v":9.4002228622133828}]

{"sheet":"Sheet5","index":4,"n_rows":0,"n_cols":0,"rows_kept":0,"cut":false,"hidden":false,"merged":[]}